BEGIN:VCALENDAR
VERSION:2.0
PRODID:-//The Dark Music Network - ECPv6.15.20//NONSGML v1.0//EN
CALSCALE:GREGORIAN
METHOD:PUBLISH
X-WR-CALNAME:The Dark Music Network
X-ORIGINAL-URL:https://darkmusic.net
X-WR-CALDESC:Events for The Dark Music Network
REFRESH-INTERVAL;VALUE=DURATION:PT1H
X-Robots-Tag:noindex
X-PUBLISHED-TTL:PT1H
BEGIN:VTIMEZONE
TZID:America/New_York
BEGIN:DAYLIGHT
TZOFFSETFROM:-0500
TZOFFSETTO:-0400
TZNAME:EDT
DTSTART:20240310T070000
END:DAYLIGHT
BEGIN:STANDARD
TZOFFSETFROM:-0400
TZOFFSETTO:-0500
TZNAME:EST
DTSTART:20241103T060000
END:STANDARD
BEGIN:DAYLIGHT
TZOFFSETFROM:-0500
TZOFFSETTO:-0400
TZNAME:EDT
DTSTART:20250309T070000
END:DAYLIGHT
BEGIN:STANDARD
TZOFFSETFROM:-0400
TZOFFSETTO:-0500
TZNAME:EST
DTSTART:20251102T060000
END:STANDARD
BEGIN:DAYLIGHT
TZOFFSETFROM:-0500
TZOFFSETTO:-0400
TZNAME:EDT
DTSTART:20260308T070000
END:DAYLIGHT
BEGIN:STANDARD
TZOFFSETFROM:-0400
TZOFFSETTO:-0500
TZNAME:EST
DTSTART:20261101T060000
END:STANDARD
END:VTIMEZONE
BEGIN:VTIMEZONE
TZID:Europe/London
BEGIN:DAYLIGHT
TZOFFSETFROM:+0000
TZOFFSETTO:+0100
TZNAME:BST
DTSTART:20240331T010000
END:DAYLIGHT
BEGIN:STANDARD
TZOFFSETFROM:+0100
TZOFFSETTO:+0000
TZNAME:GMT
DTSTART:20241027T010000
END:STANDARD
BEGIN:DAYLIGHT
TZOFFSETFROM:+0000
TZOFFSETTO:+0100
TZNAME:BST
DTSTART:20250330T010000
END:DAYLIGHT
BEGIN:STANDARD
TZOFFSETFROM:+0100
TZOFFSETTO:+0000
TZNAME:GMT
DTSTART:20251026T010000
END:STANDARD
BEGIN:DAYLIGHT
TZOFFSETFROM:+0000
TZOFFSETTO:+0100
TZNAME:BST
DTSTART:20260329T010000
END:DAYLIGHT
BEGIN:STANDARD
TZOFFSETFROM:+0100
TZOFFSETTO:+0000
TZNAME:GMT
DTSTART:20261025T010000
END:STANDARD
END:VTIMEZONE
BEGIN:VTIMEZONE
TZID:America/Los_Angeles
BEGIN:DAYLIGHT
TZOFFSETFROM:-0800
TZOFFSETTO:-0700
TZNAME:PDT
DTSTART:20240310T100000
END:DAYLIGHT
BEGIN:STANDARD
TZOFFSETFROM:-0700
TZOFFSETTO:-0800
TZNAME:PST
DTSTART:20241103T090000
END:STANDARD
BEGIN:DAYLIGHT
TZOFFSETFROM:-0800
TZOFFSETTO:-0700
TZNAME:PDT
DTSTART:20250309T100000
END:DAYLIGHT
BEGIN:STANDARD
TZOFFSETFROM:-0700
TZOFFSETTO:-0800
TZNAME:PST
DTSTART:20251102T090000
END:STANDARD
BEGIN:DAYLIGHT
TZOFFSETFROM:-0800
TZOFFSETTO:-0700
TZNAME:PDT
DTSTART:20260308T100000
END:DAYLIGHT
BEGIN:STANDARD
TZOFFSETFROM:-0700
TZOFFSETTO:-0800
TZNAME:PST
DTSTART:20261101T090000
END:STANDARD
END:VTIMEZONE
BEGIN:VEVENT
DTSTART;TZID=America/New_York:20250321T210000
DTEND;TZID=America/New_York:20250322T013000
DTSTAMP:20260425T090224
CREATED:20250317T145056Z
LAST-MODIFIED:20250317T162240Z
UID:10000391-1742590800-1742607000@darkmusic.net
SUMMARY:Psychopomp – Central CT’s Goth Night (March 2025)
DESCRIPTION:THIS FRIDAY! GET YOUR DANCE ON! \nExpect to hear anything from classic to new age goth and industrial with some aggrotech/hardstyle sprinkled on top of our mountain of mayhem! We’re so excited to see you all\, so come on down and see us sometime!
URL:https://darkmusic.net/event/psychopomp-central-cts-goth-night-march-2025/
LOCATION:Arch Street Tavern\, 85 Arch Street\, Hartford\, C\, 06103\, United States
CATEGORIES:Club Night
ATTACH;FMTTYPE=image/jpeg:https://darkmusic.net/wp-content/uploads/2025/03/inbound4170387452862592302.jpg
GEO:41.7617651;-72.6709148
X-APPLE-STRUCTURED-LOCATION;VALUE=URI;X-ADDRESS=Arch Street Tavern 85 Arch Street Hartford C 06103 United States;X-APPLE-RADIUS=500;X-TITLE=85 Arch Street:geo:-72.6709148,41.7617651
END:VEVENT
BEGIN:VEVENT
DTSTART;TZID=America/New_York:20250321T190000
DTEND;TZID=America/New_York:20250322T010000
DTSTAMP:20260425T090224
CREATED:20250301T171520Z
LAST-MODIFIED:20250301T191513Z
UID:10000381-1742583600-1742605200@darkmusic.net
SUMMARY:DancingWithTheDead - Seeds of Intention Spring Equinox Rave
DESCRIPTION:Awaken the Night with a Spring Equinox Rave – Beats\, Magic\, and Midnight Mysteries… \nThe State is partnering with DancingWithTheDead to bring you a night of magic and music on March 21st. \nAt midnight\, a Spring Equinox ceremony will be done before closing out the night with one last song. \nINCLUDING: \n3 DJs\nLocal Vendors\nSpirit Mediums\nTarot Readings\nMidnight Ceremony \nAND!!!…CoffeeWithTheDead coffee will be released! Bar will be preparing a special cocktail and mocktail with the coffee as well as offering up the regular cup ‘o dead  \nEvent runs 7:00 PM – 1:00 AM \n$30 General Admission\n$5 upcharge at door ($35 total) \nGeneral Admission seating – Theater seating and open dance floor \nFree street parking available\nFree parking also available in surrounding lots\nFood & Bar specials provided by Abbey Burger Bistro\nProud partner of Luna’s House Animal Care & Education:\nhttps://www.lunashouse.org/ \nPLEASE NOTE: THIS EVENT WILL FEATURE LIGHTING THAT MAY AFFECT PHOTOSENSITIVE GUESTS. \nRECOMMENDED AUDIENCE AGE: 21+ Guests under 18 must be supervised by a parent or adult guardian at all times.
URL:https://darkmusic.net/event/dancingwiththedead-seeds-of-intention-spring-equinox-rave/
LOCATION:The State Theater\, 325 St John St.\, Havre de Grace\, MD\, 21078\, United States
CATEGORIES:Club Night
ATTACH;FMTTYPE=image/jpeg:https://darkmusic.net/wp-content/uploads/2025/03/Screenshot_20250128_142524_Instagram-scaled.jpg
ORGANIZER;CN="CoffeeWithTheDead":MAILTO:Paraanne@cwtd.co
GEO:39.5505916;-76.0899964
X-APPLE-STRUCTURED-LOCATION;VALUE=URI;X-ADDRESS=The State Theater 325 St John St. Havre de Grace MD 21078 United States;X-APPLE-RADIUS=500;X-TITLE=325 St John St.:geo:-76.0899964,39.5505916
END:VEVENT
BEGIN:VEVENT
DTSTART;TZID=Europe/London:20250321T163000
DTEND;TZID=Europe/London:20250323T190000
DTSTAMP:20260425T090224
CREATED:20250322T100245Z
LAST-MODIFIED:20250322T100245Z
UID:10001178-1742574600-1742756400@darkmusic.net
SUMMARY:Detra's Devastation Recovery Fundraising Raid Train
DESCRIPTION:Our friend and fellow DJ\, Sean Detra\, from The Sisters of Mondays in San Antonio\, Texas\, has just suffered complete devastation of his house and all its contents after a fire spread from his neighbour’s house. All of his belongings\, DJ equipment\, record collection\, clothing\, and irreplaceable items that held a lot of memories have been destroyed by fire as well as water / fire retardant damage from extinguishing the flames. Sean is now displaced because the house is unlivable.\nAnyone who has encountered Sean knows he is a compassionate friend and supporter to those around him. He’s already gone through so much tragedy recently\, and this situation is beyond devastating. He has always helped the community\, and anyone that knows him\, knows how kind he is. It is time for our global dark community to come together and help Sean in this very difficult situation.\nWe are a great group of friends\, and we support each other\, and this is a time to shine and show him how much we care.\nA glorious team of global goth DJs will be spinning sets during a raid train event on Twitch from Friday 21st to Saturday 23rd March to help raise funds for Sean. We know these are hard times financially for a lot of us\, but even five dollars/euros/pounds helps.\nCan you help us reach the fund goal to help Sean replace some his essential home contents\, clothes and DJ equipment so get he can get going again? You can donate to the fundraiser at https://www.gofundme.com/f/help-sean-rebuild-after-devastating-fire\nThe full schedule for this event in your local time zone can be found at https://tinyurl.com/RaidForDetra 
URL:https://darkmusic.net/event/detras-devastation-recovery-fundraising-raid-train/
LOCATION:Twitch
CATEGORIES:Dark Wave,Festival,Goth,Post Punk,Vampire
ATTACH;FMTTYPE=image/jpeg:https://darkmusic.net/wp-content/uploads/2025/03/raidtrain-detraIG.jpg
ORGANIZER;CN="Mortasha Kinski":MAILTO:mortasha.kinski@gmail.com
GEO:55.378051;-3.435973
END:VEVENT
BEGIN:VEVENT
DTSTART;TZID=America/New_York:20250320T200000
DTEND;TZID=America/New_York:20250320T230000
DTSTAMP:20260425T090224
CREATED:20250318T142547Z
LAST-MODIFIED:20250318T142902Z
UID:10000395-1742500800-1742511600@darkmusic.net
SUMMARY:Vicki’s Dream with Living Dead Girl – 3/20/25
DESCRIPTION:Get ready for an incredible night of Goth/Metal and Rock!!! We’re going to tear the house down with these great bands and legendary artist Living Dead Girl!!!\nSee you there!!!
URL:https://darkmusic.net/event/vickis-dream-with-living-dead-girl-3-20-25/
LOCATION:Sweetwater\, 2920 Old Norcross Rd\, Duluth\, GA\, 30096\, United States
CATEGORIES:Concert
ATTACH;FMTTYPE=image/jpeg:https://darkmusic.net/wp-content/uploads/2025/03/Living-Dead-Girl.jpg
ORGANIZER;CN="stv705sol":MAILTO:stephen.polsonjr@gmail.com
GEO:33.9516237;-84.1020775
X-APPLE-STRUCTURED-LOCATION;VALUE=URI;X-ADDRESS=Sweetwater 2920 Old Norcross Rd Duluth GA 30096 United States;X-APPLE-RADIUS=500;X-TITLE=2920 Old Norcross Rd:geo:-84.1020775,33.9516237
END:VEVENT
BEGIN:VEVENT
DTSTART;TZID=America/New_York:20250320T190000
DTEND;TZID=America/New_York:20250320T230000
DTSTAMP:20260425T090224
CREATED:20250227T124226Z
LAST-MODIFIED:20250227T151636Z
UID:10000022-1742497200-1742511600@darkmusic.net
SUMMARY:Dark Constellation
DESCRIPTION:DMV: THURSDAY : Goth * Industrial * Darkwave * Alternative * Dance Party
URL:https://darkmusic.net/event/dark-constellation/2025-03-20/
LOCATION:The Renegade\, 3100 Clarendon Blvd PL-10\, Arlington\, 22201\, United States
CATEGORIES:Club Night
ATTACH;FMTTYPE=image/jpeg:https://darkmusic.net/wp-content/uploads/2025/02/IMG_5953.jpeg
ORGANIZER;CN="MisS Guided":MAILTO:djmissguided@gmail.com
GEO:38.8867412;-77.0950622
X-APPLE-STRUCTURED-LOCATION;VALUE=URI;X-ADDRESS=The Renegade 3100 Clarendon Blvd PL-10 Arlington 22201 United States;X-APPLE-RADIUS=500;X-TITLE=3100 Clarendon Blvd PL-10:geo:-77.0950622,38.8867412
END:VEVENT
BEGIN:VEVENT
DTSTART;TZID=America/New_York:20250317T220000
DTEND;TZID=America/New_York:20250318T030000
DTSTAMP:20260425T090224
CREATED:20250227T160600Z
LAST-MODIFIED:20250627T202111Z
UID:10000099-1742248800-1742266800@darkmusic.net
SUMMARY:5+ Hours of Goth livestream
DESCRIPTION:Every Monday at 10pm Eastern time DJ Jason spins a free livestream with purely Goth for over 5 hours on the Twitch platform.  Hope to see you there in the DJ chat area.  \nhttps://www.twitch.tv/djjasonspinsgoth
URL:https://darkmusic.net/event/5-hours-of-goth-livestream/2025-03-17/
LOCATION:https://darkmusic.net/event/5-hours-of-goth-livestream/2025-03-17/
CATEGORIES:Goth
ATTACH;FMTTYPE=image/jpeg:https://darkmusic.net/wp-content/uploads/2025/02/492971009_10234984159040536_3024512789924366107_n.jpg
ORGANIZER;CN="DJ Jason":MAILTO:djjasonofalchemy@gmail.com
END:VEVENT
BEGIN:VEVENT
DTSTART;TZID=America/New_York:20250316T200000
DTEND;TZID=America/New_York:20250317T020000
DTSTAMP:20260425T090224
CREATED:20250226T212033Z
LAST-MODIFIED:20250226T212033Z
UID:10000013-1742155200-1742176800@darkmusic.net
SUMMARY:Nightside
DESCRIPTION:The Vampire Lady ManchineelThe Vampire Lady Manchineel presents: Nightside on March 16th \nDJ Jason spins Goth \n5 dollar cover\, Ages 21+\nPropaganda nightclub\n6 South J street\nLake Worth Beach\, FL
URL:https://darkmusic.net/event/nightside/
LOCATION:Propaganda\, 6 South J Street\, Lake Worth Beach\, FL\, 33460\, United States
CATEGORIES:Club Night
ATTACH;FMTTYPE=image/jpeg:https://darkmusic.net/wp-content/uploads/2025/02/Absolution-NYC-Goth-Club-Event-Flyer-Nightside-Vampire.jpg
GEO:26.6155883;-80.05612
X-APPLE-STRUCTURED-LOCATION;VALUE=URI;X-ADDRESS=Propaganda 6 South J Street Lake Worth Beach FL 33460 United States;X-APPLE-RADIUS=500;X-TITLE=6 South J Street:geo:-80.05612,26.6155883
END:VEVENT
BEGIN:VEVENT
DTSTART;TZID=America/New_York:20250313T190000
DTEND;TZID=America/New_York:20250313T230000
DTSTAMP:20260425T090224
CREATED:20250227T124226Z
LAST-MODIFIED:20250227T151636Z
UID:10000021-1741892400-1741906800@darkmusic.net
SUMMARY:Dark Constellation
DESCRIPTION:DMV: THURSDAY : Goth * Industrial * Darkwave * Alternative * Dance Party
URL:https://darkmusic.net/event/dark-constellation/2025-03-13/
LOCATION:The Renegade\, 3100 Clarendon Blvd PL-10\, Arlington\, 22201\, United States
CATEGORIES:Club Night
ATTACH;FMTTYPE=image/jpeg:https://darkmusic.net/wp-content/uploads/2025/02/IMG_5953.jpeg
ORGANIZER;CN="MisS Guided":MAILTO:djmissguided@gmail.com
GEO:38.8867412;-77.0950622
X-APPLE-STRUCTURED-LOCATION;VALUE=URI;X-ADDRESS=The Renegade 3100 Clarendon Blvd PL-10 Arlington 22201 United States;X-APPLE-RADIUS=500;X-TITLE=3100 Clarendon Blvd PL-10:geo:-77.0950622,38.8867412
END:VEVENT
BEGIN:VEVENT
DTSTART;TZID=America/New_York:20250310T220000
DTEND;TZID=America/New_York:20250311T030000
DTSTAMP:20260425T090224
CREATED:20250227T160600Z
LAST-MODIFIED:20250627T202111Z
UID:10000098-1741644000-1741662000@darkmusic.net
SUMMARY:5+ Hours of Goth livestream
DESCRIPTION:Every Monday at 10pm Eastern time DJ Jason spins a free livestream with purely Goth for over 5 hours on the Twitch platform.  Hope to see you there in the DJ chat area.  \nhttps://www.twitch.tv/djjasonspinsgoth
URL:https://darkmusic.net/event/5-hours-of-goth-livestream/2025-03-10/
LOCATION:https://darkmusic.net/event/5-hours-of-goth-livestream/2025-03-10/
CATEGORIES:Goth
ATTACH;FMTTYPE=image/jpeg:https://darkmusic.net/wp-content/uploads/2025/02/492971009_10234984159040536_3024512789924366107_n.jpg
ORGANIZER;CN="DJ Jason":MAILTO:djjasonofalchemy@gmail.com
END:VEVENT
BEGIN:VEVENT
DTSTART;TZID=America/Los_Angeles:20250307T210000
DTEND;TZID=America/Los_Angeles:20250308T020000
DTSTAMP:20260425T090224
CREATED:20250228T014046Z
LAST-MODIFIED:20250329T055437Z
UID:10001186-1741381200-1741399200@darkmusic.net
SUMMARY:Syndicate: A Dark Dance Party
DESCRIPTION:Announcing Syndicate: A Dark Dance Party\n\n\n\nHosted by exquisitely empty and Kounter Attack\, Syndicate is a dark dance party held every other Friday located in Downtown Las Vegas’ 21+ boutique hotel\, The Lexi Hotel Las Vegas. \n\n\n\n\nWith 3 rooms (two inside + outside patio)\, 3 vibes\, and 4 DJs\, all fans of the dark\, forbidden\, and underground will find a place to dance the night away. \n\n\n\n\nSpinning your favorites in goth\, post punk\, EBM\, industrial\, dark electro\, and more are resident Vegas DJs Xymox 1107\, D-Stroyer\, The DJ Protokol\, and nolongerhuman. \n\n\nFeature the hottest otherworldly go-go’s\, Alien Vixens\, vendors\, performances\, and more. \n\n\n\n\nFree parking\, free entry\, and drink specials all night. \n\n\n\n\nMore details to come soon. \nSyndicate: For Fans of the Forbidden
URL:https://darkmusic.net/event/syndicate-a-dark-dance-party/2025-03-07/
LOCATION:The Lexi Las Vegas\, 1501 W Sahara Ave\, Las Vegas\, NV\, 89102\, United States
CATEGORIES:Aggrotech,Club Night,Dark Dramatic Electro,Dark Electro,Dark Wave,EBM,Goth,Industrial,Synthpop,Vampire
ATTACH;FMTTYPE=image/png:https://darkmusic.net/wp-content/uploads/2025/02/2025.04.04-Syndicate-Facebook-Profile-Cover.png
ORGANIZER;CN="exquisitely empty":MAILTO:exquisitelyemptylv@gmail.com
GEO:36.1437229;-115.1698193
X-APPLE-STRUCTURED-LOCATION;VALUE=URI;X-ADDRESS=The Lexi Las Vegas 1501 W Sahara Ave Las Vegas NV 89102 United States;X-APPLE-RADIUS=500;X-TITLE=1501 W Sahara Ave:geo:-115.1698193,36.1437229
END:VEVENT
BEGIN:VEVENT
DTSTART;TZID=America/New_York:20250307T200000
DTEND;TZID=America/New_York:20250307T233000
DTSTAMP:20260425T090224
CREATED:20250227T144033Z
LAST-MODIFIED:20250302T042810Z
UID:10000063-1741377600-1741390200@darkmusic.net
SUMMARY:NecroscopE
DESCRIPTION:NecroscopE is a monthly goth industrial night with bands and dj this takes place in Coventry at the arches venue UK 🇬🇧 \n£10 on the door or scan poster for tickets \n  \nLineup \nCyphon \nHurtsfall \nChasing opheia
URL:https://darkmusic.net/event/necroscope/
LOCATION:arches venue Coventry\, Arches venue\, Coventry\, CV1 3JQ\, United Kingdom
CATEGORIES:Goth,Industrial
ATTACH;FMTTYPE=image/jpeg:https://darkmusic.net/wp-content/uploads/2025/02/FB_IMG_1740667071001.jpg
GEO:52.4100211;-1.5271578
X-APPLE-STRUCTURED-LOCATION;VALUE=URI;X-ADDRESS=arches venue Coventry Arches venue Coventry CV1 3JQ United Kingdom;X-APPLE-RADIUS=500;X-TITLE=Arches venue:geo:-1.5271578,52.4100211
END:VEVENT
BEGIN:VEVENT
DTSTART;TZID=America/New_York:20250307T000000
DTEND;TZID=America/New_York:20250308T235959
DTSTAMP:20260425T090224
CREATED:20250227T143148Z
LAST-MODIFIED:20250302T042718Z
UID:10000062-1741305600-1741478399@darkmusic.net
SUMMARY:CorrosionFest
DESCRIPTION:  \n  \n› Morecambe Events › Alhambra Live\, Morecambe › CorrosionFest 2025 \nCorrosionFest 2025 \nAlhambra Live\, Morecambe\, Morecambe\, LA4 4EU \nFri 7th March 2025 \n  \nA weekend of West Coast Gothic at Corrosion. \nOur Pocket bespoke international indoor festival of live Alternative music returns to Morecambe. 12 great bands over 2 days. \n  \nFRIDAY BANDS: \nGOTHZILLA (full band) \nPretty Addicted \nMercury Machine \nInstant Lake \n  \nSATURDAY BANS: \nTHE FOREIGN RESORT \nYour Life On Hold \nSexblood \nDivine Shade \nRome Burns \nElkapath \nVazum \nBlack Rain
URL:https://darkmusic.net/event/corrosionfest/
LOCATION:2025  Alhambra Live\, Alhambra Live\, Morecambe\, LA4 4EU\, United Kingdom
CATEGORIES:Goth,Industrial,Post Punk,Synthpop
ATTACH;FMTTYPE=image/jpeg:https://darkmusic.net/wp-content/uploads/2025/02/FB_IMG_1740592405855.jpg
GEO:54.0662193;-2.8802521
X-APPLE-STRUCTURED-LOCATION;VALUE=URI;X-ADDRESS=2025  Alhambra Live Alhambra Live Morecambe LA4 4EU United Kingdom;X-APPLE-RADIUS=500;X-TITLE=Alhambra Live:geo:-2.8802521,54.0662193
END:VEVENT
BEGIN:VEVENT
DTSTART;TZID=America/New_York:20250306T190000
DTEND;TZID=America/New_York:20250306T230000
DTSTAMP:20260425T090224
CREATED:20250227T124226Z
LAST-MODIFIED:20250227T151636Z
UID:10000020-1741287600-1741302000@darkmusic.net
SUMMARY:Dark Constellation
DESCRIPTION:DMV: THURSDAY : Goth * Industrial * Darkwave * Alternative * Dance Party
URL:https://darkmusic.net/event/dark-constellation/2025-03-06/
LOCATION:The Renegade\, 3100 Clarendon Blvd PL-10\, Arlington\, 22201\, United States
CATEGORIES:Club Night
ATTACH;FMTTYPE=image/jpeg:https://darkmusic.net/wp-content/uploads/2025/02/IMG_5953.jpeg
ORGANIZER;CN="MisS Guided":MAILTO:djmissguided@gmail.com
GEO:38.8867412;-77.0950622
X-APPLE-STRUCTURED-LOCATION;VALUE=URI;X-ADDRESS=The Renegade 3100 Clarendon Blvd PL-10 Arlington 22201 United States;X-APPLE-RADIUS=500;X-TITLE=3100 Clarendon Blvd PL-10:geo:-77.0950622,38.8867412
END:VEVENT
BEGIN:VEVENT
DTSTART;TZID=America/New_York:20250303T220000
DTEND;TZID=America/New_York:20250304T030000
DTSTAMP:20260425T090224
CREATED:20250227T160600Z
LAST-MODIFIED:20250627T202111Z
UID:10000097-1741039200-1741057200@darkmusic.net
SUMMARY:5+ Hours of Goth livestream
DESCRIPTION:Every Monday at 10pm Eastern time DJ Jason spins a free livestream with purely Goth for over 5 hours on the Twitch platform.  Hope to see you there in the DJ chat area.  \nhttps://www.twitch.tv/djjasonspinsgoth
URL:https://darkmusic.net/event/5-hours-of-goth-livestream/2025-03-03/
LOCATION:https://darkmusic.net/event/5-hours-of-goth-livestream/2025-03-03/
CATEGORIES:Goth
ATTACH;FMTTYPE=image/jpeg:https://darkmusic.net/wp-content/uploads/2025/02/492971009_10234984159040536_3024512789924366107_n.jpg
ORGANIZER;CN="DJ Jason":MAILTO:djjasonofalchemy@gmail.com
END:VEVENT
BEGIN:VEVENT
DTSTART;TZID=America/New_York:20250227T190000
DTEND;TZID=America/New_York:20250227T230000
DTSTAMP:20260425T090224
CREATED:20250227T124226Z
LAST-MODIFIED:20250227T151636Z
UID:10000019-1740682800-1740697200@darkmusic.net
SUMMARY:Dark Constellation
DESCRIPTION:DMV: THURSDAY : Goth * Industrial * Darkwave * Alternative * Dance Party
URL:https://darkmusic.net/event/dark-constellation/2025-02-27/
LOCATION:The Renegade\, 3100 Clarendon Blvd PL-10\, Arlington\, 22201\, United States
CATEGORIES:Club Night
ATTACH;FMTTYPE=image/jpeg:https://darkmusic.net/wp-content/uploads/2025/02/IMG_5953.jpeg
ORGANIZER;CN="MisS Guided":MAILTO:djmissguided@gmail.com
GEO:38.8867412;-77.0950622
X-APPLE-STRUCTURED-LOCATION;VALUE=URI;X-ADDRESS=The Renegade 3100 Clarendon Blvd PL-10 Arlington 22201 United States;X-APPLE-RADIUS=500;X-TITLE=3100 Clarendon Blvd PL-10:geo:-77.0950622,38.8867412
END:VEVENT
END:VCALENDAR