BEGIN:VCALENDAR
VERSION:2.0
PRODID:-//The Dark Music Network - ECPv6.15.20//NONSGML v1.0//EN
CALSCALE:GREGORIAN
METHOD:PUBLISH
X-WR-CALNAME:The Dark Music Network
X-ORIGINAL-URL:https://darkmusic.net
X-WR-CALDESC:Events for The Dark Music Network
REFRESH-INTERVAL;VALUE=DURATION:PT1H
X-Robots-Tag:noindex
X-PUBLISHED-TTL:PT1H
BEGIN:VTIMEZONE
TZID:America/New_York
BEGIN:DAYLIGHT
TZOFFSETFROM:-0500
TZOFFSETTO:-0400
TZNAME:EDT
DTSTART:20240310T070000
END:DAYLIGHT
BEGIN:STANDARD
TZOFFSETFROM:-0400
TZOFFSETTO:-0500
TZNAME:EST
DTSTART:20241103T060000
END:STANDARD
BEGIN:DAYLIGHT
TZOFFSETFROM:-0500
TZOFFSETTO:-0400
TZNAME:EDT
DTSTART:20250309T070000
END:DAYLIGHT
BEGIN:STANDARD
TZOFFSETFROM:-0400
TZOFFSETTO:-0500
TZNAME:EST
DTSTART:20251102T060000
END:STANDARD
BEGIN:DAYLIGHT
TZOFFSETFROM:-0500
TZOFFSETTO:-0400
TZNAME:EDT
DTSTART:20260308T070000
END:DAYLIGHT
BEGIN:STANDARD
TZOFFSETFROM:-0400
TZOFFSETTO:-0500
TZNAME:EST
DTSTART:20261101T060000
END:STANDARD
END:VTIMEZONE
BEGIN:VTIMEZONE
TZID:Europe/London
BEGIN:DAYLIGHT
TZOFFSETFROM:+0000
TZOFFSETTO:+0100
TZNAME:BST
DTSTART:20240331T010000
END:DAYLIGHT
BEGIN:STANDARD
TZOFFSETFROM:+0100
TZOFFSETTO:+0000
TZNAME:GMT
DTSTART:20241027T010000
END:STANDARD
BEGIN:DAYLIGHT
TZOFFSETFROM:+0000
TZOFFSETTO:+0100
TZNAME:BST
DTSTART:20250330T010000
END:DAYLIGHT
BEGIN:STANDARD
TZOFFSETFROM:+0100
TZOFFSETTO:+0000
TZNAME:GMT
DTSTART:20251026T010000
END:STANDARD
BEGIN:DAYLIGHT
TZOFFSETFROM:+0000
TZOFFSETTO:+0100
TZNAME:BST
DTSTART:20260329T010000
END:DAYLIGHT
BEGIN:STANDARD
TZOFFSETFROM:+0100
TZOFFSETTO:+0000
TZNAME:GMT
DTSTART:20261025T010000
END:STANDARD
END:VTIMEZONE
BEGIN:VEVENT
DTSTART;TZID=America/New_York:20250517T220000
DTEND;TZID=America/New_York:20250518T020000
DTSTAMP:20260425T235149
CREATED:20250321T185818Z
LAST-MODIFIED:20250321T190929Z
UID:10000425-1747519200-1747533600@darkmusic.net
SUMMARY:Vertex Night Club
DESCRIPTION:One of the longest running goth clubs in the US. Not to be confused with the awesome VORTEX – similar names\, no relation. \nThurs\, Friday\, and Saturday. 10pm- 2am (Or until they kick everyone out. Drinks stop at 2 but the club will often stay going) \nThursday Night – DJ Noname \nFriday Night – DJ Crash \nSaturday Night – DJ Darkwave \nOften hosts a Gothic Garage Sale twice a year\, plus other events. \nWill update this more soon as there isn’t much online for the club since it is very underground.
URL:https://darkmusic.net/event/vertex/2025-05-17/
LOCATION:Vertex Night Club\, 169 N Chestnut St\, Rochester\, NY\, 14604\, United States
CATEGORIES:80's,Aggrotech,Club Night,Cyber,Dark Wave,EBM,FuturePop,Goth,Industrial,Oddities Market,Synthpop
ATTACH;FMTTYPE=image/jpeg:https://darkmusic.net/wp-content/uploads/2025/03/Vertex.jpg
GEO:43.1606393;-77.603646
X-APPLE-STRUCTURED-LOCATION;VALUE=URI;X-ADDRESS=Vertex Night Club 169 N Chestnut St Rochester NY 14604 United States;X-APPLE-RADIUS=500;X-TITLE=169 N Chestnut St:geo:-77.603646,43.1606393
END:VEVENT
BEGIN:VEVENT
DTSTART;TZID=America/New_York:20250519T220000
DTEND;TZID=America/New_York:20250520T030000
DTSTAMP:20260425T235149
CREATED:20250227T160600Z
LAST-MODIFIED:20250627T202111Z
UID:10000108-1747692000-1747710000@darkmusic.net
SUMMARY:5+ Hours of Goth livestream
DESCRIPTION:Every Monday at 10pm Eastern time DJ Jason spins a free livestream with purely Goth for over 5 hours on the Twitch platform.  Hope to see you there in the DJ chat area.  \nhttps://www.twitch.tv/djjasonspinsgoth
URL:https://darkmusic.net/event/5-hours-of-goth-livestream/2025-05-19/
LOCATION:https://darkmusic.net/event/5-hours-of-goth-livestream/2025-05-19/
CATEGORIES:Goth
ATTACH;FMTTYPE=image/jpeg:https://darkmusic.net/wp-content/uploads/2025/02/492971009_10234984159040536_3024512789924366107_n.jpg
ORGANIZER;CN="DJ Jason":MAILTO:djjasonofalchemy@gmail.com
END:VEVENT
BEGIN:VEVENT
DTSTART;TZID=Europe/London:20250522T130000
DTEND;TZID=Europe/London:20250523T090000
DTSTAMP:20260425T235149
CREATED:20250512T224736Z
LAST-MODIFIED:20250512T224736Z
UID:10001209-1747918800-1747990800@darkmusic.net
SUMMARY:The Gothic Fete: World Goth Day special\, presented by Der Keller and Xiled Radio
DESCRIPTION:Get ready for the ultimate Goth celebration! \nJoin us on May 22-23\, 2025\, for an epic World Goth Day Raid Train on Twitch hosted by Der Keller and Xiled Radio!  Whether you’re into dark vibes\, eerie tunes\, or just want to celebrate all things goth\, this two-day event will be filled with exciting streams\, epic raids\, and a community that lives for the night.\nMark your calendars and prepare to immerse yourself in the gothic culture\, which has excellent content creators\, special giveaways\, and plenty of dark fun!  Don’t miss the chance to support your favourite streamers\, discover new faces\, and be part of a raid train like no other.\n Save the date — May 22-23\, 2025. It’s going to be a night to remember!
URL:https://darkmusic.net/event/the-gothic-fete-world-goth-day-special-presented-by-der-keller-and-xiled-radio/
LOCATION:https://raidpal.com/en/event/der-keller-xiled-radio-world-goth-day-gothic-fete
CATEGORIES:Dark Wave,Goth,Post Punk
ATTACH;FMTTYPE=image/jpeg:https://darkmusic.net/wp-content/uploads/2025/05/WGD-2025-Gothic-Fete.jpg
ORGANIZER;CN="Mortasha Kinski":MAILTO:mortasha.kinski@gmail.com
END:VEVENT
BEGIN:VEVENT
DTSTART;TZID=America/New_York:20250522T190000
DTEND;TZID=America/New_York:20250522T230000
DTSTAMP:20260425T235149
CREATED:20250227T124226Z
LAST-MODIFIED:20250227T151636Z
UID:10000031-1747940400-1747954800@darkmusic.net
SUMMARY:Dark Constellation
DESCRIPTION:DMV: THURSDAY : Goth * Industrial * Darkwave * Alternative * Dance Party
URL:https://darkmusic.net/event/dark-constellation/2025-05-22/
LOCATION:The Renegade\, 3100 Clarendon Blvd PL-10\, Arlington\, 22201\, United States
CATEGORIES:Club Night
ATTACH;FMTTYPE=image/jpeg:https://darkmusic.net/wp-content/uploads/2025/02/IMG_5953.jpeg
ORGANIZER;CN="MisS Guided":MAILTO:djmissguided@gmail.com
GEO:38.8867412;-77.0950622
X-APPLE-STRUCTURED-LOCATION;VALUE=URI;X-ADDRESS=The Renegade 3100 Clarendon Blvd PL-10 Arlington 22201 United States;X-APPLE-RADIUS=500;X-TITLE=3100 Clarendon Blvd PL-10:geo:-77.0950622,38.8867412
END:VEVENT
BEGIN:VEVENT
DTSTART;TZID=America/New_York:20250522T190000
DTEND;TZID=America/New_York:20250522T230000
DTSTAMP:20260425T235149
CREATED:20250227T040127Z
LAST-MODIFIED:20250327T190220Z
UID:10000015-1747940400-1747954800@darkmusic.net
SUMMARY:Normoria w. Broken Nails\, Corrozzion Star Systems\, This Droid
DESCRIPTION:Realm of Angels presents Normoria and Broken Nails on their east coast mini tour! Showcasing an industrial music showcase for the senses. Also featuring local openers Corrozzion Star Systems and This Droid!\nTickets here\nDoors at 7pm\nShow at 8pm\n$15 ahead/$20 doors\n18+\, minors allowed with adult\nRead on for band details! \nNORMORIA is a Swedish band whose uniquely dramatic sound is a fusion of various elements\, primarily dark electro and industrial. Expressive power\, unapologetic themes\, and a blend of obscure electrifying energized sounds are signature features of the band. They have performed at various European festivals and shared the stage with many great bands\, including Agonoize\, Test Dept\, Priest\, Beborn Beton\, Icon of Coil\, Project Pitchfork\, Alien Vampires\, L’âme Immortelle\, Suicide Commando\, and many more.\nfacebook.com/Normoria \nBroken Nails is An Electronic solo artist\, inspired by Darkwave\, Minimal Synth\, Industrial and EBM sounds. Primarily composed from analogue synthesizers and drum machines. Focusing on strong percussion\, passionate vocals\, synth modulation and rhythmic melodies.\nfacebook.com/brokennailsmusic \nCorrozzion Star Systems started as a hobby of making music by David Quijano. Experimenting with music in high school in 1998 when he got a copy of Fruity Loops\, he started experimenting with making his sounds with the influences of Aggrotech\, Industrial\, and EBM. He wanted to stand out from the “traditional” sounds but still give the vibe\, Hence\, Corrozzion Star Systems was born!\nfacebook.com/CorrozzionStarSystemsBand \nThis Droid is a Dark\, Broken electronic music side project from Roy Retrofit of Red This Ever\nfacebook.com/thisdroidisfriend
URL:https://darkmusic.net/event/normoria-w-broken-nails-corrozzion-star-systems-this-droid/
LOCATION:MD
CATEGORIES:EBM,Goth,Vampire,Wiccan,Witch
ATTACH;FMTTYPE=image/jpeg:https://darkmusic.net/wp-content/uploads/2025/02/Phantom-Power-Event.jpg
END:VEVENT
BEGIN:VEVENT
DTSTART;TZID=America/New_York:20250522T220000
DTEND;TZID=America/New_York:20250523T020000
DTSTAMP:20260425T235149
CREATED:20250321T185818Z
LAST-MODIFIED:20250321T190929Z
UID:10000426-1747951200-1747965600@darkmusic.net
SUMMARY:Vertex Night Club
DESCRIPTION:One of the longest running goth clubs in the US. Not to be confused with the awesome VORTEX – similar names\, no relation. \nThurs\, Friday\, and Saturday. 10pm- 2am (Or until they kick everyone out. Drinks stop at 2 but the club will often stay going) \nThursday Night – DJ Noname \nFriday Night – DJ Crash \nSaturday Night – DJ Darkwave \nOften hosts a Gothic Garage Sale twice a year\, plus other events. \nWill update this more soon as there isn’t much online for the club since it is very underground.
URL:https://darkmusic.net/event/vertex/2025-05-22/
LOCATION:Vertex Night Club\, 169 N Chestnut St\, Rochester\, NY\, 14604\, United States
CATEGORIES:80's,Aggrotech,Club Night,Cyber,Dark Wave,EBM,FuturePop,Goth,Industrial,Oddities Market,Synthpop
ATTACH;FMTTYPE=image/jpeg:https://darkmusic.net/wp-content/uploads/2025/03/Vertex.jpg
GEO:43.1606393;-77.603646
X-APPLE-STRUCTURED-LOCATION;VALUE=URI;X-ADDRESS=Vertex Night Club 169 N Chestnut St Rochester NY 14604 United States;X-APPLE-RADIUS=500;X-TITLE=169 N Chestnut St:geo:-77.603646,43.1606393
END:VEVENT
BEGIN:VEVENT
DTSTART;TZID=America/New_York:20250523T190000
DTEND;TZID=America/New_York:20250523T230000
DTSTAMP:20260425T235149
CREATED:20250518T140107Z
LAST-MODIFIED:20250518T140107Z
UID:10001213-1748026800-1748041200@darkmusic.net
SUMMARY:An evening with Traverse the abyss
DESCRIPTION:W direct support from The Turning hand\, Altar of sacrifice\, United yet Broken\, Pre-baptist. All ages. $10. 1383 w poplar st York pa.  Proceeds benefit youth programs
URL:https://darkmusic.net/event/an-evening-with-traverse-the-abyss/
LOCATION:Hmac Harrisburg Pa\, 1110 N 3rd St\, Harrisburg\, P\, 17102\, United States
ATTACH;FMTTYPE=image/jpeg:https://darkmusic.net/wp-content/uploads/2025/05/Screenshot_20250516_211112_Messages.jpg
ORGANIZER;CN="ben614":MAILTO:guitarben2000@yahoo.com
GEO:40.268142;-76.8882658
X-APPLE-STRUCTURED-LOCATION;VALUE=URI;X-ADDRESS=Hmac Harrisburg Pa 1110 N 3rd St Harrisburg P 17102 United States;X-APPLE-RADIUS=500;X-TITLE=1110 N 3rd St:geo:-76.8882658,40.268142
END:VEVENT
BEGIN:VEVENT
DTSTART;TZID=America/New_York:20250523T220000
DTEND;TZID=America/New_York:20250524T020000
DTSTAMP:20260425T235149
CREATED:20250321T185818Z
LAST-MODIFIED:20250321T190929Z
UID:10000427-1748037600-1748052000@darkmusic.net
SUMMARY:Vertex Night Club
DESCRIPTION:One of the longest running goth clubs in the US. Not to be confused with the awesome VORTEX – similar names\, no relation. \nThurs\, Friday\, and Saturday. 10pm- 2am (Or until they kick everyone out. Drinks stop at 2 but the club will often stay going) \nThursday Night – DJ Noname \nFriday Night – DJ Crash \nSaturday Night – DJ Darkwave \nOften hosts a Gothic Garage Sale twice a year\, plus other events. \nWill update this more soon as there isn’t much online for the club since it is very underground.
URL:https://darkmusic.net/event/vertex/2025-05-23/
LOCATION:Vertex Night Club\, 169 N Chestnut St\, Rochester\, NY\, 14604\, United States
CATEGORIES:80's,Aggrotech,Club Night,Cyber,Dark Wave,EBM,FuturePop,Goth,Industrial,Oddities Market,Synthpop
ATTACH;FMTTYPE=image/jpeg:https://darkmusic.net/wp-content/uploads/2025/03/Vertex.jpg
GEO:43.1606393;-77.603646
X-APPLE-STRUCTURED-LOCATION;VALUE=URI;X-ADDRESS=Vertex Night Club 169 N Chestnut St Rochester NY 14604 United States;X-APPLE-RADIUS=500;X-TITLE=169 N Chestnut St:geo:-77.603646,43.1606393
END:VEVENT
BEGIN:VEVENT
DTSTART;TZID=America/New_York:20250524T180000
DTEND;TZID=America/New_York:20250524T220000
DTSTAMP:20260425T235149
CREATED:20250413T184730Z
LAST-MODIFIED:20250418T161556Z
UID:10001199-1748109600-1748124000@darkmusic.net
SUMMARY:Power of IV
DESCRIPTION:Yes\, it’s THAT “Power of IV”! Join them in Newark for their return to the stage.  If you like fun\, high-energy music…get ready to rock out with Power of IV\, The Blackburns\, and Hot Brains. Proceeds will be donated for an added benefit!
URL:https://darkmusic.net/event/power-of-iv/
LOCATION:Rainbow Records\, 218 E Main St Ste-114\, Newark\, Delaware\, 19711\, United States
CATEGORIES:Concert
ATTACH;FMTTYPE=image/jpeg:https://darkmusic.net/wp-content/uploads/2025/04/Screenshot_20250329-083424_Chrome-1.jpg
GEO:39.6849184;-75.7450422
X-APPLE-STRUCTURED-LOCATION;VALUE=URI;X-ADDRESS=Rainbow Records 218 E Main St Ste-114 Newark Delaware 19711 United States;X-APPLE-RADIUS=500;X-TITLE=218 E Main St Ste-114:geo:-75.7450422,39.6849184
END:VEVENT
BEGIN:VEVENT
DTSTART;TZID=America/New_York:20250524T210000
DTEND;TZID=America/New_York:20250524T213600
DTSTAMP:20260425T235149
CREATED:20250325T231729Z
LAST-MODIFIED:20250506T115204Z
UID:10001183-1748120400-1748122560@darkmusic.net
SUMMARY:The Moons Of Jupiter – World Goth Day Festival 2025
DESCRIPTION:Online event. A specially pre-recorded live set for World Goth Day Festival 2025! Premiering on our YouTube channel 9pm UK time\, Saturday 24th May    https://www.youtube.com/@TheMoonsOfJupiter
URL:https://darkmusic.net/event/the-moons-of-jupiter-world-goth-day-festival-2025/
LOCATION:
CATEGORIES:80's,Dark Dramatic Electro,Dark Electro,Dark Wave,Festival,Goth,Synthpop
ATTACH;FMTTYPE=image/jpeg:https://darkmusic.net/wp-content/uploads/2025/03/475870268_579603965066835_4755407118418511934_n.jpg
END:VEVENT
BEGIN:VEVENT
DTSTART;TZID=America/New_York:20250524T220000
DTEND;TZID=America/New_York:20250525T020000
DTSTAMP:20260425T235149
CREATED:20250321T185818Z
LAST-MODIFIED:20250321T190929Z
UID:10000428-1748124000-1748138400@darkmusic.net
SUMMARY:Vertex Night Club
DESCRIPTION:One of the longest running goth clubs in the US. Not to be confused with the awesome VORTEX – similar names\, no relation. \nThurs\, Friday\, and Saturday. 10pm- 2am (Or until they kick everyone out. Drinks stop at 2 but the club will often stay going) \nThursday Night – DJ Noname \nFriday Night – DJ Crash \nSaturday Night – DJ Darkwave \nOften hosts a Gothic Garage Sale twice a year\, plus other events. \nWill update this more soon as there isn’t much online for the club since it is very underground.
URL:https://darkmusic.net/event/vertex/2025-05-24/
LOCATION:Vertex Night Club\, 169 N Chestnut St\, Rochester\, NY\, 14604\, United States
CATEGORIES:80's,Aggrotech,Club Night,Cyber,Dark Wave,EBM,FuturePop,Goth,Industrial,Oddities Market,Synthpop
ATTACH;FMTTYPE=image/jpeg:https://darkmusic.net/wp-content/uploads/2025/03/Vertex.jpg
GEO:43.1606393;-77.603646
X-APPLE-STRUCTURED-LOCATION;VALUE=URI;X-ADDRESS=Vertex Night Club 169 N Chestnut St Rochester NY 14604 United States;X-APPLE-RADIUS=500;X-TITLE=169 N Chestnut St:geo:-77.603646,43.1606393
END:VEVENT
BEGIN:VEVENT
DTSTART;TZID=America/New_York:20250525T190000
DTEND;TZID=America/New_York:20250525T230000
DTSTAMP:20260425T235149
CREATED:20250319T044236Z
LAST-MODIFIED:20250327T185054Z
UID:10000397-1748199600-1748214000@darkmusic.net
SUMMARY:LIVE at Bar XIII Delaware! Normoria\, Broken Nails\, Helix Code and Youkai!
DESCRIPTION:Doors at 7pm21+ with IDA GREAT time for a Sunday show since Monday is memorial day!$15 ahead/$20 doors \n  \nNORMORIA is a Swedish band whose uniquely dramatic sound is a fusion of various elements\, primarily dark electro and industrial. Expressive power\, unapologetic themes\, and a blend of obscure electrifying energized sounds are signature features of the band. They have performed at various European festivals and shared the stage with many great bands\, including Agonoize\, Test Dept\, Priest\, Beborn Beton\, Icon of Coil\, Project Pitchfork\, Alien Vampires\, L’âme Immortelle\, Suicide Commando\, and many more.facebook.com/Normoria \n  \nBroken Nails is An Electronic solo artist\, inspired by Darkwave\, Minimal Synth\, Industrial and EBM sounds. Primarily composed from analogue synthesizers and drum machines. Focusing on strong percussion\, passionate vocals\, synth modulation and rhythmic melodies.facebook.com/brokennailsmusic \n  \nHelix Code : || Industrial Füture Metal || Awesome duo of Max and Cait Stevens! \n  \nYoukai is a self-taught songwriter/producer from Lebanon\, PA.Drawing inspiration from around the globe\, they create ethereal and thematic atmospheres through their multi-genre production and poetic lyricism.facebook.com/BlackArmYoukai
URL:https://darkmusic.net/event/live-at-bar-xiii-delaware-normoria-broken-nails-chaos-protocol-and-youkai/
LOCATION:Bar XIII Delaware\, 1706 Philadelphia Pike\, Wilmington\, DE\, 19809\, United States
CATEGORIES:Industrial
ATTACH;FMTTYPE=image/jpeg:https://darkmusic.net/wp-content/uploads/2025/03/WideTemplateBar13NORMORIAUpdated.jpg
ORGANIZER;CN="D3miS3raph":MAILTO:admin@darkmusic.net
GEO:39.7863961;-75.4759046
X-APPLE-STRUCTURED-LOCATION;VALUE=URI;X-ADDRESS=Bar XIII Delaware 1706 Philadelphia Pike Wilmington DE 19809 United States;X-APPLE-RADIUS=500;X-TITLE=1706 Philadelphia Pike:geo:-75.4759046,39.7863961
END:VEVENT
BEGIN:VEVENT
DTSTART;TZID=America/New_York:20250526T220000
DTEND;TZID=America/New_York:20250527T030000
DTSTAMP:20260425T235149
CREATED:20250227T160600Z
LAST-MODIFIED:20250627T202111Z
UID:10000109-1748296800-1748314800@darkmusic.net
SUMMARY:5+ Hours of Goth livestream
DESCRIPTION:Every Monday at 10pm Eastern time DJ Jason spins a free livestream with purely Goth for over 5 hours on the Twitch platform.  Hope to see you there in the DJ chat area.  \nhttps://www.twitch.tv/djjasonspinsgoth
URL:https://darkmusic.net/event/5-hours-of-goth-livestream/2025-05-26/
LOCATION:https://darkmusic.net/event/5-hours-of-goth-livestream/2025-05-26/
CATEGORIES:Goth
ATTACH;FMTTYPE=image/jpeg:https://darkmusic.net/wp-content/uploads/2025/02/492971009_10234984159040536_3024512789924366107_n.jpg
ORGANIZER;CN="DJ Jason":MAILTO:djjasonofalchemy@gmail.com
END:VEVENT
BEGIN:VEVENT
DTSTART;TZID=America/New_York:20250529T190000
DTEND;TZID=America/New_York:20250529T230000
DTSTAMP:20260425T235149
CREATED:20250227T124226Z
LAST-MODIFIED:20250227T151636Z
UID:10000032-1748545200-1748559600@darkmusic.net
SUMMARY:Dark Constellation
DESCRIPTION:DMV: THURSDAY : Goth * Industrial * Darkwave * Alternative * Dance Party
URL:https://darkmusic.net/event/dark-constellation/2025-05-29/
LOCATION:The Renegade\, 3100 Clarendon Blvd PL-10\, Arlington\, 22201\, United States
CATEGORIES:Club Night
ATTACH;FMTTYPE=image/jpeg:https://darkmusic.net/wp-content/uploads/2025/02/IMG_5953.jpeg
ORGANIZER;CN="MisS Guided":MAILTO:djmissguided@gmail.com
GEO:38.8867412;-77.0950622
X-APPLE-STRUCTURED-LOCATION;VALUE=URI;X-ADDRESS=The Renegade 3100 Clarendon Blvd PL-10 Arlington 22201 United States;X-APPLE-RADIUS=500;X-TITLE=3100 Clarendon Blvd PL-10:geo:-77.0950622,38.8867412
END:VEVENT
BEGIN:VEVENT
DTSTART;TZID=America/New_York:20250529T220000
DTEND;TZID=America/New_York:20250530T020000
DTSTAMP:20260425T235149
CREATED:20250321T185818Z
LAST-MODIFIED:20250321T190929Z
UID:10000429-1748556000-1748570400@darkmusic.net
SUMMARY:Vertex Night Club
DESCRIPTION:One of the longest running goth clubs in the US. Not to be confused with the awesome VORTEX – similar names\, no relation. \nThurs\, Friday\, and Saturday. 10pm- 2am (Or until they kick everyone out. Drinks stop at 2 but the club will often stay going) \nThursday Night – DJ Noname \nFriday Night – DJ Crash \nSaturday Night – DJ Darkwave \nOften hosts a Gothic Garage Sale twice a year\, plus other events. \nWill update this more soon as there isn’t much online for the club since it is very underground.
URL:https://darkmusic.net/event/vertex/2025-05-29/
LOCATION:Vertex Night Club\, 169 N Chestnut St\, Rochester\, NY\, 14604\, United States
CATEGORIES:80's,Aggrotech,Club Night,Cyber,Dark Wave,EBM,FuturePop,Goth,Industrial,Oddities Market,Synthpop
ATTACH;FMTTYPE=image/jpeg:https://darkmusic.net/wp-content/uploads/2025/03/Vertex.jpg
GEO:43.1606393;-77.603646
X-APPLE-STRUCTURED-LOCATION;VALUE=URI;X-ADDRESS=Vertex Night Club 169 N Chestnut St Rochester NY 14604 United States;X-APPLE-RADIUS=500;X-TITLE=169 N Chestnut St:geo:-77.603646,43.1606393
END:VEVENT
END:VCALENDAR