BEGIN:VCALENDAR
VERSION:2.0
PRODID:-//The Dark Music Network - ECPv6.15.20//NONSGML v1.0//EN
CALSCALE:GREGORIAN
METHOD:PUBLISH
X-WR-CALNAME:The Dark Music Network
X-ORIGINAL-URL:https://darkmusic.net
X-WR-CALDESC:Events for The Dark Music Network
REFRESH-INTERVAL;VALUE=DURATION:PT1H
X-Robots-Tag:noindex
X-PUBLISHED-TTL:PT1H
BEGIN:VTIMEZONE
TZID:America/New_York
BEGIN:DAYLIGHT
TZOFFSETFROM:-0500
TZOFFSETTO:-0400
TZNAME:EDT
DTSTART:20240310T070000
END:DAYLIGHT
BEGIN:STANDARD
TZOFFSETFROM:-0400
TZOFFSETTO:-0500
TZNAME:EST
DTSTART:20241103T060000
END:STANDARD
BEGIN:DAYLIGHT
TZOFFSETFROM:-0500
TZOFFSETTO:-0400
TZNAME:EDT
DTSTART:20250309T070000
END:DAYLIGHT
BEGIN:STANDARD
TZOFFSETFROM:-0400
TZOFFSETTO:-0500
TZNAME:EST
DTSTART:20251102T060000
END:STANDARD
BEGIN:DAYLIGHT
TZOFFSETFROM:-0500
TZOFFSETTO:-0400
TZNAME:EDT
DTSTART:20260308T070000
END:DAYLIGHT
BEGIN:STANDARD
TZOFFSETFROM:-0400
TZOFFSETTO:-0500
TZNAME:EST
DTSTART:20261101T060000
END:STANDARD
END:VTIMEZONE
BEGIN:VTIMEZONE
TZID:America/Los_Angeles
BEGIN:DAYLIGHT
TZOFFSETFROM:-0800
TZOFFSETTO:-0700
TZNAME:PDT
DTSTART:20240310T100000
END:DAYLIGHT
BEGIN:STANDARD
TZOFFSETFROM:-0700
TZOFFSETTO:-0800
TZNAME:PST
DTSTART:20241103T090000
END:STANDARD
BEGIN:DAYLIGHT
TZOFFSETFROM:-0800
TZOFFSETTO:-0700
TZNAME:PDT
DTSTART:20250309T100000
END:DAYLIGHT
BEGIN:STANDARD
TZOFFSETFROM:-0700
TZOFFSETTO:-0800
TZNAME:PST
DTSTART:20251102T090000
END:STANDARD
BEGIN:DAYLIGHT
TZOFFSETFROM:-0800
TZOFFSETTO:-0700
TZNAME:PDT
DTSTART:20260308T100000
END:DAYLIGHT
BEGIN:STANDARD
TZOFFSETFROM:-0700
TZOFFSETTO:-0800
TZNAME:PST
DTSTART:20261101T090000
END:STANDARD
END:VTIMEZONE
BEGIN:VEVENT
DTSTART;TZID=America/New_York:20250428T220000
DTEND;TZID=America/New_York:20250429T030000
DTSTAMP:20260425T082815
CREATED:20250227T160600Z
LAST-MODIFIED:20250627T202111Z
UID:10000105-1745877600-1745895600@darkmusic.net
SUMMARY:5+ Hours of Goth livestream
DESCRIPTION:Every Monday at 10pm Eastern time DJ Jason spins a free livestream with purely Goth for over 5 hours on the Twitch platform.  Hope to see you there in the DJ chat area.  \nhttps://www.twitch.tv/djjasonspinsgoth
URL:https://darkmusic.net/event/5-hours-of-goth-livestream/2025-04-28/
CATEGORIES:Goth
ATTACH;FMTTYPE=image/jpeg:https://darkmusic.net/wp-content/uploads/2025/02/492971009_10234984159040536_3024512789924366107_n.jpg
ORGANIZER;CN="DJ Jason":MAILTO:djjasonofalchemy@gmail.com
LOCATION:https://darkmusic.net/event/5-hours-of-goth-livestream/2025-04-28/
END:VEVENT
BEGIN:VEVENT
DTSTART;TZID=America/New_York:20250501T190000
DTEND;TZID=America/New_York:20250501T230000
DTSTAMP:20260425T082815
CREATED:20250227T124226Z
LAST-MODIFIED:20250227T151636Z
UID:10000028-1746126000-1746140400@darkmusic.net
SUMMARY:Dark Constellation
DESCRIPTION:DMV: THURSDAY : Goth * Industrial * Darkwave * Alternative * Dance Party
URL:https://darkmusic.net/event/dark-constellation/2025-05-01/
LOCATION:The Renegade\, 3100 Clarendon Blvd PL-10\, Arlington\, 22201\, United States
CATEGORIES:Club Night
ATTACH;FMTTYPE=image/jpeg:https://darkmusic.net/wp-content/uploads/2025/02/IMG_5953.jpeg
ORGANIZER;CN="MisS Guided":MAILTO:djmissguided@gmail.com
GEO:38.8867412;-77.0950622
X-APPLE-STRUCTURED-LOCATION;VALUE=URI;X-ADDRESS=The Renegade 3100 Clarendon Blvd PL-10 Arlington 22201 United States;X-APPLE-RADIUS=500;X-TITLE=3100 Clarendon Blvd PL-10:geo:-77.0950622,38.8867412
END:VEVENT
BEGIN:VEVENT
DTSTART;TZID=America/New_York:20250501T220000
DTEND;TZID=America/New_York:20250502T020000
DTSTAMP:20260425T082815
CREATED:20250321T185818Z
LAST-MODIFIED:20250321T190929Z
UID:10000417-1746136800-1746151200@darkmusic.net
SUMMARY:Vertex Night Club
DESCRIPTION:One of the longest running goth clubs in the US. Not to be confused with the awesome VORTEX – similar names\, no relation. \nThurs\, Friday\, and Saturday. 10pm- 2am (Or until they kick everyone out. Drinks stop at 2 but the club will often stay going) \nThursday Night – DJ Noname \nFriday Night – DJ Crash \nSaturday Night – DJ Darkwave \nOften hosts a Gothic Garage Sale twice a year\, plus other events. \nWill update this more soon as there isn’t much online for the club since it is very underground.
URL:https://darkmusic.net/event/vertex/2025-05-01/
LOCATION:Vertex Night Club\, 169 N Chestnut St\, Rochester\, NY\, 14604\, United States
CATEGORIES:80's,Aggrotech,Club Night,Cyber,Dark Wave,EBM,FuturePop,Goth,Industrial,Oddities Market,Synthpop
ATTACH;FMTTYPE=image/jpeg:https://darkmusic.net/wp-content/uploads/2025/03/Vertex.jpg
GEO:43.1606393;-77.603646
X-APPLE-STRUCTURED-LOCATION;VALUE=URI;X-ADDRESS=Vertex Night Club 169 N Chestnut St Rochester NY 14604 United States;X-APPLE-RADIUS=500;X-TITLE=169 N Chestnut St:geo:-77.603646,43.1606393
END:VEVENT
BEGIN:VEVENT
DTSTART;TZID=America/New_York:20250502T000000
DTEND;TZID=America/New_York:20250504T235959
DTSTAMP:20260425T082815
CREATED:20250307T014353Z
LAST-MODIFIED:20250328T152847Z
UID:10000384-1746144000-1746403199@darkmusic.net
SUMMARY:Wonderplace Alpha
DESCRIPTION:Wonderplace Alpha: A Liminal Nightshade Bloom \n  \n\nMarch 2-4\, 2025\, Lake George\, New York.\n\nIn a world where gears grind and clockwork hearts beat\, Wonderplace Alpha rises like a majestic airship – a darkling festival celebrating steampunk culture from May 2-4th\, 2025\, at the esteemed Wonderplace Alpha! This inaugural extravaganza promises a thrilling array of delights for landlubbers and aerial adventurers alike\, showcasing the finest in entertainment\, innovation\, and whimsy.\nOur trusty navigational charts indicate a rich tapestry of events: captivating lectures by luminaries like Captain Robert Brown\, whimsy-filled competitions of eccentric excellence – including facial foliage\, diabolical laughter\, and curious contraptions contests! Musical marvels abound\, featuring The Spellbinder Orchestra’s chrononautical folk melodies and Chris Cyanide’s intense\, solo bass machinations to mesmerize your auditory cogworks.\nAs dusk falls\, Madeline’s Steampunk Ball beckons\, featuring the ingenious DJ Ozno spinning tunes to dance the clockwork waltz beneath twinkling brass chandeliers! Amidst this dazzling spectacle\, engage your cerebral cogworks with immersive role-playing games\, debates on aerial governance\, and intellectual discussions on weird worlds\, eerie tales\, and steampunk’s splendidly sinister souls.\nFurther adventures await within Wonderplace Alpha’s hull: “The Machinations of Mayhem” – a grand conclave exploring governance\, gallantry\, and grand larceny in steampunk realms. Or join “The Night Of Definitely Not Summoning Cthulhu\,” a jocular ritual poking fun at eerie mythos with clever incantations and humorous hijinks!\nBy joining Wonderplace Alpha\, ye become part of a thriving community celebrating innovation\, self-expression\, and steampunk camaraderie! So hoist the colors\, me hearties\, and set course for Wonderplace Alpha – a unforgettable aerial odyssey through the realm of steampunk imagination awaits\, May 2-4th 2025!
URL:https://darkmusic.net/event/wonderplace-alpha/
LOCATION:The Barn At French Mountain\, 5 Mill Road\, Lake George\, N\, 12845-3807\, United States
CATEGORIES:Festival,Goth
ATTACH;FMTTYPE=image/jpeg:https://darkmusic.net/wp-content/uploads/2025/03/project-steampunk-carriger.jpg
GEO:43.3940938;-73.7013755
X-APPLE-STRUCTURED-LOCATION;VALUE=URI;X-ADDRESS=The Barn At French Mountain 5 Mill Road Lake George N 12845-3807 United States;X-APPLE-RADIUS=500;X-TITLE=5 Mill Road:geo:-73.7013755,43.3940938
END:VEVENT
BEGIN:VEVENT
DTSTART;TZID=America/New_York:20250502T170000
DTEND;TZID=America/New_York:20250504T210000
DTSTAMP:20260425T082815
CREATED:20250221T183329Z
LAST-MODIFIED:20250221T200628Z
UID:10000004-1746205200-1746392400@darkmusic.net
SUMMARY:Dark Force Fest 2025
DESCRIPTION:From VampireFreaks\,\nThe same company that brought you ‘Dark Side of the Con’ and ‘Triton Festival’\, comes the next evolution in dark alternative events.\nFor 3 days\, we take over the entire ‘Sheraton Parsippany’\, in Parsippany\, NJ\n(one hour from NYC)\nFeaturing top industrial\, goth\, metal\, dark alternative bands from around the world.\nFeaturing:\n35 Bands over 2 stages\n100+ Vendors\nClub Events\nCostume Contest + Cosplay Guests\nSideshow Performers\nFun Activities and Panels
URL:https://darkmusic.net/event/255/
LOCATION:Sheraton Parsippany Hotel\, 199 Smith Rd\, Parsippany\, NJ\, 07054\, United States
CATEGORIES:Club Night,Festival,Goth,Industrial
ATTACH;FMTTYPE=image/jpeg:https://darkmusic.net/wp-content/uploads/2025/01/DarkForceFest2025-square-reaper-flyer-1000-2.jpg
ORGANIZER;CN="Vampire Freaks":MAILTO:admin@darkforcefest.com
GEO:40.8616911;-74.4122885
X-APPLE-STRUCTURED-LOCATION;VALUE=URI;X-ADDRESS=Sheraton Parsippany Hotel 199 Smith Rd Parsippany NJ 07054 United States;X-APPLE-RADIUS=500;X-TITLE=199 Smith Rd:geo:-74.4122885,40.8616911
END:VEVENT
BEGIN:VEVENT
DTSTART;TZID=America/Los_Angeles:20250502T210000
DTEND;TZID=America/Los_Angeles:20250503T020000
DTSTAMP:20260425T082815
CREATED:20250228T014046Z
LAST-MODIFIED:20250329T055437Z
UID:10001190-1746219600-1746237600@darkmusic.net
SUMMARY:Syndicate: A Dark Dance Party
DESCRIPTION:Announcing Syndicate: A Dark Dance Party\n\n\n\nHosted by exquisitely empty and Kounter Attack\, Syndicate is a dark dance party held every other Friday located in Downtown Las Vegas’ 21+ boutique hotel\, The Lexi Hotel Las Vegas. \n\n\n\n\nWith 3 rooms (two inside + outside patio)\, 3 vibes\, and 4 DJs\, all fans of the dark\, forbidden\, and underground will find a place to dance the night away. \n\n\n\n\nSpinning your favorites in goth\, post punk\, EBM\, industrial\, dark electro\, and more are resident Vegas DJs Xymox 1107\, D-Stroyer\, The DJ Protokol\, and nolongerhuman. \n\n\nFeature the hottest otherworldly go-go’s\, Alien Vixens\, vendors\, performances\, and more. \n\n\n\n\nFree parking\, free entry\, and drink specials all night. \n\n\n\n\nMore details to come soon. \nSyndicate: For Fans of the Forbidden
URL:https://darkmusic.net/event/syndicate-a-dark-dance-party/2025-05-02/
LOCATION:The Lexi Las Vegas\, 1501 W Sahara Ave\, Las Vegas\, NV\, 89102\, United States
CATEGORIES:Aggrotech,Club Night,Dark Dramatic Electro,Dark Electro,Dark Wave,EBM,Goth,Industrial,Synthpop,Vampire
ATTACH;FMTTYPE=image/png:https://darkmusic.net/wp-content/uploads/2025/02/2025.04.04-Syndicate-Facebook-Profile-Cover.png
ORGANIZER;CN="exquisitely empty":MAILTO:exquisitelyemptylv@gmail.com
GEO:36.1437229;-115.1698193
X-APPLE-STRUCTURED-LOCATION;VALUE=URI;X-ADDRESS=The Lexi Las Vegas 1501 W Sahara Ave Las Vegas NV 89102 United States;X-APPLE-RADIUS=500;X-TITLE=1501 W Sahara Ave:geo:-115.1698193,36.1437229
END:VEVENT
BEGIN:VEVENT
DTSTART;TZID=America/New_York:20250502T220000
DTEND;TZID=America/New_York:20250503T020000
DTSTAMP:20260425T082815
CREATED:20250321T185818Z
LAST-MODIFIED:20250321T190929Z
UID:10000418-1746223200-1746237600@darkmusic.net
SUMMARY:Vertex Night Club
DESCRIPTION:One of the longest running goth clubs in the US. Not to be confused with the awesome VORTEX – similar names\, no relation. \nThurs\, Friday\, and Saturday. 10pm- 2am (Or until they kick everyone out. Drinks stop at 2 but the club will often stay going) \nThursday Night – DJ Noname \nFriday Night – DJ Crash \nSaturday Night – DJ Darkwave \nOften hosts a Gothic Garage Sale twice a year\, plus other events. \nWill update this more soon as there isn’t much online for the club since it is very underground.
URL:https://darkmusic.net/event/vertex/2025-05-02/
LOCATION:Vertex Night Club\, 169 N Chestnut St\, Rochester\, NY\, 14604\, United States
CATEGORIES:80's,Aggrotech,Club Night,Cyber,Dark Wave,EBM,FuturePop,Goth,Industrial,Oddities Market,Synthpop
ATTACH;FMTTYPE=image/jpeg:https://darkmusic.net/wp-content/uploads/2025/03/Vertex.jpg
GEO:43.1606393;-77.603646
X-APPLE-STRUCTURED-LOCATION;VALUE=URI;X-ADDRESS=Vertex Night Club 169 N Chestnut St Rochester NY 14604 United States;X-APPLE-RADIUS=500;X-TITLE=169 N Chestnut St:geo:-77.603646,43.1606393
END:VEVENT
BEGIN:VEVENT
DTSTART;TZID=America/New_York:20250503T203000
DTEND;TZID=America/New_York:20250504T010000
DTSTAMP:20260425T082815
CREATED:20250420T183219Z
LAST-MODIFIED:20250420T183219Z
UID:10001203-1746304200-1746320400@darkmusic.net
SUMMARY:Club ATMOSPHERE #121 Dark Dance
DESCRIPTION:Come join us for an evening of Industrial Goth music and dancing!\nDJ Misstep from Club Terraform in Columbia\, SC will be providing the soundtrack for the evening\nDJ Misstep: https://www.facebook.com/MisStepProject/\nEvent is always 18+.Doors @ 8:30pm every first Saturday.$10 CoverBRING CASH & IDs FOR ADMISSION!!!\nLocated in beautiful downtown Augusta\, Ga. at the corner of 8th st. and Ellis St.\nLe Chat Noir is an off-broad\, black box theatre with a year round production schedule and season tickets available.
URL:https://darkmusic.net/event/club-atmosphere-121-dark-dance/
LOCATION:Le Chat Noir\, 304 8th St\, Augusta\, G\, 30901\, United States
CATEGORIES:Aggrotech,Club Night,Dark Electro,Dark Wave,EBM,Goth,Industrial,Post Punk,Synthpop
ATTACH;FMTTYPE=image/jpeg:https://darkmusic.net/wp-content/uploads/2025/04/491005047_663428253290049_4107018423778271103_n.jpg
ORGANIZER;CN="DJ MISSTEP":MAILTO:clubterraform@gmail.com
GEO:33.474019;-81.9657975
X-APPLE-STRUCTURED-LOCATION;VALUE=URI;X-ADDRESS=Le Chat Noir 304 8th St Augusta G 30901 United States;X-APPLE-RADIUS=500;X-TITLE=304 8th St:geo:-81.9657975,33.474019
END:VEVENT
BEGIN:VEVENT
DTSTART;TZID=America/New_York:20250503T220000
DTEND;TZID=America/New_York:20250504T020000
DTSTAMP:20260425T082815
CREATED:20250321T185818Z
LAST-MODIFIED:20250321T190929Z
UID:10000419-1746309600-1746324000@darkmusic.net
SUMMARY:Vertex Night Club
DESCRIPTION:One of the longest running goth clubs in the US. Not to be confused with the awesome VORTEX – similar names\, no relation. \nThurs\, Friday\, and Saturday. 10pm- 2am (Or until they kick everyone out. Drinks stop at 2 but the club will often stay going) \nThursday Night – DJ Noname \nFriday Night – DJ Crash \nSaturday Night – DJ Darkwave \nOften hosts a Gothic Garage Sale twice a year\, plus other events. \nWill update this more soon as there isn’t much online for the club since it is very underground.
URL:https://darkmusic.net/event/vertex/2025-05-03/
LOCATION:Vertex Night Club\, 169 N Chestnut St\, Rochester\, NY\, 14604\, United States
CATEGORIES:80's,Aggrotech,Club Night,Cyber,Dark Wave,EBM,FuturePop,Goth,Industrial,Oddities Market,Synthpop
ATTACH;FMTTYPE=image/jpeg:https://darkmusic.net/wp-content/uploads/2025/03/Vertex.jpg
GEO:43.1606393;-77.603646
X-APPLE-STRUCTURED-LOCATION;VALUE=URI;X-ADDRESS=Vertex Night Club 169 N Chestnut St Rochester NY 14604 United States;X-APPLE-RADIUS=500;X-TITLE=169 N Chestnut St:geo:-77.603646,43.1606393
END:VEVENT
BEGIN:VEVENT
DTSTART;TZID=America/New_York:20250505T220000
DTEND;TZID=America/New_York:20250506T030000
DTSTAMP:20260425T082815
CREATED:20250227T160600Z
LAST-MODIFIED:20250627T202111Z
UID:10000106-1746482400-1746500400@darkmusic.net
SUMMARY:5+ Hours of Goth livestream
DESCRIPTION:Every Monday at 10pm Eastern time DJ Jason spins a free livestream with purely Goth for over 5 hours on the Twitch platform.  Hope to see you there in the DJ chat area.  \nhttps://www.twitch.tv/djjasonspinsgoth
URL:https://darkmusic.net/event/5-hours-of-goth-livestream/2025-05-05/
CATEGORIES:Goth
ATTACH;FMTTYPE=image/jpeg:https://darkmusic.net/wp-content/uploads/2025/02/492971009_10234984159040536_3024512789924366107_n.jpg
ORGANIZER;CN="DJ Jason":MAILTO:djjasonofalchemy@gmail.com
LOCATION:https://darkmusic.net/event/5-hours-of-goth-livestream/2025-05-05/
END:VEVENT
BEGIN:VEVENT
DTSTART;TZID=America/New_York:20250508T190000
DTEND;TZID=America/New_York:20250508T230000
DTSTAMP:20260425T082815
CREATED:20250227T124226Z
LAST-MODIFIED:20250227T151636Z
UID:10000029-1746730800-1746745200@darkmusic.net
SUMMARY:Dark Constellation
DESCRIPTION:DMV: THURSDAY : Goth * Industrial * Darkwave * Alternative * Dance Party
URL:https://darkmusic.net/event/dark-constellation/2025-05-08/
LOCATION:The Renegade\, 3100 Clarendon Blvd PL-10\, Arlington\, 22201\, United States
CATEGORIES:Club Night
ATTACH;FMTTYPE=image/jpeg:https://darkmusic.net/wp-content/uploads/2025/02/IMG_5953.jpeg
ORGANIZER;CN="MisS Guided":MAILTO:djmissguided@gmail.com
GEO:38.8867412;-77.0950622
X-APPLE-STRUCTURED-LOCATION;VALUE=URI;X-ADDRESS=The Renegade 3100 Clarendon Blvd PL-10 Arlington 22201 United States;X-APPLE-RADIUS=500;X-TITLE=3100 Clarendon Blvd PL-10:geo:-77.0950622,38.8867412
END:VEVENT
BEGIN:VEVENT
DTSTART;TZID=America/New_York:20250508T220000
DTEND;TZID=America/New_York:20250509T020000
DTSTAMP:20260425T082815
CREATED:20250321T185818Z
LAST-MODIFIED:20250321T190929Z
UID:10000420-1746741600-1746756000@darkmusic.net
SUMMARY:Vertex Night Club
DESCRIPTION:One of the longest running goth clubs in the US. Not to be confused with the awesome VORTEX – similar names\, no relation. \nThurs\, Friday\, and Saturday. 10pm- 2am (Or until they kick everyone out. Drinks stop at 2 but the club will often stay going) \nThursday Night – DJ Noname \nFriday Night – DJ Crash \nSaturday Night – DJ Darkwave \nOften hosts a Gothic Garage Sale twice a year\, plus other events. \nWill update this more soon as there isn’t much online for the club since it is very underground.
URL:https://darkmusic.net/event/vertex/2025-05-08/
LOCATION:Vertex Night Club\, 169 N Chestnut St\, Rochester\, NY\, 14604\, United States
CATEGORIES:80's,Aggrotech,Club Night,Cyber,Dark Wave,EBM,FuturePop,Goth,Industrial,Oddities Market,Synthpop
ATTACH;FMTTYPE=image/jpeg:https://darkmusic.net/wp-content/uploads/2025/03/Vertex.jpg
GEO:43.1606393;-77.603646
X-APPLE-STRUCTURED-LOCATION;VALUE=URI;X-ADDRESS=Vertex Night Club 169 N Chestnut St Rochester NY 14604 United States;X-APPLE-RADIUS=500;X-TITLE=169 N Chestnut St:geo:-77.603646,43.1606393
END:VEVENT
BEGIN:VEVENT
DTSTART;TZID=America/New_York:20250509T200000
DTEND;TZID=America/New_York:20250511T020000
DTSTAMP:20260425T082815
CREATED:20250226T195143Z
LAST-MODIFIED:20250226T195143Z
UID:10000012-1746820800-1746928800@darkmusic.net
SUMMARY:Spring Goth Celebration 2025
DESCRIPTION:DJ Jason and Propaganda nightclub present The Spring Goth Celebration 2025\nFriday\, May 9th and Saturday\, May 10th\n\nFriday’s Lineup is TBA\nSaturday’s Bands will include: \nCome to Ruin (New Orleans\, LA) deathrock / gothrock\nGlass Chapel (Jacksonville\, FL) coldwave / postpunk\nCaelum Wraith (Orlando\, FL) gothic / ebm / futurepop\nAggraux Kouture (Miami\, FL) scifirock / dark industrial \nand DJ Jason spinning purely Goth all night \nMusic starts at 8pm\nAges 18 and up\nOnly 10 dollars before 9pm\, or $20 after per day \nPropaganda Nightclub\n6 South J Street\, Lake Worth Beach\, Florida \nFacebook invite page
URL:https://darkmusic.net/event/spring-goth-celebration-2025/
LOCATION:Propaganda\, 6 South J Street\, Lake Worth Beach\, FL\, 33460\, United States
CATEGORIES:Festival
ATTACH;FMTTYPE=image/jpeg:https://darkmusic.net/wp-content/uploads/2025/02/Absolution-NYC-Goth-Club-Event-Flyer-SpringGothCelebration2025.jpeg
ORGANIZER;CN="DJ Jason":MAILTO:djjasonofalchemy@gmail.com
GEO:26.6155883;-80.05612
X-APPLE-STRUCTURED-LOCATION;VALUE=URI;X-ADDRESS=Propaganda 6 South J Street Lake Worth Beach FL 33460 United States;X-APPLE-RADIUS=500;X-TITLE=6 South J Street:geo:-80.05612,26.6155883
END:VEVENT
BEGIN:VEVENT
DTSTART;TZID=America/New_York:20250509T220000
DTEND;TZID=America/New_York:20250510T020000
DTSTAMP:20260425T082815
CREATED:20250321T185818Z
LAST-MODIFIED:20250321T190929Z
UID:10000421-1746828000-1746842400@darkmusic.net
SUMMARY:Vertex Night Club
DESCRIPTION:One of the longest running goth clubs in the US. Not to be confused with the awesome VORTEX – similar names\, no relation. \nThurs\, Friday\, and Saturday. 10pm- 2am (Or until they kick everyone out. Drinks stop at 2 but the club will often stay going) \nThursday Night – DJ Noname \nFriday Night – DJ Crash \nSaturday Night – DJ Darkwave \nOften hosts a Gothic Garage Sale twice a year\, plus other events. \nWill update this more soon as there isn’t much online for the club since it is very underground.
URL:https://darkmusic.net/event/vertex/2025-05-09/
LOCATION:Vertex Night Club\, 169 N Chestnut St\, Rochester\, NY\, 14604\, United States
CATEGORIES:80's,Aggrotech,Club Night,Cyber,Dark Wave,EBM,FuturePop,Goth,Industrial,Oddities Market,Synthpop
ATTACH;FMTTYPE=image/jpeg:https://darkmusic.net/wp-content/uploads/2025/03/Vertex.jpg
GEO:43.1606393;-77.603646
X-APPLE-STRUCTURED-LOCATION;VALUE=URI;X-ADDRESS=Vertex Night Club 169 N Chestnut St Rochester NY 14604 United States;X-APPLE-RADIUS=500;X-TITLE=169 N Chestnut St:geo:-77.603646,43.1606393
END:VEVENT
BEGIN:VEVENT
DTSTART;TZID=America/New_York:20250510T180000
DTEND;TZID=America/New_York:20250510T230000
DTSTAMP:20260425T082815
CREATED:20250414T133334Z
LAST-MODIFIED:20250414T133334Z
UID:10001200-1746900000-1746918000@darkmusic.net
SUMMARY:Before the end opening for Filter
DESCRIPTION:Before the end & Lives Lost opening for filter @hmac Harrisburg Pa / $25 \n1110 N 3rd St Harrisburg pa \nDoors at 6 / music at 7pm
URL:https://darkmusic.net/event/before-the-end-opening-for-filter/
LOCATION:Hmac Harrisburg Pa\, 1110 N 3rd St\, Harrisburg\, P\, 17102\, United States
CATEGORIES:Concert
ATTACH;FMTTYPE=image/jpeg:https://darkmusic.net/wp-content/uploads/2025/04/Screenshot_20250414_070706_Messages.jpg
ORGANIZER;CN="ben614":MAILTO:guitarben2000@yahoo.com
GEO:40.268142;-76.8882658
X-APPLE-STRUCTURED-LOCATION;VALUE=URI;X-ADDRESS=Hmac Harrisburg Pa 1110 N 3rd St Harrisburg P 17102 United States;X-APPLE-RADIUS=500;X-TITLE=1110 N 3rd St:geo:-76.8882658,40.268142
END:VEVENT
BEGIN:VEVENT
DTSTART;TZID=America/New_York:20250510T220000
DTEND;TZID=America/New_York:20250511T020000
DTSTAMP:20260425T082816
CREATED:20250321T185818Z
LAST-MODIFIED:20250321T190929Z
UID:10000422-1746914400-1746928800@darkmusic.net
SUMMARY:Vertex Night Club
DESCRIPTION:One of the longest running goth clubs in the US. Not to be confused with the awesome VORTEX – similar names\, no relation. \nThurs\, Friday\, and Saturday. 10pm- 2am (Or until they kick everyone out. Drinks stop at 2 but the club will often stay going) \nThursday Night – DJ Noname \nFriday Night – DJ Crash \nSaturday Night – DJ Darkwave \nOften hosts a Gothic Garage Sale twice a year\, plus other events. \nWill update this more soon as there isn’t much online for the club since it is very underground.
URL:https://darkmusic.net/event/vertex/2025-05-10/
LOCATION:Vertex Night Club\, 169 N Chestnut St\, Rochester\, NY\, 14604\, United States
CATEGORIES:80's,Aggrotech,Club Night,Cyber,Dark Wave,EBM,FuturePop,Goth,Industrial,Oddities Market,Synthpop
ATTACH;FMTTYPE=image/jpeg:https://darkmusic.net/wp-content/uploads/2025/03/Vertex.jpg
GEO:43.1606393;-77.603646
X-APPLE-STRUCTURED-LOCATION;VALUE=URI;X-ADDRESS=Vertex Night Club 169 N Chestnut St Rochester NY 14604 United States;X-APPLE-RADIUS=500;X-TITLE=169 N Chestnut St:geo:-77.603646,43.1606393
END:VEVENT
BEGIN:VEVENT
DTSTART;TZID=America/New_York:20250512T220000
DTEND;TZID=America/New_York:20250513T030000
DTSTAMP:20260425T082816
CREATED:20250227T160600Z
LAST-MODIFIED:20250627T202111Z
UID:10000107-1747087200-1747105200@darkmusic.net
SUMMARY:5+ Hours of Goth livestream
DESCRIPTION:Every Monday at 10pm Eastern time DJ Jason spins a free livestream with purely Goth for over 5 hours on the Twitch platform.  Hope to see you there in the DJ chat area.  \nhttps://www.twitch.tv/djjasonspinsgoth
URL:https://darkmusic.net/event/5-hours-of-goth-livestream/2025-05-12/
CATEGORIES:Goth
ATTACH;FMTTYPE=image/jpeg:https://darkmusic.net/wp-content/uploads/2025/02/492971009_10234984159040536_3024512789924366107_n.jpg
ORGANIZER;CN="DJ Jason":MAILTO:djjasonofalchemy@gmail.com
LOCATION:https://darkmusic.net/event/5-hours-of-goth-livestream/2025-05-12/
END:VEVENT
BEGIN:VEVENT
DTSTART;TZID=America/New_York:20250515T190000
DTEND;TZID=America/New_York:20250515T230000
DTSTAMP:20260425T082816
CREATED:20250227T124226Z
LAST-MODIFIED:20250227T151636Z
UID:10000030-1747335600-1747350000@darkmusic.net
SUMMARY:Dark Constellation
DESCRIPTION:DMV: THURSDAY : Goth * Industrial * Darkwave * Alternative * Dance Party
URL:https://darkmusic.net/event/dark-constellation/2025-05-15/
LOCATION:The Renegade\, 3100 Clarendon Blvd PL-10\, Arlington\, 22201\, United States
CATEGORIES:Club Night
ATTACH;FMTTYPE=image/jpeg:https://darkmusic.net/wp-content/uploads/2025/02/IMG_5953.jpeg
ORGANIZER;CN="MisS Guided":MAILTO:djmissguided@gmail.com
GEO:38.8867412;-77.0950622
X-APPLE-STRUCTURED-LOCATION;VALUE=URI;X-ADDRESS=The Renegade 3100 Clarendon Blvd PL-10 Arlington 22201 United States;X-APPLE-RADIUS=500;X-TITLE=3100 Clarendon Blvd PL-10:geo:-77.0950622,38.8867412
END:VEVENT
BEGIN:VEVENT
DTSTART;TZID=America/New_York:20250515T220000
DTEND;TZID=America/New_York:20250516T020000
DTSTAMP:20260425T082816
CREATED:20250321T185818Z
LAST-MODIFIED:20250321T190929Z
UID:10000423-1747346400-1747360800@darkmusic.net
SUMMARY:Vertex Night Club
DESCRIPTION:One of the longest running goth clubs in the US. Not to be confused with the awesome VORTEX – similar names\, no relation. \nThurs\, Friday\, and Saturday. 10pm- 2am (Or until they kick everyone out. Drinks stop at 2 but the club will often stay going) \nThursday Night – DJ Noname \nFriday Night – DJ Crash \nSaturday Night – DJ Darkwave \nOften hosts a Gothic Garage Sale twice a year\, plus other events. \nWill update this more soon as there isn’t much online for the club since it is very underground.
URL:https://darkmusic.net/event/vertex/2025-05-15/
LOCATION:Vertex Night Club\, 169 N Chestnut St\, Rochester\, NY\, 14604\, United States
CATEGORIES:80's,Aggrotech,Club Night,Cyber,Dark Wave,EBM,FuturePop,Goth,Industrial,Oddities Market,Synthpop
ATTACH;FMTTYPE=image/jpeg:https://darkmusic.net/wp-content/uploads/2025/03/Vertex.jpg
GEO:43.1606393;-77.603646
X-APPLE-STRUCTURED-LOCATION;VALUE=URI;X-ADDRESS=Vertex Night Club 169 N Chestnut St Rochester NY 14604 United States;X-APPLE-RADIUS=500;X-TITLE=169 N Chestnut St:geo:-77.603646,43.1606393
END:VEVENT
END:VCALENDAR