BEGIN:VCALENDAR
VERSION:2.0
PRODID:-//The Dark Music Network - ECPv6.15.20//NONSGML v1.0//EN
CALSCALE:GREGORIAN
METHOD:PUBLISH
X-WR-CALNAME:The Dark Music Network
X-ORIGINAL-URL:https://darkmusic.net
X-WR-CALDESC:Events for The Dark Music Network
REFRESH-INTERVAL;VALUE=DURATION:PT1H
X-Robots-Tag:noindex
X-PUBLISHED-TTL:PT1H
BEGIN:VTIMEZONE
TZID:America/New_York
BEGIN:DAYLIGHT
TZOFFSETFROM:-0500
TZOFFSETTO:-0400
TZNAME:EDT
DTSTART:20240310T070000
END:DAYLIGHT
BEGIN:STANDARD
TZOFFSETFROM:-0400
TZOFFSETTO:-0500
TZNAME:EST
DTSTART:20241103T060000
END:STANDARD
BEGIN:DAYLIGHT
TZOFFSETFROM:-0500
TZOFFSETTO:-0400
TZNAME:EDT
DTSTART:20250309T070000
END:DAYLIGHT
BEGIN:STANDARD
TZOFFSETFROM:-0400
TZOFFSETTO:-0500
TZNAME:EST
DTSTART:20251102T060000
END:STANDARD
BEGIN:DAYLIGHT
TZOFFSETFROM:-0500
TZOFFSETTO:-0400
TZNAME:EDT
DTSTART:20260308T070000
END:DAYLIGHT
BEGIN:STANDARD
TZOFFSETFROM:-0400
TZOFFSETTO:-0500
TZNAME:EST
DTSTART:20261101T060000
END:STANDARD
END:VTIMEZONE
BEGIN:VTIMEZONE
TZID:America/Los_Angeles
BEGIN:DAYLIGHT
TZOFFSETFROM:-0800
TZOFFSETTO:-0700
TZNAME:PDT
DTSTART:20240310T100000
END:DAYLIGHT
BEGIN:STANDARD
TZOFFSETFROM:-0700
TZOFFSETTO:-0800
TZNAME:PST
DTSTART:20241103T090000
END:STANDARD
BEGIN:DAYLIGHT
TZOFFSETFROM:-0800
TZOFFSETTO:-0700
TZNAME:PDT
DTSTART:20250309T100000
END:DAYLIGHT
BEGIN:STANDARD
TZOFFSETFROM:-0700
TZOFFSETTO:-0800
TZNAME:PST
DTSTART:20251102T090000
END:STANDARD
BEGIN:DAYLIGHT
TZOFFSETFROM:-0800
TZOFFSETTO:-0700
TZNAME:PDT
DTSTART:20260308T100000
END:DAYLIGHT
BEGIN:STANDARD
TZOFFSETFROM:-0700
TZOFFSETTO:-0800
TZNAME:PST
DTSTART:20261101T090000
END:STANDARD
END:VTIMEZONE
BEGIN:VEVENT
DTSTART;TZID=America/New_York:20250403T190000
DTEND;TZID=America/New_York:20250403T230000
DTSTAMP:20260425T103357
CREATED:20250227T124226Z
LAST-MODIFIED:20250227T151636Z
UID:10000024-1743706800-1743721200@darkmusic.net
SUMMARY:Dark Constellation
DESCRIPTION:DMV: THURSDAY : Goth * Industrial * Darkwave * Alternative * Dance Party
URL:https://darkmusic.net/event/dark-constellation/2025-04-03/
LOCATION:The Renegade\, 3100 Clarendon Blvd PL-10\, Arlington\, 22201\, United States
CATEGORIES:Club Night
ATTACH;FMTTYPE=image/jpeg:https://darkmusic.net/wp-content/uploads/2025/02/IMG_5953.jpeg
ORGANIZER;CN="MisS Guided":MAILTO:djmissguided@gmail.com
GEO:38.8867412;-77.0950622
X-APPLE-STRUCTURED-LOCATION;VALUE=URI;X-ADDRESS=The Renegade 3100 Clarendon Blvd PL-10 Arlington 22201 United States;X-APPLE-RADIUS=500;X-TITLE=3100 Clarendon Blvd PL-10:geo:-77.0950622,38.8867412
END:VEVENT
BEGIN:VEVENT
DTSTART;TZID=America/New_York:20250403T220000
DTEND;TZID=America/New_York:20250404T020000
DTSTAMP:20260425T103357
CREATED:20250321T185818Z
LAST-MODIFIED:20250321T190929Z
UID:10000405-1743717600-1743732000@darkmusic.net
SUMMARY:Vertex Night Club
DESCRIPTION:One of the longest running goth clubs in the US. Not to be confused with the awesome VORTEX – similar names\, no relation. \nThurs\, Friday\, and Saturday. 10pm- 2am (Or until they kick everyone out. Drinks stop at 2 but the club will often stay going) \nThursday Night – DJ Noname \nFriday Night – DJ Crash \nSaturday Night – DJ Darkwave \nOften hosts a Gothic Garage Sale twice a year\, plus other events. \nWill update this more soon as there isn’t much online for the club since it is very underground.
URL:https://darkmusic.net/event/vertex/2025-04-03/
LOCATION:Vertex Night Club\, 169 N Chestnut St\, Rochester\, NY\, 14604\, United States
CATEGORIES:80's,Aggrotech,Club Night,Cyber,Dark Wave,EBM,FuturePop,Goth,Industrial,Oddities Market,Synthpop
ATTACH;FMTTYPE=image/jpeg:https://darkmusic.net/wp-content/uploads/2025/03/Vertex.jpg
GEO:43.1606393;-77.603646
X-APPLE-STRUCTURED-LOCATION;VALUE=URI;X-ADDRESS=Vertex Night Club 169 N Chestnut St Rochester NY 14604 United States;X-APPLE-RADIUS=500;X-TITLE=169 N Chestnut St:geo:-77.603646,43.1606393
END:VEVENT
BEGIN:VEVENT
DTSTART;TZID=America/New_York:20250404T200000
DTEND;TZID=America/New_York:20250404T233000
DTSTAMP:20260425T103357
CREATED:20250227T145906Z
LAST-MODIFIED:20250302T042931Z
UID:10000065-1743796800-1743809400@darkmusic.net
SUMMARY:NecroscopE
DESCRIPTION:NecroscopE is a monthly goth industrial night with bands and dj this takes place in Coventry at the arches venue \n10 on the door \nLineup \nReliquia \nBlack rain \nSocial use
URL:https://darkmusic.net/event/necroscope-3/
LOCATION:arches venue Coventry\, Arches venue\, Coventry\, CV1 3JQ\, United Kingdom
CATEGORIES:Goth,Industrial
ATTACH;FMTTYPE=image/jpeg:https://darkmusic.net/wp-content/uploads/2025/02/FB_IMG_1740667053535.jpg
GEO:52.4100211;-1.5271578
X-APPLE-STRUCTURED-LOCATION;VALUE=URI;X-ADDRESS=arches venue Coventry Arches venue Coventry CV1 3JQ United Kingdom;X-APPLE-RADIUS=500;X-TITLE=Arches venue:geo:-1.5271578,52.4100211
END:VEVENT
BEGIN:VEVENT
DTSTART;TZID=America/Los_Angeles:20250404T210000
DTEND;TZID=America/Los_Angeles:20250405T020000
DTSTAMP:20260425T103357
CREATED:20250228T014046Z
LAST-MODIFIED:20250329T055437Z
UID:10001188-1743800400-1743818400@darkmusic.net
SUMMARY:Syndicate: A Dark Dance Party
DESCRIPTION:Announcing Syndicate: A Dark Dance Party\n\n\n\nHosted by exquisitely empty and Kounter Attack\, Syndicate is a dark dance party held every other Friday located in Downtown Las Vegas’ 21+ boutique hotel\, The Lexi Hotel Las Vegas. \n\n\n\n\nWith 3 rooms (two inside + outside patio)\, 3 vibes\, and 4 DJs\, all fans of the dark\, forbidden\, and underground will find a place to dance the night away. \n\n\n\n\nSpinning your favorites in goth\, post punk\, EBM\, industrial\, dark electro\, and more are resident Vegas DJs Xymox 1107\, D-Stroyer\, The DJ Protokol\, and nolongerhuman. \n\n\nFeature the hottest otherworldly go-go’s\, Alien Vixens\, vendors\, performances\, and more. \n\n\n\n\nFree parking\, free entry\, and drink specials all night. \n\n\n\n\nMore details to come soon. \nSyndicate: For Fans of the Forbidden
URL:https://darkmusic.net/event/syndicate-a-dark-dance-party/2025-04-04/
LOCATION:The Lexi Las Vegas\, 1501 W Sahara Ave\, Las Vegas\, NV\, 89102\, United States
CATEGORIES:Aggrotech,Club Night,Dark Dramatic Electro,Dark Electro,Dark Wave,EBM,Goth,Industrial,Synthpop,Vampire
ATTACH;FMTTYPE=image/png:https://darkmusic.net/wp-content/uploads/2025/02/2025.04.04-Syndicate-Facebook-Profile-Cover.png
ORGANIZER;CN="exquisitely empty":MAILTO:exquisitelyemptylv@gmail.com
GEO:36.1437229;-115.1698193
X-APPLE-STRUCTURED-LOCATION;VALUE=URI;X-ADDRESS=The Lexi Las Vegas 1501 W Sahara Ave Las Vegas NV 89102 United States;X-APPLE-RADIUS=500;X-TITLE=1501 W Sahara Ave:geo:-115.1698193,36.1437229
END:VEVENT
BEGIN:VEVENT
DTSTART;TZID=America/New_York:20250404T220000
DTEND;TZID=America/New_York:20250405T020000
DTSTAMP:20260425T103357
CREATED:20250321T185818Z
LAST-MODIFIED:20250321T190929Z
UID:10000406-1743804000-1743818400@darkmusic.net
SUMMARY:Vertex Night Club
DESCRIPTION:One of the longest running goth clubs in the US. Not to be confused with the awesome VORTEX – similar names\, no relation. \nThurs\, Friday\, and Saturday. 10pm- 2am (Or until they kick everyone out. Drinks stop at 2 but the club will often stay going) \nThursday Night – DJ Noname \nFriday Night – DJ Crash \nSaturday Night – DJ Darkwave \nOften hosts a Gothic Garage Sale twice a year\, plus other events. \nWill update this more soon as there isn’t much online for the club since it is very underground.
URL:https://darkmusic.net/event/vertex/2025-04-04/
LOCATION:Vertex Night Club\, 169 N Chestnut St\, Rochester\, NY\, 14604\, United States
CATEGORIES:80's,Aggrotech,Club Night,Cyber,Dark Wave,EBM,FuturePop,Goth,Industrial,Oddities Market,Synthpop
ATTACH;FMTTYPE=image/jpeg:https://darkmusic.net/wp-content/uploads/2025/03/Vertex.jpg
GEO:43.1606393;-77.603646
X-APPLE-STRUCTURED-LOCATION;VALUE=URI;X-ADDRESS=Vertex Night Club 169 N Chestnut St Rochester NY 14604 United States;X-APPLE-RADIUS=500;X-TITLE=169 N Chestnut St:geo:-77.603646,43.1606393
END:VEVENT
BEGIN:VEVENT
DTSTART;TZID=America/New_York:20250405T200000
DTEND;TZID=America/New_York:20250405T235900
DTSTAMP:20260425T103357
CREATED:20250324T002958Z
LAST-MODIFIED:20250324T003144Z
UID:10001180-1743883200-1743897540@darkmusic.net
SUMMARY:Amulet | Murder For Girls | Doors in the Labyrinth @ Sidequest on 44th
DESCRIPTION:Distortion Productions Presents:\nSaturday\, APRIL 5th\nShow #218\n\nFrom Washington\, DC…Distortion’s own:\n\nAMULET\nhttps://amulettheband.bandcamp.com/\n\nWith special guests:\n\nMURDER FOR GIRLS\nhttps://murderforgirls.bandcamp.com/\n\nand\n\nDOORS IN THE LABYRINTH\nhttps://doorsinthelabyrinth.bandcamp.com/\n\nPlus a Special Edition of MIDIAN after the bands with DJ HIEM\n@ Sidequest on 44th!!\n\n146 44th St\nPittsburgh\, PA\n\n8PM\n\n$30 Advance\n$35 Door\n\nTickets:tinyurl.com/amuletpburgh\n21+
URL:https://darkmusic.net/event/amulet-murder-for-girls-doors-in-the-labyrinth-sidequest-on-44th/
LOCATION:Sidequest\, 146 44th Street\, Pittsburgh\, 15201\, United States
CATEGORIES:Concert,Goth,Post Punk,Synthpop
ATTACH;FMTTYPE=image/jpeg:https://darkmusic.net/wp-content/uploads/2025/03/4-05-25_pittsburg_vertical.jpg
ORGANIZER;CN="Amulet":MAILTO:contact@amulettheband.com
GEO:40.472511;-79.9616957
X-APPLE-STRUCTURED-LOCATION;VALUE=URI;X-ADDRESS=Sidequest 146 44th Street Pittsburgh 15201 United States;X-APPLE-RADIUS=500;X-TITLE=146 44th Street:geo:-79.9616957,40.472511
END:VEVENT
BEGIN:VEVENT
DTSTART;TZID=America/New_York:20250405T220000
DTEND;TZID=America/New_York:20250406T020000
DTSTAMP:20260425T103357
CREATED:20250321T185818Z
LAST-MODIFIED:20250321T190929Z
UID:10000407-1743890400-1743904800@darkmusic.net
SUMMARY:Vertex Night Club
DESCRIPTION:One of the longest running goth clubs in the US. Not to be confused with the awesome VORTEX – similar names\, no relation. \nThurs\, Friday\, and Saturday. 10pm- 2am (Or until they kick everyone out. Drinks stop at 2 but the club will often stay going) \nThursday Night – DJ Noname \nFriday Night – DJ Crash \nSaturday Night – DJ Darkwave \nOften hosts a Gothic Garage Sale twice a year\, plus other events. \nWill update this more soon as there isn’t much online for the club since it is very underground.
URL:https://darkmusic.net/event/vertex/2025-04-05/
LOCATION:Vertex Night Club\, 169 N Chestnut St\, Rochester\, NY\, 14604\, United States
CATEGORIES:80's,Aggrotech,Club Night,Cyber,Dark Wave,EBM,FuturePop,Goth,Industrial,Oddities Market,Synthpop
ATTACH;FMTTYPE=image/jpeg:https://darkmusic.net/wp-content/uploads/2025/03/Vertex.jpg
GEO:43.1606393;-77.603646
X-APPLE-STRUCTURED-LOCATION;VALUE=URI;X-ADDRESS=Vertex Night Club 169 N Chestnut St Rochester NY 14604 United States;X-APPLE-RADIUS=500;X-TITLE=169 N Chestnut St:geo:-77.603646,43.1606393
END:VEVENT
END:VCALENDAR