BEGIN:VCALENDAR
VERSION:2.0
PRODID:-//The Dark Music Network - ECPv6.15.20//NONSGML v1.0//EN
CALSCALE:GREGORIAN
METHOD:PUBLISH
X-WR-CALNAME:The Dark Music Network
X-ORIGINAL-URL:https://darkmusic.net
X-WR-CALDESC:Events for The Dark Music Network
REFRESH-INTERVAL;VALUE=DURATION:PT1H
X-Robots-Tag:noindex
X-PUBLISHED-TTL:PT1H
BEGIN:VTIMEZONE
TZID:America/New_York
BEGIN:DAYLIGHT
TZOFFSETFROM:-0500
TZOFFSETTO:-0400
TZNAME:EDT
DTSTART:20280312T070000
END:DAYLIGHT
BEGIN:STANDARD
TZOFFSETFROM:-0400
TZOFFSETTO:-0500
TZNAME:EST
DTSTART:20281105T060000
END:STANDARD
BEGIN:DAYLIGHT
TZOFFSETFROM:-0500
TZOFFSETTO:-0400
TZNAME:EDT
DTSTART:20290311T070000
END:DAYLIGHT
BEGIN:STANDARD
TZOFFSETFROM:-0400
TZOFFSETTO:-0500
TZNAME:EST
DTSTART:20291104T060000
END:STANDARD
BEGIN:DAYLIGHT
TZOFFSETFROM:-0500
TZOFFSETTO:-0400
TZNAME:EDT
DTSTART:20300310T070000
END:DAYLIGHT
BEGIN:STANDARD
TZOFFSETFROM:-0400
TZOFFSETTO:-0500
TZNAME:EST
DTSTART:20301103T060000
END:STANDARD
BEGIN:DAYLIGHT
TZOFFSETFROM:-0500
TZOFFSETTO:-0400
TZNAME:EDT
DTSTART:20310309T070000
END:DAYLIGHT
BEGIN:STANDARD
TZOFFSETFROM:-0400
TZOFFSETTO:-0500
TZNAME:EST
DTSTART:20311102T060000
END:STANDARD
END:VTIMEZONE
BEGIN:VEVENT
DTSTART;TZID=America/New_York:20290616T210000
DTEND;TZID=America/New_York:20290617T020000
DTSTAMP:20260424T100331
CREATED:20250808T234003Z
LAST-MODIFIED:20250917T140221Z
UID:10001287-1876338000-1876356000@darkmusic.net
SUMMARY:Cryptic: A Goth Night
DESCRIPTION:Join DJ Day Star & eEL as they spin goth\, darkwave\, synthpop\, EBM\, industrial tunes & MORE on the 3rd Saturday of every month at The Depot Baltimore! \nNO COVER / 21+ / DOORS AT 9PM
URL:https://darkmusic.net/event/cryptic-a-goth-night-2/2029-06-16/
LOCATION:The Depot\, 1728 N Charles St\, Baltimore\, MD 21201-5831\, Baltimore\, MD\, 21201-5831\, United States
CATEGORIES:Club Night,Dark Electro,Dark Wave,EBM,FuturePop,Goth,Industrial,Synthpop,Vampire,Witch
ATTACH;FMTTYPE=image/jpeg:https://darkmusic.net/wp-content/uploads/2025/08/Cryptic-2025-flyer-square.jpg
ORGANIZER;CN="eEL":MAILTO:eel.darkbrain@gmail.com
GEO:39.3096234;-76.616729
X-APPLE-STRUCTURED-LOCATION;VALUE=URI;X-ADDRESS=The Depot 1728 N Charles St Baltimore MD 21201-5831 Baltimore MD 21201-5831 United States;X-APPLE-RADIUS=500;X-TITLE=1728 N Charles St\, Baltimore\, MD 21201-5831:geo:-76.616729,39.3096234
END:VEVENT
BEGIN:VEVENT
DTSTART;TZID=America/New_York:20290721T210000
DTEND;TZID=America/New_York:20290722T020000
DTSTAMP:20260424T100331
CREATED:20250808T234003Z
LAST-MODIFIED:20250917T140221Z
UID:10001288-1879362000-1879380000@darkmusic.net
SUMMARY:Cryptic: A Goth Night
DESCRIPTION:Join DJ Day Star & eEL as they spin goth\, darkwave\, synthpop\, EBM\, industrial tunes & MORE on the 3rd Saturday of every month at The Depot Baltimore! \nNO COVER / 21+ / DOORS AT 9PM
URL:https://darkmusic.net/event/cryptic-a-goth-night-2/2029-07-21/
LOCATION:The Depot\, 1728 N Charles St\, Baltimore\, MD 21201-5831\, Baltimore\, MD\, 21201-5831\, United States
CATEGORIES:Club Night,Dark Electro,Dark Wave,EBM,FuturePop,Goth,Industrial,Synthpop,Vampire,Witch
ATTACH;FMTTYPE=image/jpeg:https://darkmusic.net/wp-content/uploads/2025/08/Cryptic-2025-flyer-square.jpg
ORGANIZER;CN="eEL":MAILTO:eel.darkbrain@gmail.com
GEO:39.3096234;-76.616729
X-APPLE-STRUCTURED-LOCATION;VALUE=URI;X-ADDRESS=The Depot 1728 N Charles St Baltimore MD 21201-5831 Baltimore MD 21201-5831 United States;X-APPLE-RADIUS=500;X-TITLE=1728 N Charles St\, Baltimore\, MD 21201-5831:geo:-76.616729,39.3096234
END:VEVENT
BEGIN:VEVENT
DTSTART;TZID=America/New_York:20290818T210000
DTEND;TZID=America/New_York:20290819T020000
DTSTAMP:20260424T100331
CREATED:20250808T234003Z
LAST-MODIFIED:20250917T140221Z
UID:10001289-1881781200-1881799200@darkmusic.net
SUMMARY:Cryptic: A Goth Night
DESCRIPTION:Join DJ Day Star & eEL as they spin goth\, darkwave\, synthpop\, EBM\, industrial tunes & MORE on the 3rd Saturday of every month at The Depot Baltimore! \nNO COVER / 21+ / DOORS AT 9PM
URL:https://darkmusic.net/event/cryptic-a-goth-night-2/2029-08-18/
LOCATION:The Depot\, 1728 N Charles St\, Baltimore\, MD 21201-5831\, Baltimore\, MD\, 21201-5831\, United States
CATEGORIES:Club Night,Dark Electro,Dark Wave,EBM,FuturePop,Goth,Industrial,Synthpop,Vampire,Witch
ATTACH;FMTTYPE=image/jpeg:https://darkmusic.net/wp-content/uploads/2025/08/Cryptic-2025-flyer-square.jpg
ORGANIZER;CN="eEL":MAILTO:eel.darkbrain@gmail.com
GEO:39.3096234;-76.616729
X-APPLE-STRUCTURED-LOCATION;VALUE=URI;X-ADDRESS=The Depot 1728 N Charles St Baltimore MD 21201-5831 Baltimore MD 21201-5831 United States;X-APPLE-RADIUS=500;X-TITLE=1728 N Charles St\, Baltimore\, MD 21201-5831:geo:-76.616729,39.3096234
END:VEVENT
BEGIN:VEVENT
DTSTART;TZID=America/New_York:20290915T210000
DTEND;TZID=America/New_York:20290916T020000
DTSTAMP:20260424T100331
CREATED:20250808T234003Z
LAST-MODIFIED:20250917T140221Z
UID:10001290-1884200400-1884218400@darkmusic.net
SUMMARY:Cryptic: A Goth Night
DESCRIPTION:Join DJ Day Star & eEL as they spin goth\, darkwave\, synthpop\, EBM\, industrial tunes & MORE on the 3rd Saturday of every month at The Depot Baltimore! \nNO COVER / 21+ / DOORS AT 9PM
URL:https://darkmusic.net/event/cryptic-a-goth-night-2/2029-09-15/
LOCATION:The Depot\, 1728 N Charles St\, Baltimore\, MD 21201-5831\, Baltimore\, MD\, 21201-5831\, United States
CATEGORIES:Club Night,Dark Electro,Dark Wave,EBM,FuturePop,Goth,Industrial,Synthpop,Vampire,Witch
ATTACH;FMTTYPE=image/jpeg:https://darkmusic.net/wp-content/uploads/2025/08/Cryptic-2025-flyer-square.jpg
ORGANIZER;CN="eEL":MAILTO:eel.darkbrain@gmail.com
GEO:39.3096234;-76.616729
X-APPLE-STRUCTURED-LOCATION;VALUE=URI;X-ADDRESS=The Depot 1728 N Charles St Baltimore MD 21201-5831 Baltimore MD 21201-5831 United States;X-APPLE-RADIUS=500;X-TITLE=1728 N Charles St\, Baltimore\, MD 21201-5831:geo:-76.616729,39.3096234
END:VEVENT
BEGIN:VEVENT
DTSTART;TZID=America/New_York:20291020T210000
DTEND;TZID=America/New_York:20291021T020000
DTSTAMP:20260424T100331
CREATED:20250808T234003Z
LAST-MODIFIED:20250917T140221Z
UID:10001291-1887224400-1887242400@darkmusic.net
SUMMARY:Cryptic: A Goth Night
DESCRIPTION:Join DJ Day Star & eEL as they spin goth\, darkwave\, synthpop\, EBM\, industrial tunes & MORE on the 3rd Saturday of every month at The Depot Baltimore! \nNO COVER / 21+ / DOORS AT 9PM
URL:https://darkmusic.net/event/cryptic-a-goth-night-2/2029-10-20/
LOCATION:The Depot\, 1728 N Charles St\, Baltimore\, MD 21201-5831\, Baltimore\, MD\, 21201-5831\, United States
CATEGORIES:Club Night,Dark Electro,Dark Wave,EBM,FuturePop,Goth,Industrial,Synthpop,Vampire,Witch
ATTACH;FMTTYPE=image/jpeg:https://darkmusic.net/wp-content/uploads/2025/08/Cryptic-2025-flyer-square.jpg
ORGANIZER;CN="eEL":MAILTO:eel.darkbrain@gmail.com
GEO:39.3096234;-76.616729
X-APPLE-STRUCTURED-LOCATION;VALUE=URI;X-ADDRESS=The Depot 1728 N Charles St Baltimore MD 21201-5831 Baltimore MD 21201-5831 United States;X-APPLE-RADIUS=500;X-TITLE=1728 N Charles St\, Baltimore\, MD 21201-5831:geo:-76.616729,39.3096234
END:VEVENT
BEGIN:VEVENT
DTSTART;TZID=America/New_York:20291117T210000
DTEND;TZID=America/New_York:20291118T020000
DTSTAMP:20260424T100331
CREATED:20250808T234003Z
LAST-MODIFIED:20250917T140221Z
UID:10001292-1889643600-1889661600@darkmusic.net
SUMMARY:Cryptic: A Goth Night
DESCRIPTION:Join DJ Day Star & eEL as they spin goth\, darkwave\, synthpop\, EBM\, industrial tunes & MORE on the 3rd Saturday of every month at The Depot Baltimore! \nNO COVER / 21+ / DOORS AT 9PM
URL:https://darkmusic.net/event/cryptic-a-goth-night-2/2029-11-17/
LOCATION:The Depot\, 1728 N Charles St\, Baltimore\, MD 21201-5831\, Baltimore\, MD\, 21201-5831\, United States
CATEGORIES:Club Night,Dark Electro,Dark Wave,EBM,FuturePop,Goth,Industrial,Synthpop,Vampire,Witch
ATTACH;FMTTYPE=image/jpeg:https://darkmusic.net/wp-content/uploads/2025/08/Cryptic-2025-flyer-square.jpg
ORGANIZER;CN="eEL":MAILTO:eel.darkbrain@gmail.com
GEO:39.3096234;-76.616729
X-APPLE-STRUCTURED-LOCATION;VALUE=URI;X-ADDRESS=The Depot 1728 N Charles St Baltimore MD 21201-5831 Baltimore MD 21201-5831 United States;X-APPLE-RADIUS=500;X-TITLE=1728 N Charles St\, Baltimore\, MD 21201-5831:geo:-76.616729,39.3096234
END:VEVENT
BEGIN:VEVENT
DTSTART;TZID=America/New_York:20291215T210000
DTEND;TZID=America/New_York:20291216T020000
DTSTAMP:20260424T100331
CREATED:20250808T234003Z
LAST-MODIFIED:20250917T140221Z
UID:10001293-1892062800-1892080800@darkmusic.net
SUMMARY:Cryptic: A Goth Night
DESCRIPTION:Join DJ Day Star & eEL as they spin goth\, darkwave\, synthpop\, EBM\, industrial tunes & MORE on the 3rd Saturday of every month at The Depot Baltimore! \nNO COVER / 21+ / DOORS AT 9PM
URL:https://darkmusic.net/event/cryptic-a-goth-night-2/2029-12-15/
LOCATION:The Depot\, 1728 N Charles St\, Baltimore\, MD 21201-5831\, Baltimore\, MD\, 21201-5831\, United States
CATEGORIES:Club Night,Dark Electro,Dark Wave,EBM,FuturePop,Goth,Industrial,Synthpop,Vampire,Witch
ATTACH;FMTTYPE=image/jpeg:https://darkmusic.net/wp-content/uploads/2025/08/Cryptic-2025-flyer-square.jpg
ORGANIZER;CN="eEL":MAILTO:eel.darkbrain@gmail.com
GEO:39.3096234;-76.616729
X-APPLE-STRUCTURED-LOCATION;VALUE=URI;X-ADDRESS=The Depot 1728 N Charles St Baltimore MD 21201-5831 Baltimore MD 21201-5831 United States;X-APPLE-RADIUS=500;X-TITLE=1728 N Charles St\, Baltimore\, MD 21201-5831:geo:-76.616729,39.3096234
END:VEVENT
BEGIN:VEVENT
DTSTART;TZID=America/New_York:20300119T210000
DTEND;TZID=America/New_York:20300120T020000
DTSTAMP:20260424T100331
CREATED:20250808T234003Z
LAST-MODIFIED:20250917T140221Z
UID:10001294-1895086800-1895104800@darkmusic.net
SUMMARY:Cryptic: A Goth Night
DESCRIPTION:Join DJ Day Star & eEL as they spin goth\, darkwave\, synthpop\, EBM\, industrial tunes & MORE on the 3rd Saturday of every month at The Depot Baltimore! \nNO COVER / 21+ / DOORS AT 9PM
URL:https://darkmusic.net/event/cryptic-a-goth-night-2/2030-01-19/
LOCATION:The Depot\, 1728 N Charles St\, Baltimore\, MD 21201-5831\, Baltimore\, MD\, 21201-5831\, United States
CATEGORIES:Club Night,Dark Electro,Dark Wave,EBM,FuturePop,Goth,Industrial,Synthpop,Vampire,Witch
ATTACH;FMTTYPE=image/jpeg:https://darkmusic.net/wp-content/uploads/2025/08/Cryptic-2025-flyer-square.jpg
ORGANIZER;CN="eEL":MAILTO:eel.darkbrain@gmail.com
GEO:39.3096234;-76.616729
X-APPLE-STRUCTURED-LOCATION;VALUE=URI;X-ADDRESS=The Depot 1728 N Charles St Baltimore MD 21201-5831 Baltimore MD 21201-5831 United States;X-APPLE-RADIUS=500;X-TITLE=1728 N Charles St\, Baltimore\, MD 21201-5831:geo:-76.616729,39.3096234
END:VEVENT
BEGIN:VEVENT
DTSTART;TZID=America/New_York:20300216T210000
DTEND;TZID=America/New_York:20300217T020000
DTSTAMP:20260424T100331
CREATED:20250808T234003Z
LAST-MODIFIED:20250917T140221Z
UID:10001295-1897506000-1897524000@darkmusic.net
SUMMARY:Cryptic: A Goth Night
DESCRIPTION:Join DJ Day Star & eEL as they spin goth\, darkwave\, synthpop\, EBM\, industrial tunes & MORE on the 3rd Saturday of every month at The Depot Baltimore! \nNO COVER / 21+ / DOORS AT 9PM
URL:https://darkmusic.net/event/cryptic-a-goth-night-2/2030-02-16/
LOCATION:The Depot\, 1728 N Charles St\, Baltimore\, MD 21201-5831\, Baltimore\, MD\, 21201-5831\, United States
CATEGORIES:Club Night,Dark Electro,Dark Wave,EBM,FuturePop,Goth,Industrial,Synthpop,Vampire,Witch
ATTACH;FMTTYPE=image/jpeg:https://darkmusic.net/wp-content/uploads/2025/08/Cryptic-2025-flyer-square.jpg
ORGANIZER;CN="eEL":MAILTO:eel.darkbrain@gmail.com
GEO:39.3096234;-76.616729
X-APPLE-STRUCTURED-LOCATION;VALUE=URI;X-ADDRESS=The Depot 1728 N Charles St Baltimore MD 21201-5831 Baltimore MD 21201-5831 United States;X-APPLE-RADIUS=500;X-TITLE=1728 N Charles St\, Baltimore\, MD 21201-5831:geo:-76.616729,39.3096234
END:VEVENT
BEGIN:VEVENT
DTSTART;TZID=America/New_York:20300316T210000
DTEND;TZID=America/New_York:20300317T020000
DTSTAMP:20260424T100331
CREATED:20250808T234003Z
LAST-MODIFIED:20250917T140221Z
UID:10001296-1899925200-1899943200@darkmusic.net
SUMMARY:Cryptic: A Goth Night
DESCRIPTION:Join DJ Day Star & eEL as they spin goth\, darkwave\, synthpop\, EBM\, industrial tunes & MORE on the 3rd Saturday of every month at The Depot Baltimore! \nNO COVER / 21+ / DOORS AT 9PM
URL:https://darkmusic.net/event/cryptic-a-goth-night-2/2030-03-16/
LOCATION:The Depot\, 1728 N Charles St\, Baltimore\, MD 21201-5831\, Baltimore\, MD\, 21201-5831\, United States
CATEGORIES:Club Night,Dark Electro,Dark Wave,EBM,FuturePop,Goth,Industrial,Synthpop,Vampire,Witch
ATTACH;FMTTYPE=image/jpeg:https://darkmusic.net/wp-content/uploads/2025/08/Cryptic-2025-flyer-square.jpg
ORGANIZER;CN="eEL":MAILTO:eel.darkbrain@gmail.com
GEO:39.3096234;-76.616729
X-APPLE-STRUCTURED-LOCATION;VALUE=URI;X-ADDRESS=The Depot 1728 N Charles St Baltimore MD 21201-5831 Baltimore MD 21201-5831 United States;X-APPLE-RADIUS=500;X-TITLE=1728 N Charles St\, Baltimore\, MD 21201-5831:geo:-76.616729,39.3096234
END:VEVENT
BEGIN:VEVENT
DTSTART;TZID=America/New_York:20300420T210000
DTEND;TZID=America/New_York:20300421T020000
DTSTAMP:20260424T100331
CREATED:20250808T234003Z
LAST-MODIFIED:20250917T140221Z
UID:10001297-1902949200-1902967200@darkmusic.net
SUMMARY:Cryptic: A Goth Night
DESCRIPTION:Join DJ Day Star & eEL as they spin goth\, darkwave\, synthpop\, EBM\, industrial tunes & MORE on the 3rd Saturday of every month at The Depot Baltimore! \nNO COVER / 21+ / DOORS AT 9PM
URL:https://darkmusic.net/event/cryptic-a-goth-night-2/2030-04-20/
LOCATION:The Depot\, 1728 N Charles St\, Baltimore\, MD 21201-5831\, Baltimore\, MD\, 21201-5831\, United States
CATEGORIES:Club Night,Dark Electro,Dark Wave,EBM,FuturePop,Goth,Industrial,Synthpop,Vampire,Witch
ATTACH;FMTTYPE=image/jpeg:https://darkmusic.net/wp-content/uploads/2025/08/Cryptic-2025-flyer-square.jpg
ORGANIZER;CN="eEL":MAILTO:eel.darkbrain@gmail.com
GEO:39.3096234;-76.616729
X-APPLE-STRUCTURED-LOCATION;VALUE=URI;X-ADDRESS=The Depot 1728 N Charles St Baltimore MD 21201-5831 Baltimore MD 21201-5831 United States;X-APPLE-RADIUS=500;X-TITLE=1728 N Charles St\, Baltimore\, MD 21201-5831:geo:-76.616729,39.3096234
END:VEVENT
BEGIN:VEVENT
DTSTART;TZID=America/New_York:20300518T210000
DTEND;TZID=America/New_York:20300519T020000
DTSTAMP:20260424T100331
CREATED:20250808T234003Z
LAST-MODIFIED:20250917T140221Z
UID:10001298-1905368400-1905386400@darkmusic.net
SUMMARY:Cryptic: A Goth Night
DESCRIPTION:Join DJ Day Star & eEL as they spin goth\, darkwave\, synthpop\, EBM\, industrial tunes & MORE on the 3rd Saturday of every month at The Depot Baltimore! \nNO COVER / 21+ / DOORS AT 9PM
URL:https://darkmusic.net/event/cryptic-a-goth-night-2/2030-05-18/
LOCATION:The Depot\, 1728 N Charles St\, Baltimore\, MD 21201-5831\, Baltimore\, MD\, 21201-5831\, United States
CATEGORIES:Club Night,Dark Electro,Dark Wave,EBM,FuturePop,Goth,Industrial,Synthpop,Vampire,Witch
ATTACH;FMTTYPE=image/jpeg:https://darkmusic.net/wp-content/uploads/2025/08/Cryptic-2025-flyer-square.jpg
ORGANIZER;CN="eEL":MAILTO:eel.darkbrain@gmail.com
GEO:39.3096234;-76.616729
X-APPLE-STRUCTURED-LOCATION;VALUE=URI;X-ADDRESS=The Depot 1728 N Charles St Baltimore MD 21201-5831 Baltimore MD 21201-5831 United States;X-APPLE-RADIUS=500;X-TITLE=1728 N Charles St\, Baltimore\, MD 21201-5831:geo:-76.616729,39.3096234
END:VEVENT
BEGIN:VEVENT
DTSTART;TZID=America/New_York:20300615T210000
DTEND;TZID=America/New_York:20300616T020000
DTSTAMP:20260424T100331
CREATED:20250808T234003Z
LAST-MODIFIED:20250917T140221Z
UID:10001299-1907787600-1907805600@darkmusic.net
SUMMARY:Cryptic: A Goth Night
DESCRIPTION:Join DJ Day Star & eEL as they spin goth\, darkwave\, synthpop\, EBM\, industrial tunes & MORE on the 3rd Saturday of every month at The Depot Baltimore! \nNO COVER / 21+ / DOORS AT 9PM
URL:https://darkmusic.net/event/cryptic-a-goth-night-2/2030-06-15/
LOCATION:The Depot\, 1728 N Charles St\, Baltimore\, MD 21201-5831\, Baltimore\, MD\, 21201-5831\, United States
CATEGORIES:Club Night,Dark Electro,Dark Wave,EBM,FuturePop,Goth,Industrial,Synthpop,Vampire,Witch
ATTACH;FMTTYPE=image/jpeg:https://darkmusic.net/wp-content/uploads/2025/08/Cryptic-2025-flyer-square.jpg
ORGANIZER;CN="eEL":MAILTO:eel.darkbrain@gmail.com
GEO:39.3096234;-76.616729
X-APPLE-STRUCTURED-LOCATION;VALUE=URI;X-ADDRESS=The Depot 1728 N Charles St Baltimore MD 21201-5831 Baltimore MD 21201-5831 United States;X-APPLE-RADIUS=500;X-TITLE=1728 N Charles St\, Baltimore\, MD 21201-5831:geo:-76.616729,39.3096234
END:VEVENT
BEGIN:VEVENT
DTSTART;TZID=America/New_York:20300720T210000
DTEND;TZID=America/New_York:20300721T020000
DTSTAMP:20260424T100331
CREATED:20250808T234003Z
LAST-MODIFIED:20250917T140221Z
UID:10001300-1910811600-1910829600@darkmusic.net
SUMMARY:Cryptic: A Goth Night
DESCRIPTION:Join DJ Day Star & eEL as they spin goth\, darkwave\, synthpop\, EBM\, industrial tunes & MORE on the 3rd Saturday of every month at The Depot Baltimore! \nNO COVER / 21+ / DOORS AT 9PM
URL:https://darkmusic.net/event/cryptic-a-goth-night-2/2030-07-20/
LOCATION:The Depot\, 1728 N Charles St\, Baltimore\, MD 21201-5831\, Baltimore\, MD\, 21201-5831\, United States
CATEGORIES:Club Night,Dark Electro,Dark Wave,EBM,FuturePop,Goth,Industrial,Synthpop,Vampire,Witch
ATTACH;FMTTYPE=image/jpeg:https://darkmusic.net/wp-content/uploads/2025/08/Cryptic-2025-flyer-square.jpg
ORGANIZER;CN="eEL":MAILTO:eel.darkbrain@gmail.com
GEO:39.3096234;-76.616729
X-APPLE-STRUCTURED-LOCATION;VALUE=URI;X-ADDRESS=The Depot 1728 N Charles St Baltimore MD 21201-5831 Baltimore MD 21201-5831 United States;X-APPLE-RADIUS=500;X-TITLE=1728 N Charles St\, Baltimore\, MD 21201-5831:geo:-76.616729,39.3096234
END:VEVENT
END:VCALENDAR