BEGIN:VCALENDAR
VERSION:2.0
PRODID:-//The Dark Music Network - ECPv6.15.20//NONSGML v1.0//EN
CALSCALE:GREGORIAN
METHOD:PUBLISH
X-ORIGINAL-URL:https://darkmusic.net
X-WR-CALDESC:Events for The Dark Music Network
REFRESH-INTERVAL;VALUE=DURATION:PT1H
X-Robots-Tag:noindex
X-PUBLISHED-TTL:PT1H
BEGIN:VTIMEZONE
TZID:America/New_York
BEGIN:DAYLIGHT
TZOFFSETFROM:-0500
TZOFFSETTO:-0400
TZNAME:EDT
DTSTART:20240310T070000
END:DAYLIGHT
BEGIN:STANDARD
TZOFFSETFROM:-0400
TZOFFSETTO:-0500
TZNAME:EST
DTSTART:20241103T060000
END:STANDARD
BEGIN:DAYLIGHT
TZOFFSETFROM:-0500
TZOFFSETTO:-0400
TZNAME:EDT
DTSTART:20250309T070000
END:DAYLIGHT
BEGIN:STANDARD
TZOFFSETFROM:-0400
TZOFFSETTO:-0500
TZNAME:EST
DTSTART:20251102T060000
END:STANDARD
BEGIN:DAYLIGHT
TZOFFSETFROM:-0500
TZOFFSETTO:-0400
TZNAME:EDT
DTSTART:20260308T070000
END:DAYLIGHT
BEGIN:STANDARD
TZOFFSETFROM:-0400
TZOFFSETTO:-0500
TZNAME:EST
DTSTART:20261101T060000
END:STANDARD
BEGIN:DAYLIGHT
TZOFFSETFROM:-0500
TZOFFSETTO:-0400
TZNAME:EDT
DTSTART:20270314T070000
END:DAYLIGHT
BEGIN:STANDARD
TZOFFSETFROM:-0400
TZOFFSETTO:-0500
TZNAME:EST
DTSTART:20271107T060000
END:STANDARD
END:VTIMEZONE
BEGIN:VEVENT
DTSTART;TZID=America/New_York:20260418T210000
DTEND;TZID=America/New_York:20260419T020000
DTSTAMP:20260423T185941
CREATED:20250808T234003Z
LAST-MODIFIED:20250917T140221Z
UID:10001249-1776546000-1776564000@darkmusic.net
SUMMARY:Cryptic: A Goth Night
DESCRIPTION:Join DJ Day Star & eEL as they spin goth\, darkwave\, synthpop\, EBM\, industrial tunes & MORE on the 3rd Saturday of every month at The Depot Baltimore! \nNO COVER / 21+ / DOORS AT 9PM
URL:https://darkmusic.net/event/cryptic-a-goth-night-2/2026-04-18/
LOCATION:The Depot\, 1728 N Charles St\, Baltimore\, MD 21201-5831\, Baltimore\, MD\, 21201-5831\, United States
CATEGORIES:Club Night,Dark Electro,Dark Wave,EBM,FuturePop,Goth,Industrial,Synthpop,Vampire,Witch
ATTACH;FMTTYPE=image/jpeg:https://darkmusic.net/wp-content/uploads/2025/08/Cryptic-2025-flyer-square.jpg
ORGANIZER;CN="eEL":MAILTO:eel.darkbrain@gmail.com
GEO:39.3096234;-76.616729
X-APPLE-STRUCTURED-LOCATION;VALUE=URI;X-ADDRESS=The Depot 1728 N Charles St Baltimore MD 21201-5831 Baltimore MD 21201-5831 United States;X-APPLE-RADIUS=500;X-TITLE=1728 N Charles St\, Baltimore\, MD 21201-5831:geo:-76.616729,39.3096234
END:VEVENT
BEGIN:VEVENT
DTSTART;TZID=America/New_York:20260321T210000
DTEND;TZID=America/New_York:20260322T020000
DTSTAMP:20260423T185941
CREATED:20250808T234003Z
LAST-MODIFIED:20250917T140221Z
UID:10001248-1774126800-1774144800@darkmusic.net
SUMMARY:Cryptic: A Goth Night
DESCRIPTION:Join DJ Day Star & eEL as they spin goth\, darkwave\, synthpop\, EBM\, industrial tunes & MORE on the 3rd Saturday of every month at The Depot Baltimore! \nNO COVER / 21+ / DOORS AT 9PM
URL:https://darkmusic.net/event/cryptic-a-goth-night-2/2026-03-21/
LOCATION:The Depot\, 1728 N Charles St\, Baltimore\, MD 21201-5831\, Baltimore\, MD\, 21201-5831\, United States
CATEGORIES:Club Night,Dark Electro,Dark Wave,EBM,FuturePop,Goth,Industrial,Synthpop,Vampire,Witch
ATTACH;FMTTYPE=image/jpeg:https://darkmusic.net/wp-content/uploads/2025/08/Cryptic-2025-flyer-square.jpg
ORGANIZER;CN="eEL":MAILTO:eel.darkbrain@gmail.com
GEO:39.3096234;-76.616729
X-APPLE-STRUCTURED-LOCATION;VALUE=URI;X-ADDRESS=The Depot 1728 N Charles St Baltimore MD 21201-5831 Baltimore MD 21201-5831 United States;X-APPLE-RADIUS=500;X-TITLE=1728 N Charles St\, Baltimore\, MD 21201-5831:geo:-76.616729,39.3096234
END:VEVENT
BEGIN:VEVENT
DTSTART;TZID=America/New_York:20260221T210000
DTEND;TZID=America/New_York:20260222T020000
DTSTAMP:20260423T185941
CREATED:20250808T234003Z
LAST-MODIFIED:20250917T140221Z
UID:10001247-1771707600-1771725600@darkmusic.net
SUMMARY:Cryptic: A Goth Night
DESCRIPTION:Join DJ Day Star & eEL as they spin goth\, darkwave\, synthpop\, EBM\, industrial tunes & MORE on the 3rd Saturday of every month at The Depot Baltimore! \nNO COVER / 21+ / DOORS AT 9PM
URL:https://darkmusic.net/event/cryptic-a-goth-night-2/2026-02-21/
LOCATION:The Depot\, 1728 N Charles St\, Baltimore\, MD 21201-5831\, Baltimore\, MD\, 21201-5831\, United States
CATEGORIES:Club Night,Dark Electro,Dark Wave,EBM,FuturePop,Goth,Industrial,Synthpop,Vampire,Witch
ATTACH;FMTTYPE=image/jpeg:https://darkmusic.net/wp-content/uploads/2025/08/Cryptic-2025-flyer-square.jpg
ORGANIZER;CN="eEL":MAILTO:eel.darkbrain@gmail.com
GEO:39.3096234;-76.616729
X-APPLE-STRUCTURED-LOCATION;VALUE=URI;X-ADDRESS=The Depot 1728 N Charles St Baltimore MD 21201-5831 Baltimore MD 21201-5831 United States;X-APPLE-RADIUS=500;X-TITLE=1728 N Charles St\, Baltimore\, MD 21201-5831:geo:-76.616729,39.3096234
END:VEVENT
BEGIN:VEVENT
DTSTART;TZID=America/New_York:20260117T210000
DTEND;TZID=America/New_York:20260118T020000
DTSTAMP:20260423T185941
CREATED:20250808T234003Z
LAST-MODIFIED:20250917T140221Z
UID:10001246-1768683600-1768701600@darkmusic.net
SUMMARY:Cryptic: A Goth Night
DESCRIPTION:Join DJ Day Star & eEL as they spin goth\, darkwave\, synthpop\, EBM\, industrial tunes & MORE on the 3rd Saturday of every month at The Depot Baltimore! \nNO COVER / 21+ / DOORS AT 9PM
URL:https://darkmusic.net/event/cryptic-a-goth-night-2/2026-01-17/
LOCATION:The Depot\, 1728 N Charles St\, Baltimore\, MD 21201-5831\, Baltimore\, MD\, 21201-5831\, United States
CATEGORIES:Club Night,Dark Electro,Dark Wave,EBM,FuturePop,Goth,Industrial,Synthpop,Vampire,Witch
ATTACH;FMTTYPE=image/jpeg:https://darkmusic.net/wp-content/uploads/2025/08/Cryptic-2025-flyer-square.jpg
ORGANIZER;CN="eEL":MAILTO:eel.darkbrain@gmail.com
GEO:39.3096234;-76.616729
X-APPLE-STRUCTURED-LOCATION;VALUE=URI;X-ADDRESS=The Depot 1728 N Charles St Baltimore MD 21201-5831 Baltimore MD 21201-5831 United States;X-APPLE-RADIUS=500;X-TITLE=1728 N Charles St\, Baltimore\, MD 21201-5831:geo:-76.616729,39.3096234
END:VEVENT
BEGIN:VEVENT
DTSTART;TZID=America/New_York:20251220T210000
DTEND;TZID=America/New_York:20251221T020000
DTSTAMP:20260423T185941
CREATED:20250808T234003Z
LAST-MODIFIED:20250917T140221Z
UID:10001245-1766264400-1766282400@darkmusic.net
SUMMARY:Cryptic: A Goth Night
DESCRIPTION:Join DJ Day Star & eEL as they spin goth\, darkwave\, synthpop\, EBM\, industrial tunes & MORE on the 3rd Saturday of every month at The Depot Baltimore! \nNO COVER / 21+ / DOORS AT 9PM
URL:https://darkmusic.net/event/cryptic-a-goth-night-2/2025-12-20/
LOCATION:The Depot\, 1728 N Charles St\, Baltimore\, MD 21201-5831\, Baltimore\, MD\, 21201-5831\, United States
CATEGORIES:Club Night,Dark Electro,Dark Wave,EBM,FuturePop,Goth,Industrial,Synthpop,Vampire,Witch
ATTACH;FMTTYPE=image/jpeg:https://darkmusic.net/wp-content/uploads/2025/08/Cryptic-2025-flyer-square.jpg
ORGANIZER;CN="eEL":MAILTO:eel.darkbrain@gmail.com
GEO:39.3096234;-76.616729
X-APPLE-STRUCTURED-LOCATION;VALUE=URI;X-ADDRESS=The Depot 1728 N Charles St Baltimore MD 21201-5831 Baltimore MD 21201-5831 United States;X-APPLE-RADIUS=500;X-TITLE=1728 N Charles St\, Baltimore\, MD 21201-5831:geo:-76.616729,39.3096234
END:VEVENT
BEGIN:VEVENT
DTSTART;TZID=America/New_York:20251115T210000
DTEND;TZID=America/New_York:20251116T020000
DTSTAMP:20260423T185941
CREATED:20250808T234003Z
LAST-MODIFIED:20250917T140221Z
UID:10001244-1763240400-1763258400@darkmusic.net
SUMMARY:Cryptic: A Goth Night
DESCRIPTION:Join DJ Day Star & eEL as they spin goth\, darkwave\, synthpop\, EBM\, industrial tunes & MORE on the 3rd Saturday of every month at The Depot Baltimore! \nNO COVER / 21+ / DOORS AT 9PM
URL:https://darkmusic.net/event/cryptic-a-goth-night-2/2025-11-15/
LOCATION:The Depot\, 1728 N Charles St\, Baltimore\, MD 21201-5831\, Baltimore\, MD\, 21201-5831\, United States
CATEGORIES:Club Night,Dark Electro,Dark Wave,EBM,FuturePop,Goth,Industrial,Synthpop,Vampire,Witch
ATTACH;FMTTYPE=image/jpeg:https://darkmusic.net/wp-content/uploads/2025/08/Cryptic-2025-flyer-square.jpg
ORGANIZER;CN="eEL":MAILTO:eel.darkbrain@gmail.com
GEO:39.3096234;-76.616729
X-APPLE-STRUCTURED-LOCATION;VALUE=URI;X-ADDRESS=The Depot 1728 N Charles St Baltimore MD 21201-5831 Baltimore MD 21201-5831 United States;X-APPLE-RADIUS=500;X-TITLE=1728 N Charles St\, Baltimore\, MD 21201-5831:geo:-76.616729,39.3096234
END:VEVENT
BEGIN:VEVENT
DTSTART;TZID=America/New_York:20251101T203000
DTEND;TZID=America/New_York:20251102T020000
DTSTAMP:20260423T185941
CREATED:20251028T171618Z
LAST-MODIFIED:20251028T171618Z
UID:10001319-1762029000-1762048800@darkmusic.net
SUMMARY:ATMOSPHERE #127: AFTER HALLOWEEN PARTY
DESCRIPTION:Come join us for an evening of Goth music and dancing Halloween Style!!!\nDJ Misstep from Club Terraform in Columbia\, SC will be providing the soundtrack for the evening spinning the spooky tunes.\nDJ Misstep: https://www.facebook.com/MisStepProject/\nCostumes encouraged!!!\nEvent is always 18+.\nDoors @ 8:30pm every first Saturday.\n$10 Cover\nBRING CASH & IDs FOR ADMISSION!!!\nLocated in beautiful downtown Augusta\, Ga. at the corner of 8th st. and Ellis St.\nLe Chat Noir is an off-broad\, black box theatre with a year-round production schedule and season tickets available. \nHome
URL:https://darkmusic.net/event/atmosphere-127-after-halloween-party/
LOCATION:Le Chat Noir\, 304 8th St\, Augusta\, G\, 30901\, United States
CATEGORIES:Aggrotech,Club Night,Dark Alternative,Dark Dramatic Electro,Dark Electro,Dark Wave,EBM,FuturePop,Goth,Industrial,Post Punk,Synthpop,Vampire,Wiccan,Witch
ATTACH;FMTTYPE=image/jpeg:https://darkmusic.net/wp-content/uploads/2025/10/560460047_813135318319341_7287481591158109581_n.jpg
ORGANIZER;CN="DJ MISSTEP":MAILTO:clubterraform@gmail.com
GEO:33.474019;-81.9657975
X-APPLE-STRUCTURED-LOCATION;VALUE=URI;X-ADDRESS=Le Chat Noir 304 8th St Augusta G 30901 United States;X-APPLE-RADIUS=500;X-TITLE=304 8th St:geo:-81.9657975,33.474019
END:VEVENT
BEGIN:VEVENT
DTSTART;TZID=America/New_York:20251018T210000
DTEND;TZID=America/New_York:20251019T020000
DTSTAMP:20260423T185941
CREATED:20250808T234003Z
LAST-MODIFIED:20250917T140221Z
UID:10001243-1760821200-1760839200@darkmusic.net
SUMMARY:Cryptic: A Goth Night
DESCRIPTION:Join DJ Day Star & eEL as they spin goth\, darkwave\, synthpop\, EBM\, industrial tunes & MORE on the 3rd Saturday of every month at The Depot Baltimore! \nNO COVER / 21+ / DOORS AT 9PM
URL:https://darkmusic.net/event/cryptic-a-goth-night-2/2025-10-18/
LOCATION:The Depot\, 1728 N Charles St\, Baltimore\, MD 21201-5831\, Baltimore\, MD\, 21201-5831\, United States
CATEGORIES:Club Night,Dark Electro,Dark Wave,EBM,FuturePop,Goth,Industrial,Synthpop,Vampire,Witch
ATTACH;FMTTYPE=image/jpeg:https://darkmusic.net/wp-content/uploads/2025/08/Cryptic-2025-flyer-square.jpg
ORGANIZER;CN="eEL":MAILTO:eel.darkbrain@gmail.com
GEO:39.3096234;-76.616729
X-APPLE-STRUCTURED-LOCATION;VALUE=URI;X-ADDRESS=The Depot 1728 N Charles St Baltimore MD 21201-5831 Baltimore MD 21201-5831 United States;X-APPLE-RADIUS=500;X-TITLE=1728 N Charles St\, Baltimore\, MD 21201-5831:geo:-76.616729,39.3096234
END:VEVENT
BEGIN:VEVENT
DTSTART;TZID=America/New_York:20250920T210000
DTEND;TZID=America/New_York:20250921T020000
DTSTAMP:20260423T185941
CREATED:20250808T234003Z
LAST-MODIFIED:20250917T140221Z
UID:10001242-1758402000-1758420000@darkmusic.net
SUMMARY:Cryptic: A Goth Night
DESCRIPTION:Join DJ Day Star & eEL as they spin goth\, darkwave\, synthpop\, EBM\, industrial tunes & MORE on the 3rd Saturday of every month at The Depot Baltimore! \nNO COVER / 21+ / DOORS AT 9PM
URL:https://darkmusic.net/event/cryptic-a-goth-night-2/2025-09-20/
LOCATION:The Depot\, 1728 N Charles St\, Baltimore\, MD 21201-5831\, Baltimore\, MD\, 21201-5831\, United States
CATEGORIES:Club Night,Dark Electro,Dark Wave,EBM,FuturePop,Goth,Industrial,Synthpop,Vampire,Witch
ATTACH;FMTTYPE=image/jpeg:https://darkmusic.net/wp-content/uploads/2025/08/Cryptic-2025-flyer-square.jpg
ORGANIZER;CN="eEL":MAILTO:eel.darkbrain@gmail.com
GEO:39.3096234;-76.616729
X-APPLE-STRUCTURED-LOCATION;VALUE=URI;X-ADDRESS=The Depot 1728 N Charles St Baltimore MD 21201-5831 Baltimore MD 21201-5831 United States;X-APPLE-RADIUS=500;X-TITLE=1728 N Charles St\, Baltimore\, MD 21201-5831:geo:-76.616729,39.3096234
END:VEVENT
BEGIN:VEVENT
DTSTART;TZID=America/New_York:20250816T210000
DTEND;TZID=America/New_York:20250817T020000
DTSTAMP:20260423T185941
CREATED:20250808T234003Z
LAST-MODIFIED:20250917T140221Z
UID:10001241-1755378000-1755396000@darkmusic.net
SUMMARY:Cryptic: A Goth Night
DESCRIPTION:Join DJ Day Star & eEL as they spin goth\, darkwave\, synthpop\, EBM\, industrial tunes & MORE on the 3rd Saturday of every month at The Depot Baltimore! \nNO COVER / 21+ / DOORS AT 9PM
URL:https://darkmusic.net/event/cryptic-a-goth-night-2/2025-08-16/
LOCATION:The Depot\, 1728 N Charles St\, Baltimore\, MD 21201-5831\, Baltimore\, MD\, 21201-5831\, United States
CATEGORIES:Club Night,Dark Electro,Dark Wave,EBM,FuturePop,Goth,Industrial,Synthpop,Vampire,Witch
ATTACH;FMTTYPE=image/jpeg:https://darkmusic.net/wp-content/uploads/2025/08/Cryptic-2025-flyer-square.jpg
ORGANIZER;CN="eEL":MAILTO:eel.darkbrain@gmail.com
GEO:39.3096234;-76.616729
X-APPLE-STRUCTURED-LOCATION;VALUE=URI;X-ADDRESS=The Depot 1728 N Charles St Baltimore MD 21201-5831 Baltimore MD 21201-5831 United States;X-APPLE-RADIUS=500;X-TITLE=1728 N Charles St\, Baltimore\, MD 21201-5831:geo:-76.616729,39.3096234
END:VEVENT
BEGIN:VEVENT
DTSTART;TZID=America/New_York:20250816T203000
DTEND;TZID=America/New_York:20250817T010000
DTSTAMP:20260423T185941
CREATED:20250807T172603Z
LAST-MODIFIED:20250807T172603Z
UID:10001240-1755376200-1755392400@darkmusic.net
SUMMARY:CLUB TERRAFORM - DJ MISSTEP and guest DJ DREADFUL
DESCRIPTION:Join us for a night of dark dance with DJ MISSTEP and special guest DJ DREADFUL on Saturday August 16th.\ndoors at 8:30pm.\nmusic: Goth\, Electro\, Dark Dance\, Industrial\, Darkwave and more…\n18+ with valid ID $10 at the door.\n21+ with valid ID $10 at the door.\nexisting membership discount $5 entry! (must have membership card!)\nVendors- Looking Glass Insects and Passion+Chain\nFood TBA
URL:https://darkmusic.net/event/club-terraform-dj-misstep-and-guest-dj-dreadful/
LOCATION:Elevate Social Club – West Columbia SC\, 735 Meeting St\, West Columbia\, S\, 29169\, United States
CATEGORIES:Club Night,Cyber,Dark Dramatic Electro,Dark Electro,Dark Wave,Goth,Industrial,Post Punk,Vampire,Wiccan,Witch
ATTACH;FMTTYPE=image/jpeg:https://darkmusic.net/wp-content/uploads/2025/08/8-16-2025-FT-emmy-dreadful-goth-night-at-elevate.jpg
ORGANIZER;CN="DJ MISSTEP":MAILTO:clubterraform@gmail.com
GEO:33.9920839;-81.0636411
X-APPLE-STRUCTURED-LOCATION;VALUE=URI;X-ADDRESS=Elevate Social Club – West Columbia SC 735 Meeting St West Columbia S 29169 United States;X-APPLE-RADIUS=500;X-TITLE=735 Meeting St:geo:-81.0636411,33.9920839
END:VEVENT
BEGIN:VEVENT
DTSTART;TZID=America/New_York:20250725T210000
DTEND;TZID=America/New_York:20250726T013000
DTSTAMP:20260423T185941
CREATED:20250716T220515Z
LAST-MODIFIED:20250716T220707Z
UID:10001236-1753477200-1753493400@darkmusic.net
SUMMARY:Aeternum
DESCRIPTION:Attend an evening of darkness\, dance\, libation\, and abandon. \nSonus Praesentator’s Alan Acid\, Nicholai\, eEL\, and Ruin. \nFREE ENTRY!\nFriday\, July 25\, 2025\n9:00 p.m. – 1:30 a.m. \nHoly Frijoles \n912 W 36th St\, Baltimore\, MD 21211 \nContactus Signum Grex:\nEmail: aeternumgothicus@gmail.com\nRSVP: Partiful\nWebsite: sites.google.com/view/aeternum-gothicus \n“A wild longing for strong emotions and sensations seethes in me\, a rage against this toneless\, flat\, normal\, and sterile life.” — Hermann Hesse\, Steppenwolf
URL:https://darkmusic.net/event/aeternum/
LOCATION:Holy Frijoles\, 908-912 W 36th St.\, Baltimore\, MD\, 21211\, United States
CATEGORIES:Club Night,Cyber,Dark Dramatic Electro,Dark Electro,EBM,FuturePop,Goth,Industrial,Synthpop,Vampire,Wiccan,Witch
ATTACH;FMTTYPE=image/png:https://darkmusic.net/wp-content/uploads/2025/07/Aeternum-origflyer-v4.png
ORGANIZER;CN="eEL":MAILTO:eel.darkbrain@gmail.com
END:VEVENT
BEGIN:VEVENT
DTSTART;TZID=America/New_York:20250719T210000
DTEND;TZID=America/New_York:20250720T020000
DTSTAMP:20260423T185941
CREATED:20250716T213709Z
LAST-MODIFIED:20250716T215434Z
UID:10001235-1752958800-1752976800@darkmusic.net
SUMMARY:Cryptic: A Goth Night
DESCRIPTION:Join resident DJs Day Star and eEL on the 3RD SATURDAY OF EACH MONTH for a Goth + Industrial + Darkwave club night at The Depot Baltimore. Possible art/craft vendors\, as well as guest DJs\, will be announced monthly. Follow the Cryptic on Facebook. \nFREE / 21+ / Doors 9PM\nTheDepot Baltimore\n1728 N Charles St\, Baltimore\, MD 21201 \nPRO-TIP: Listen to past nights: mixcloud.com/electronic-eEL
URL:https://darkmusic.net/event/cryptic-a-goth-night/2025-07-19/
LOCATION:The Depot\, 1728 N Charles St\, Baltimore\, MD 21201-5831\, Baltimore\, MD\, 21201-5831\, United States
CATEGORIES:Club Night,Dark Electro,Dark Wave,EBM,FuturePop,Goth,Industrial,Synthpop,Vampire,Wiccan,Witch
ATTACH;FMTTYPE=image/jpeg:https://darkmusic.net/wp-content/uploads/2025/07/Cryptic-2025-flyer-5x7-2.jpg
ORGANIZER;CN="eEL":MAILTO:eel.darkbrain@gmail.com
GEO:39.3096234;-76.616729
X-APPLE-STRUCTURED-LOCATION;VALUE=URI;X-ADDRESS=The Depot 1728 N Charles St Baltimore MD 21201-5831 Baltimore MD 21201-5831 United States;X-APPLE-RADIUS=500;X-TITLE=1728 N Charles St\, Baltimore\, MD 21201-5831:geo:-76.616729,39.3096234
END:VEVENT
BEGIN:VEVENT
DTSTART;TZID=America/New_York:20250531T200000
DTEND;TZID=America/New_York:20250601T130000
DTSTAMP:20260423T185941
CREATED:20250504T223200Z
LAST-MODIFIED:20250530T000136Z
UID:10001205-1748721600-1748782800@darkmusic.net
SUMMARY:Vamp Club – ft DJ MOTH – Club Terraform
DESCRIPTION:Join us for a very special edition of CLUB TERRAFORM!!!\nVamp Club featuring DJ MOTH!\nspecial guest Jenn Mott Redd pro music photographer!\nDress to impress and get some great photos while you’re here!\nguest vendors – Looking Glass Insects & Ornjkat.\nGet your blood pumping on the dance floor to the very best of vampiric hits – Goth Post-Punk Darkwave Industrial Dark Techno & more.\nThere will be BLOOD BAG DRINK SPECIALS (While Supplies Last)!\n21+ ONLY\, $10 cash entry gets you in and a membership to Elevate SC. (plz have cash for door\, there will be a fee for credit)\nFood TBA.
URL:https://darkmusic.net/event/vamp-club-ft-dj-moth-club-terraform/
LOCATION:Elevate Social Club – West Columbia SC\, 735 Meeting St\, West Columbia\, S\, 29169\, United States
CATEGORIES:Club Night,Dark Dramatic Electro,Dark Electro,Dark Wave,EBM,Goth,Industrial,Post Punk,Synthpop,Vampire,Wiccan,Witch
ATTACH;FMTTYPE=image/jpeg:https://darkmusic.net/wp-content/uploads/2025/05/5-31-25-ft-moth-edited-new2.jpg
ORGANIZER;CN="DJ MISSTEP":MAILTO:clubterraform@gmail.com
GEO:33.9920839;-81.0636411
X-APPLE-STRUCTURED-LOCATION;VALUE=URI;X-ADDRESS=Elevate Social Club – West Columbia SC 735 Meeting St West Columbia S 29169 United States;X-APPLE-RADIUS=500;X-TITLE=735 Meeting St:geo:-81.0636411,33.9920839
END:VEVENT
BEGIN:VEVENT
DTSTART;TZID=America/New_York:20250522T190000
DTEND;TZID=America/New_York:20250522T230000
DTSTAMP:20260423T185941
CREATED:20250227T040127Z
LAST-MODIFIED:20250327T190220Z
UID:10000015-1747940400-1747954800@darkmusic.net
SUMMARY:Normoria w. Broken Nails\, Corrozzion Star Systems\, This Droid
DESCRIPTION:Realm of Angels presents Normoria and Broken Nails on their east coast mini tour! Showcasing an industrial music showcase for the senses. Also featuring local openers Corrozzion Star Systems and This Droid!\nTickets here\nDoors at 7pm\nShow at 8pm\n$15 ahead/$20 doors\n18+\, minors allowed with adult\nRead on for band details! \nNORMORIA is a Swedish band whose uniquely dramatic sound is a fusion of various elements\, primarily dark electro and industrial. Expressive power\, unapologetic themes\, and a blend of obscure electrifying energized sounds are signature features of the band. They have performed at various European festivals and shared the stage with many great bands\, including Agonoize\, Test Dept\, Priest\, Beborn Beton\, Icon of Coil\, Project Pitchfork\, Alien Vampires\, L’âme Immortelle\, Suicide Commando\, and many more.\nfacebook.com/Normoria \nBroken Nails is An Electronic solo artist\, inspired by Darkwave\, Minimal Synth\, Industrial and EBM sounds. Primarily composed from analogue synthesizers and drum machines. Focusing on strong percussion\, passionate vocals\, synth modulation and rhythmic melodies.\nfacebook.com/brokennailsmusic \nCorrozzion Star Systems started as a hobby of making music by David Quijano. Experimenting with music in high school in 1998 when he got a copy of Fruity Loops\, he started experimenting with making his sounds with the influences of Aggrotech\, Industrial\, and EBM. He wanted to stand out from the “traditional” sounds but still give the vibe\, Hence\, Corrozzion Star Systems was born!\nfacebook.com/CorrozzionStarSystemsBand \nThis Droid is a Dark\, Broken electronic music side project from Roy Retrofit of Red This Ever\nfacebook.com/thisdroidisfriend
URL:https://darkmusic.net/event/normoria-w-broken-nails-corrozzion-star-systems-this-droid/
LOCATION:G
CATEGORIES:EBM,Goth,Vampire,Wiccan,Witch
ATTACH;FMTTYPE=image/jpeg:https://darkmusic.net/wp-content/uploads/2025/02/Phantom-Power-Event.jpg
END:VEVENT
END:VCALENDAR