BEGIN:VCALENDAR
VERSION:2.0
PRODID:-//The Dark Music Network - ECPv6.15.20//NONSGML v1.0//EN
CALSCALE:GREGORIAN
METHOD:PUBLISH
X-WR-CALNAME:The Dark Music Network
X-ORIGINAL-URL:https://darkmusic.net
X-WR-CALDESC:Events for The Dark Music Network
REFRESH-INTERVAL;VALUE=DURATION:PT1H
X-Robots-Tag:noindex
X-PUBLISHED-TTL:PT1H
BEGIN:VTIMEZONE
TZID:America/New_York
BEGIN:DAYLIGHT
TZOFFSETFROM:-0500
TZOFFSETTO:-0400
TZNAME:EDT
DTSTART:20240310T070000
END:DAYLIGHT
BEGIN:STANDARD
TZOFFSETFROM:-0400
TZOFFSETTO:-0500
TZNAME:EST
DTSTART:20241103T060000
END:STANDARD
BEGIN:DAYLIGHT
TZOFFSETFROM:-0500
TZOFFSETTO:-0400
TZNAME:EDT
DTSTART:20250309T070000
END:DAYLIGHT
BEGIN:STANDARD
TZOFFSETFROM:-0400
TZOFFSETTO:-0500
TZNAME:EST
DTSTART:20251102T060000
END:STANDARD
BEGIN:DAYLIGHT
TZOFFSETFROM:-0500
TZOFFSETTO:-0400
TZNAME:EDT
DTSTART:20260308T070000
END:DAYLIGHT
BEGIN:STANDARD
TZOFFSETFROM:-0400
TZOFFSETTO:-0500
TZNAME:EST
DTSTART:20261101T060000
END:STANDARD
END:VTIMEZONE
BEGIN:VEVENT
DTSTART;TZID=America/New_York:20250824T120000
DTEND;TZID=America/New_York:20250824T130000
DTSTAMP:20260424T114120
CREATED:20250815T010418Z
LAST-MODIFIED:20250817T204711Z
UID:10001303-1756036800-1756040400@darkmusic.net
SUMMARY:Replay of New Music O’ Clock Hosted by Doors In The Labyrinth
DESCRIPTION:Sunday\, August 24 – REPLAY of New Music O’ Clock Hosted By: \nDoors In The Labyrinth \nFeaturing Music Videos By: \nBroken Nails – On Strict Tempo – Courtesy of Vox Sinistra \nDoors In The Labyrinth (Pittsburgh\, Pennsylvania\, U.S.) \nESA (UK) – Featuring Dancer Chloe Briggs – On Negative Gain \nImmortal Girlfriend (Milwaukee\, Wisconsin\, U.S.) \nLoveth Besamoh (From Cameroon\, Now Based In Rotterdam\,Netherlands) – Courtesy of Nightime Asylum PR \nPink Panther Project (London\, UK) – Courtesy of The Circle Music and 3nation PR \nShe 1 Him 2 (Cleveland\, Ohio\, U.S.) \nStefan Netschio (Beborn Beton) & A State Of Flux \nSummore (Columbus\, Ohio\, U.S.) \nWho Saw Her Die? (Louisville\, Kentucky\, U.S.) \nBegins \n9am PT / 10am CDMX / 11am CT / Noon ET \n1pm ART / 4pm GMT / 5pm BST / 6pm CEST \n3am (Monday\, August 25) Sydney\, Australia \n5am (Monday\, August 25) Aotearoa \nBroadcasting On https://twitch.tv/eMpTyVeeTV
URL:https://darkmusic.net/event/replay-of-new-music-o-clock-hosted-by-doors-in-the-labyrinth/
LOCATION:Twitch
CATEGORIES:Dark Dramatic Electro,Dark Electro,Dark Wave,Goth,Post Punk,Synthpop
ATTACH;FMTTYPE=image/jpeg:https://darkmusic.net/wp-content/uploads/2025/08/532339895_1734972683803377_1226577584422145519_n.jpg
ORGANIZER;CN="eMpTyVeeTV":MAILTO:eMpTyVee.TV@gmail.com
GEO:55.378051;-3.435973
END:VEVENT
END:VCALENDAR