BEGIN:VCALENDAR
VERSION:2.0
PRODID:-//The Dark Music Network - ECPv6.15.20//NONSGML v1.0//EN
CALSCALE:GREGORIAN
METHOD:PUBLISH
X-WR-CALNAME:The Dark Music Network
X-ORIGINAL-URL:https://darkmusic.net
X-WR-CALDESC:Events for The Dark Music Network
REFRESH-INTERVAL;VALUE=DURATION:PT1H
X-Robots-Tag:noindex
X-PUBLISHED-TTL:PT1H
BEGIN:VTIMEZONE
TZID:Europe/London
BEGIN:DAYLIGHT
TZOFFSETFROM:+0000
TZOFFSETTO:+0100
TZNAME:BST
DTSTART:20240331T010000
END:DAYLIGHT
BEGIN:STANDARD
TZOFFSETFROM:+0100
TZOFFSETTO:+0000
TZNAME:GMT
DTSTART:20241027T010000
END:STANDARD
BEGIN:DAYLIGHT
TZOFFSETFROM:+0000
TZOFFSETTO:+0100
TZNAME:BST
DTSTART:20250330T010000
END:DAYLIGHT
BEGIN:STANDARD
TZOFFSETFROM:+0100
TZOFFSETTO:+0000
TZNAME:GMT
DTSTART:20251026T010000
END:STANDARD
BEGIN:DAYLIGHT
TZOFFSETFROM:+0000
TZOFFSETTO:+0100
TZNAME:BST
DTSTART:20260329T010000
END:DAYLIGHT
BEGIN:STANDARD
TZOFFSETFROM:+0100
TZOFFSETTO:+0000
TZNAME:GMT
DTSTART:20261025T010000
END:STANDARD
END:VTIMEZONE
BEGIN:VEVENT
DTSTART;TZID=Europe/London:20250412T210000
DTEND;TZID=Europe/London:20250413T020000
DTSTAMP:20260425T075949
CREATED:20250304T201601Z
LAST-MODIFIED:20250305T212236Z
UID:10000383-1744491600-1744509600@darkmusic.net
SUMMARY:The Belfry – April 2025
DESCRIPTION:Welcome bats and fiends to The Belfry. Your host\, Mortasha Kinski\, and guest DJs Yggdrasil and Exploding Boy from Undead Decadance Party (Portugal) will be spinning music with the flavours of post-punk\, goth\, dark-wave\, new-wave and new romantic from the past 4 decades or so.\nYour DJs will be:– Yggdrasil (Undead Decadance Party\, Noir Clubbing – Lisbon)– Exploding Boy (Undead Decadance PartyNoir Clubbing – Lisbon)– Mortasha Kinski\n\nAdvance tickets at £5 are available now. Cover charge on the night will be £7. Downstairs at The Albany has a separate entrance from the street to the basement venue. Nearest tube is Great Portland Street (opposite the venue).
URL:https://darkmusic.net/event/the-belfry-april-2025/
LOCATION:Downstairs at The Albany\, 240 Great Portland Street\, London\, W1W 5QU\, United Kingdom
CATEGORIES:Club Night,Dark Wave,Goth,Post Punk
ATTACH;FMTTYPE=image/jpeg:https://darkmusic.net/wp-content/uploads/2025/03/TheBelfry_250412DJs_1080.jpg
ORGANIZER;CN="Mortasha Kinski":MAILTO:mortasha.kinski@gmail.com
GEO:51.523326;-0.1439599
X-APPLE-STRUCTURED-LOCATION;VALUE=URI;X-ADDRESS=Downstairs at The Albany 240 Great Portland Street London W1W 5QU United Kingdom;X-APPLE-RADIUS=500;X-TITLE=240 Great Portland Street:geo:-0.1439599,51.523326
END:VEVENT
END:VCALENDAR