BEGIN:VCALENDAR
VERSION:2.0
PRODID:-//The Dark Music Network - ECPv6.15.20//NONSGML v1.0//EN
CALSCALE:GREGORIAN
METHOD:PUBLISH
X-WR-CALNAME:The Dark Music Network
X-ORIGINAL-URL:https://darkmusic.net
X-WR-CALDESC:Events for The Dark Music Network
REFRESH-INTERVAL;VALUE=DURATION:PT1H
X-Robots-Tag:noindex
X-PUBLISHED-TTL:PT1H
BEGIN:VTIMEZONE
TZID:America/New_York
BEGIN:DAYLIGHT
TZOFFSETFROM:-0500
TZOFFSETTO:-0400
TZNAME:EDT
DTSTART:20240310T070000
END:DAYLIGHT
BEGIN:STANDARD
TZOFFSETFROM:-0400
TZOFFSETTO:-0500
TZNAME:EST
DTSTART:20241103T060000
END:STANDARD
BEGIN:DAYLIGHT
TZOFFSETFROM:-0500
TZOFFSETTO:-0400
TZNAME:EDT
DTSTART:20250309T070000
END:DAYLIGHT
BEGIN:STANDARD
TZOFFSETFROM:-0400
TZOFFSETTO:-0500
TZNAME:EST
DTSTART:20251102T060000
END:STANDARD
BEGIN:DAYLIGHT
TZOFFSETFROM:-0500
TZOFFSETTO:-0400
TZNAME:EDT
DTSTART:20260308T070000
END:DAYLIGHT
BEGIN:STANDARD
TZOFFSETFROM:-0400
TZOFFSETTO:-0500
TZNAME:EST
DTSTART:20261101T060000
END:STANDARD
END:VTIMEZONE
BEGIN:VEVENT
DTSTART;TZID=America/New_York:20250327T190000
DTEND;TZID=America/New_York:20250327T233000
DTSTAMP:20260425T202345
CREATED:20250316T205549Z
LAST-MODIFIED:20250316T205629Z
UID:10000389-1743102000-1743118200@darkmusic.net
SUMMARY:Amulet  Bellhead  and until we r dust at black circle Indianapolis
DESCRIPTION:Join us for a three fold powerhouse\, Amulet (DC) Bellhead (Chicago) and until we r dust (Indy) for an all ages night of goth\, darkwave and post punk . Only 5$ per band.  21+ to drink  hang out after the show to buy merch and talk with the bands.  Support local venues. *Amulet has announced free entrance to any recently fired federal workers. *
URL:https://darkmusic.net/event/amulet-bellhead-and-until-we-r-dust-at-black-circle-indianapolis/
LOCATION:black circle music venue\, 2201 e 46th street\, Indianapolis\, 46205
CATEGORIES:Goth,Post Punk
ORGANIZER;CN="Amulet":MAILTO:contact@amulettheband.com
GEO:39.8398955;-86.1239573
X-APPLE-STRUCTURED-LOCATION;VALUE=URI;X-ADDRESS=black circle music venue 2201 e 46th street Indianapolis 46205;X-APPLE-RADIUS=500;X-TITLE=2201 e 46th street:geo:-86.1239573,39.8398955
END:VEVENT
END:VCALENDAR