BEGIN:VCALENDAR
VERSION:2.0
PRODID:-//The Dark Music Network - ECPv6.15.20//NONSGML v1.0//EN
CALSCALE:GREGORIAN
METHOD:PUBLISH
X-ORIGINAL-URL:https://darkmusic.net
X-WR-CALDESC:Events for The Dark Music Network
REFRESH-INTERVAL;VALUE=DURATION:PT1H
X-Robots-Tag:noindex
X-PUBLISHED-TTL:PT1H
BEGIN:VTIMEZONE
TZID:America/New_York
BEGIN:DAYLIGHT
TZOFFSETFROM:-0500
TZOFFSETTO:-0400
TZNAME:EDT
DTSTART:20240310T070000
END:DAYLIGHT
BEGIN:STANDARD
TZOFFSETFROM:-0400
TZOFFSETTO:-0500
TZNAME:EST
DTSTART:20241103T060000
END:STANDARD
BEGIN:DAYLIGHT
TZOFFSETFROM:-0500
TZOFFSETTO:-0400
TZNAME:EDT
DTSTART:20250309T070000
END:DAYLIGHT
BEGIN:STANDARD
TZOFFSETFROM:-0400
TZOFFSETTO:-0500
TZNAME:EST
DTSTART:20251102T060000
END:STANDARD
BEGIN:DAYLIGHT
TZOFFSETFROM:-0500
TZOFFSETTO:-0400
TZNAME:EDT
DTSTART:20260308T070000
END:DAYLIGHT
BEGIN:STANDARD
TZOFFSETFROM:-0400
TZOFFSETTO:-0500
TZNAME:EST
DTSTART:20261101T060000
END:STANDARD
END:VTIMEZONE
BEGIN:VEVENT
DTSTART;TZID=America/New_York:20250307T000000
DTEND;TZID=America/New_York:20250308T235959
DTSTAMP:20260425T215128
CREATED:20250227T143148Z
LAST-MODIFIED:20250302T042718Z
UID:10000062-1741305600-1741478399@darkmusic.net
SUMMARY:CorrosionFest
DESCRIPTION:  \n  \n› Morecambe Events › Alhambra Live\, Morecambe › CorrosionFest 2025 \nCorrosionFest 2025 \nAlhambra Live\, Morecambe\, Morecambe\, LA4 4EU \nFri 7th March 2025 \n  \nA weekend of West Coast Gothic at Corrosion. \nOur Pocket bespoke international indoor festival of live Alternative music returns to Morecambe. 12 great bands over 2 days. \n  \nFRIDAY BANDS: \nGOTHZILLA (full band) \nPretty Addicted \nMercury Machine \nInstant Lake \n  \nSATURDAY BANS: \nTHE FOREIGN RESORT \nYour Life On Hold \nSexblood \nDivine Shade \nRome Burns \nElkapath \nVazum \nBlack Rain
URL:https://darkmusic.net/event/corrosionfest/
LOCATION:2025  Alhambra Live\, Alhambra Live\, Morecambe\, LA4 4EU\, United Kingdom
CATEGORIES:Goth,Industrial,Post Punk,Synthpop
ATTACH;FMTTYPE=image/jpeg:https://darkmusic.net/wp-content/uploads/2025/02/FB_IMG_1740592405855.jpg
GEO:54.0662193;-2.8802521
X-APPLE-STRUCTURED-LOCATION;VALUE=URI;X-ADDRESS=2025  Alhambra Live Alhambra Live Morecambe LA4 4EU United Kingdom;X-APPLE-RADIUS=500;X-TITLE=Alhambra Live:geo:-2.8802521,54.0662193
END:VEVENT
END:VCALENDAR