BEGIN:VCALENDAR
VERSION:2.0
PRODID:-//The Dark Music Network - ECPv6.15.20//NONSGML v1.0//EN
CALSCALE:GREGORIAN
METHOD:PUBLISH
X-ORIGINAL-URL:https://darkmusic.net
X-WR-CALDESC:Events for The Dark Music Network
REFRESH-INTERVAL;VALUE=DURATION:PT1H
X-Robots-Tag:noindex
X-PUBLISHED-TTL:PT1H
BEGIN:VTIMEZONE
TZID:America/New_York
BEGIN:DAYLIGHT
TZOFFSETFROM:-0500
TZOFFSETTO:-0400
TZNAME:EDT
DTSTART:20250309T070000
END:DAYLIGHT
BEGIN:STANDARD
TZOFFSETFROM:-0400
TZOFFSETTO:-0500
TZNAME:EST
DTSTART:20251102T060000
END:STANDARD
BEGIN:DAYLIGHT
TZOFFSETFROM:-0500
TZOFFSETTO:-0400
TZNAME:EDT
DTSTART:20260308T070000
END:DAYLIGHT
BEGIN:STANDARD
TZOFFSETFROM:-0400
TZOFFSETTO:-0500
TZNAME:EST
DTSTART:20261101T060000
END:STANDARD
BEGIN:DAYLIGHT
TZOFFSETFROM:-0500
TZOFFSETTO:-0400
TZNAME:EDT
DTSTART:20270314T070000
END:DAYLIGHT
BEGIN:STANDARD
TZOFFSETFROM:-0400
TZOFFSETTO:-0500
TZNAME:EST
DTSTART:20271107T060000
END:STANDARD
END:VTIMEZONE
BEGIN:VTIMEZONE
TZID:Europe/London
BEGIN:DAYLIGHT
TZOFFSETFROM:+0000
TZOFFSETTO:+0100
TZNAME:BST
DTSTART:20250330T010000
END:DAYLIGHT
BEGIN:STANDARD
TZOFFSETFROM:+0100
TZOFFSETTO:+0000
TZNAME:GMT
DTSTART:20251026T010000
END:STANDARD
BEGIN:DAYLIGHT
TZOFFSETFROM:+0000
TZOFFSETTO:+0100
TZNAME:BST
DTSTART:20260329T010000
END:DAYLIGHT
BEGIN:STANDARD
TZOFFSETFROM:+0100
TZOFFSETTO:+0000
TZNAME:GMT
DTSTART:20261025T010000
END:STANDARD
BEGIN:DAYLIGHT
TZOFFSETFROM:+0000
TZOFFSETTO:+0100
TZNAME:BST
DTSTART:20270328T010000
END:DAYLIGHT
BEGIN:STANDARD
TZOFFSETFROM:+0100
TZOFFSETTO:+0000
TZNAME:GMT
DTSTART:20271031T010000
END:STANDARD
END:VTIMEZONE
BEGIN:VEVENT
DTSTART;TZID=America/New_York:20260124T200000
DTEND;TZID=America/New_York:20260125T020000
DTSTAMP:20260423T202529
CREATED:20251106T192713Z
LAST-MODIFIED:20251106T200117Z
UID:10001323-1769284800-1769306400@darkmusic.net
SUMMARY:Winter Goth Celebration 2026
DESCRIPTION:The Winter Goth Celebration 2026 will be on January 24th \nDJ Jason spins Goth all night \nMark Steiner and his Problems from Norway\nGlass Apple Bonzai from Canada\nFaustan from Miami\, FL\nAllie Frost from New York
URL:https://darkmusic.net/event/winter-goth-celebration-2026/
LOCATION:Dark Music Network
CATEGORIES:Club Night,Concert,Dark Wave,Festival,Goth,Post Punk
ATTACH;FMTTYPE=image/jpeg:https://darkmusic.net/wp-content/uploads/2025/11/WGC-2026-copy-2.jpeg
ORGANIZER;CN="DJ Jason":MAILTO:djjasonofalchemy@gmail.com
END:VEVENT
BEGIN:VEVENT
DTSTART;TZID=Europe/London:20260320T000000
DTEND;TZID=Europe/London:20260321T235959
DTSTAMP:20260423T202529
CREATED:20250920T191126Z
LAST-MODIFIED:20250920T191426Z
UID:10001313-1773964800-1774137599@darkmusic.net
SUMMARY:CorrosionFest
DESCRIPTION:A weekend of West Coast Gothic at Corrosion. \nOur Pocket bespoke international indoor festival of live Alternative music returns to Morecambe. This year with 12 great bands over 2 days. Tickets https://www.skiddle.com/e/41355585 \nhttps://www.ticketsource.co.uk/corrosion/t-vvrkdpq
URL:https://darkmusic.net/event/corrosionfest-2/
LOCATION:morecambe UK\, 56 Marine Rd W\, West End\,\, Morecambe\, LA4 4EU\, United Kingdom
CATEGORIES:Festival
ATTACH;FMTTYPE=image/jpeg:https://darkmusic.net/wp-content/uploads/2025/09/1000049483.jpg
END:VEVENT
END:VCALENDAR