BEGIN:VCALENDAR
VERSION:2.0
PRODID:-//The Dark Music Network - ECPv6.15.20//NONSGML v1.0//EN
CALSCALE:GREGORIAN
METHOD:PUBLISH
X-ORIGINAL-URL:https://darkmusic.net
X-WR-CALDESC:Events for The Dark Music Network
REFRESH-INTERVAL;VALUE=DURATION:PT1H
X-Robots-Tag:noindex
X-PUBLISHED-TTL:PT1H
BEGIN:VTIMEZONE
TZID:America/New_York
BEGIN:DAYLIGHT
TZOFFSETFROM:-0500
TZOFFSETTO:-0400
TZNAME:EDT
DTSTART:20290311T070000
END:DAYLIGHT
BEGIN:STANDARD
TZOFFSETFROM:-0400
TZOFFSETTO:-0500
TZNAME:EST
DTSTART:20291104T060000
END:STANDARD
BEGIN:DAYLIGHT
TZOFFSETFROM:-0500
TZOFFSETTO:-0400
TZNAME:EDT
DTSTART:20300310T070000
END:DAYLIGHT
BEGIN:STANDARD
TZOFFSETFROM:-0400
TZOFFSETTO:-0500
TZNAME:EST
DTSTART:20301103T060000
END:STANDARD
BEGIN:DAYLIGHT
TZOFFSETFROM:-0500
TZOFFSETTO:-0400
TZNAME:EDT
DTSTART:20310309T070000
END:DAYLIGHT
BEGIN:STANDARD
TZOFFSETFROM:-0400
TZOFFSETTO:-0500
TZNAME:EST
DTSTART:20311102T060000
END:STANDARD
BEGIN:DAYLIGHT
TZOFFSETFROM:-0500
TZOFFSETTO:-0400
TZNAME:EDT
DTSTART:20320314T070000
END:DAYLIGHT
BEGIN:STANDARD
TZOFFSETFROM:-0400
TZOFFSETTO:-0500
TZNAME:EST
DTSTART:20321107T060000
END:STANDARD
END:VTIMEZONE
BEGIN:VEVENT
DTSTART;TZID=America/New_York:20300316T210000
DTEND;TZID=America/New_York:20300317T020000
DTSTAMP:20260425T090723
CREATED:20260417T113437Z
LAST-MODIFIED:20260417T114330Z
UID:10001378-1899925200-1899943200@darkmusic.net
SUMMARY:Club Sinthesis
DESCRIPTION:Industrial\, EBM\, Electro and Dark Dance \nEvery 3rd Saturday\, head to The Red Light Lounge at 1901 Harney St in Omaha\, NE for Club Sinthesis! \nResident DJs Sado_Naut\, Barrens\, and Nevermore\, plus featured guests.
URL:https://darkmusic.net/event/club-sinthesis/2030-03-16/
LOCATION:Red Light Lounge\, 1901 Harney St\, Omaha\, NE\, United States
CATEGORIES:Aggrotech,Club Night,Cyber,Dark Alternative,Dark Electro,Dark Wave,EBM,FuturePop,Industrial,Synthpop
ATTACH;FMTTYPE=image/jpeg:https://darkmusic.net/wp-content/uploads/2026/04/1000028890.jpg
END:VEVENT
BEGIN:VEVENT
DTSTART;TZID=America/New_York:20300420T210000
DTEND;TZID=America/New_York:20300421T020000
DTSTAMP:20260425T090723
CREATED:20250808T234003Z
LAST-MODIFIED:20250917T140221Z
UID:10001297-1902949200-1902967200@darkmusic.net
SUMMARY:Cryptic: A Goth Night
DESCRIPTION:Join DJ Day Star & eEL as they spin goth\, darkwave\, synthpop\, EBM\, industrial tunes & MORE on the 3rd Saturday of every month at The Depot Baltimore! \nNO COVER / 21+ / DOORS AT 9PM
URL:https://darkmusic.net/event/cryptic-a-goth-night-2/2030-04-20/
LOCATION:The Depot\, 1728 N Charles St\, Baltimore\, MD 21201-5831\, Baltimore\, MD\, 21201-5831\, United States
CATEGORIES:Club Night,Dark Electro,Dark Wave,EBM,FuturePop,Goth,Industrial,Synthpop,Vampire,Witch
ATTACH;FMTTYPE=image/jpeg:https://darkmusic.net/wp-content/uploads/2025/08/Cryptic-2025-flyer-square.jpg
ORGANIZER;CN="eEL":MAILTO:eel.darkbrain@gmail.com
GEO:39.3096234;-76.616729
X-APPLE-STRUCTURED-LOCATION;VALUE=URI;X-ADDRESS=The Depot 1728 N Charles St Baltimore MD 21201-5831 Baltimore MD 21201-5831 United States;X-APPLE-RADIUS=500;X-TITLE=1728 N Charles St\, Baltimore\, MD 21201-5831:geo:-76.616729,39.3096234
END:VEVENT
BEGIN:VEVENT
DTSTART;TZID=America/New_York:20300420T210000
DTEND;TZID=America/New_York:20300421T020000
DTSTAMP:20260425T090723
CREATED:20260417T113437Z
LAST-MODIFIED:20260417T114330Z
UID:10001337-1902949200-1902967200@darkmusic.net
SUMMARY:Club Sinthesis
DESCRIPTION:Industrial\, EBM\, Electro and Dark Dance \nEvery 3rd Saturday\, head to The Red Light Lounge at 1901 Harney St in Omaha\, NE for Club Sinthesis! \nResident DJs Sado_Naut\, Barrens\, and Nevermore\, plus featured guests.
URL:https://darkmusic.net/event/club-sinthesis/2030-04-20/
LOCATION:Red Light Lounge\, 1901 Harney St\, Omaha\, NE\, United States
CATEGORIES:Aggrotech,Club Night,Cyber,Dark Alternative,Dark Electro,Dark Wave,EBM,FuturePop,Industrial,Synthpop
ATTACH;FMTTYPE=image/jpeg:https://darkmusic.net/wp-content/uploads/2026/04/1000028890.jpg
END:VEVENT
BEGIN:VEVENT
DTSTART;TZID=America/New_York:20300518T210000
DTEND;TZID=America/New_York:20300519T020000
DTSTAMP:20260425T090723
CREATED:20250808T234003Z
LAST-MODIFIED:20250917T140221Z
UID:10001298-1905368400-1905386400@darkmusic.net
SUMMARY:Cryptic: A Goth Night
DESCRIPTION:Join DJ Day Star & eEL as they spin goth\, darkwave\, synthpop\, EBM\, industrial tunes & MORE on the 3rd Saturday of every month at The Depot Baltimore! \nNO COVER / 21+ / DOORS AT 9PM
URL:https://darkmusic.net/event/cryptic-a-goth-night-2/2030-05-18/
LOCATION:The Depot\, 1728 N Charles St\, Baltimore\, MD 21201-5831\, Baltimore\, MD\, 21201-5831\, United States
CATEGORIES:Club Night,Dark Electro,Dark Wave,EBM,FuturePop,Goth,Industrial,Synthpop,Vampire,Witch
ATTACH;FMTTYPE=image/jpeg:https://darkmusic.net/wp-content/uploads/2025/08/Cryptic-2025-flyer-square.jpg
ORGANIZER;CN="eEL":MAILTO:eel.darkbrain@gmail.com
GEO:39.3096234;-76.616729
X-APPLE-STRUCTURED-LOCATION;VALUE=URI;X-ADDRESS=The Depot 1728 N Charles St Baltimore MD 21201-5831 Baltimore MD 21201-5831 United States;X-APPLE-RADIUS=500;X-TITLE=1728 N Charles St\, Baltimore\, MD 21201-5831:geo:-76.616729,39.3096234
END:VEVENT
BEGIN:VEVENT
DTSTART;TZID=America/New_York:20300518T210000
DTEND;TZID=America/New_York:20300519T020000
DTSTAMP:20260425T090723
CREATED:20260417T113437Z
LAST-MODIFIED:20260417T114330Z
UID:10001379-1905368400-1905386400@darkmusic.net
SUMMARY:Club Sinthesis
DESCRIPTION:Industrial\, EBM\, Electro and Dark Dance \nEvery 3rd Saturday\, head to The Red Light Lounge at 1901 Harney St in Omaha\, NE for Club Sinthesis! \nResident DJs Sado_Naut\, Barrens\, and Nevermore\, plus featured guests.
URL:https://darkmusic.net/event/club-sinthesis/2030-05-18/
LOCATION:Red Light Lounge\, 1901 Harney St\, Omaha\, NE\, United States
CATEGORIES:Aggrotech,Club Night,Cyber,Dark Alternative,Dark Electro,Dark Wave,EBM,FuturePop,Industrial,Synthpop
ATTACH;FMTTYPE=image/jpeg:https://darkmusic.net/wp-content/uploads/2026/04/1000028890.jpg
END:VEVENT
BEGIN:VEVENT
DTSTART;TZID=America/New_York:20300615T210000
DTEND;TZID=America/New_York:20300616T020000
DTSTAMP:20260425T090723
CREATED:20250808T234003Z
LAST-MODIFIED:20250917T140221Z
UID:10001299-1907787600-1907805600@darkmusic.net
SUMMARY:Cryptic: A Goth Night
DESCRIPTION:Join DJ Day Star & eEL as they spin goth\, darkwave\, synthpop\, EBM\, industrial tunes & MORE on the 3rd Saturday of every month at The Depot Baltimore! \nNO COVER / 21+ / DOORS AT 9PM
URL:https://darkmusic.net/event/cryptic-a-goth-night-2/2030-06-15/
LOCATION:The Depot\, 1728 N Charles St\, Baltimore\, MD 21201-5831\, Baltimore\, MD\, 21201-5831\, United States
CATEGORIES:Club Night,Dark Electro,Dark Wave,EBM,FuturePop,Goth,Industrial,Synthpop,Vampire,Witch
ATTACH;FMTTYPE=image/jpeg:https://darkmusic.net/wp-content/uploads/2025/08/Cryptic-2025-flyer-square.jpg
ORGANIZER;CN="eEL":MAILTO:eel.darkbrain@gmail.com
GEO:39.3096234;-76.616729
X-APPLE-STRUCTURED-LOCATION;VALUE=URI;X-ADDRESS=The Depot 1728 N Charles St Baltimore MD 21201-5831 Baltimore MD 21201-5831 United States;X-APPLE-RADIUS=500;X-TITLE=1728 N Charles St\, Baltimore\, MD 21201-5831:geo:-76.616729,39.3096234
END:VEVENT
BEGIN:VEVENT
DTSTART;TZID=America/New_York:20300615T210000
DTEND;TZID=America/New_York:20300616T020000
DTSTAMP:20260425T090723
CREATED:20260417T113437Z
LAST-MODIFIED:20260417T114330Z
UID:10001380-1907787600-1907805600@darkmusic.net
SUMMARY:Club Sinthesis
DESCRIPTION:Industrial\, EBM\, Electro and Dark Dance \nEvery 3rd Saturday\, head to The Red Light Lounge at 1901 Harney St in Omaha\, NE for Club Sinthesis! \nResident DJs Sado_Naut\, Barrens\, and Nevermore\, plus featured guests.
URL:https://darkmusic.net/event/club-sinthesis/2030-06-15/
LOCATION:Red Light Lounge\, 1901 Harney St\, Omaha\, NE\, United States
CATEGORIES:Aggrotech,Club Night,Cyber,Dark Alternative,Dark Electro,Dark Wave,EBM,FuturePop,Industrial,Synthpop
ATTACH;FMTTYPE=image/jpeg:https://darkmusic.net/wp-content/uploads/2026/04/1000028890.jpg
END:VEVENT
BEGIN:VEVENT
DTSTART;TZID=America/New_York:20300720T210000
DTEND;TZID=America/New_York:20300721T020000
DTSTAMP:20260425T090723
CREATED:20250808T234003Z
LAST-MODIFIED:20250917T140221Z
UID:10001300-1910811600-1910829600@darkmusic.net
SUMMARY:Cryptic: A Goth Night
DESCRIPTION:Join DJ Day Star & eEL as they spin goth\, darkwave\, synthpop\, EBM\, industrial tunes & MORE on the 3rd Saturday of every month at The Depot Baltimore! \nNO COVER / 21+ / DOORS AT 9PM
URL:https://darkmusic.net/event/cryptic-a-goth-night-2/2030-07-20/
LOCATION:The Depot\, 1728 N Charles St\, Baltimore\, MD 21201-5831\, Baltimore\, MD\, 21201-5831\, United States
CATEGORIES:Club Night,Dark Electro,Dark Wave,EBM,FuturePop,Goth,Industrial,Synthpop,Vampire,Witch
ATTACH;FMTTYPE=image/jpeg:https://darkmusic.net/wp-content/uploads/2025/08/Cryptic-2025-flyer-square.jpg
ORGANIZER;CN="eEL":MAILTO:eel.darkbrain@gmail.com
GEO:39.3096234;-76.616729
X-APPLE-STRUCTURED-LOCATION;VALUE=URI;X-ADDRESS=The Depot 1728 N Charles St Baltimore MD 21201-5831 Baltimore MD 21201-5831 United States;X-APPLE-RADIUS=500;X-TITLE=1728 N Charles St\, Baltimore\, MD 21201-5831:geo:-76.616729,39.3096234
END:VEVENT
BEGIN:VEVENT
DTSTART;TZID=America/New_York:20300720T210000
DTEND;TZID=America/New_York:20300721T020000
DTSTAMP:20260425T090723
CREATED:20260417T113437Z
LAST-MODIFIED:20260417T114330Z
UID:10001381-1910811600-1910829600@darkmusic.net
SUMMARY:Club Sinthesis
DESCRIPTION:Industrial\, EBM\, Electro and Dark Dance \nEvery 3rd Saturday\, head to The Red Light Lounge at 1901 Harney St in Omaha\, NE for Club Sinthesis! \nResident DJs Sado_Naut\, Barrens\, and Nevermore\, plus featured guests.
URL:https://darkmusic.net/event/club-sinthesis/2030-07-20/
LOCATION:Red Light Lounge\, 1901 Harney St\, Omaha\, NE\, United States
CATEGORIES:Aggrotech,Club Night,Cyber,Dark Alternative,Dark Electro,Dark Wave,EBM,FuturePop,Industrial,Synthpop
ATTACH;FMTTYPE=image/jpeg:https://darkmusic.net/wp-content/uploads/2026/04/1000028890.jpg
END:VEVENT
BEGIN:VEVENT
DTSTART;TZID=America/New_York:20300817T210000
DTEND;TZID=America/New_York:20300818T020000
DTSTAMP:20260425T090723
CREATED:20260417T113437Z
LAST-MODIFIED:20260417T114330Z
UID:10001382-1913230800-1913248800@darkmusic.net
SUMMARY:Club Sinthesis
DESCRIPTION:Industrial\, EBM\, Electro and Dark Dance \nEvery 3rd Saturday\, head to The Red Light Lounge at 1901 Harney St in Omaha\, NE for Club Sinthesis! \nResident DJs Sado_Naut\, Barrens\, and Nevermore\, plus featured guests.
URL:https://darkmusic.net/event/club-sinthesis/2030-08-17/
LOCATION:Red Light Lounge\, 1901 Harney St\, Omaha\, NE\, United States
CATEGORIES:Aggrotech,Club Night,Cyber,Dark Alternative,Dark Electro,Dark Wave,EBM,FuturePop,Industrial,Synthpop
ATTACH;FMTTYPE=image/jpeg:https://darkmusic.net/wp-content/uploads/2026/04/1000028890.jpg
END:VEVENT
BEGIN:VEVENT
DTSTART;TZID=America/New_York:20300921T210000
DTEND;TZID=America/New_York:20300922T020000
DTSTAMP:20260425T090723
CREATED:20260417T113437Z
LAST-MODIFIED:20260417T114330Z
UID:10001383-1916254800-1916272800@darkmusic.net
SUMMARY:Club Sinthesis
DESCRIPTION:Industrial\, EBM\, Electro and Dark Dance \nEvery 3rd Saturday\, head to The Red Light Lounge at 1901 Harney St in Omaha\, NE for Club Sinthesis! \nResident DJs Sado_Naut\, Barrens\, and Nevermore\, plus featured guests.
URL:https://darkmusic.net/event/club-sinthesis/2030-09-21/
LOCATION:Red Light Lounge\, 1901 Harney St\, Omaha\, NE\, United States
CATEGORIES:Aggrotech,Club Night,Cyber,Dark Alternative,Dark Electro,Dark Wave,EBM,FuturePop,Industrial,Synthpop
ATTACH;FMTTYPE=image/jpeg:https://darkmusic.net/wp-content/uploads/2026/04/1000028890.jpg
END:VEVENT
BEGIN:VEVENT
DTSTART;TZID=America/New_York:20301019T210000
DTEND;TZID=America/New_York:20301020T020000
DTSTAMP:20260425T090723
CREATED:20260417T113437Z
LAST-MODIFIED:20260417T114330Z
UID:10001338-1918674000-1918692000@darkmusic.net
SUMMARY:Club Sinthesis
DESCRIPTION:Industrial\, EBM\, Electro and Dark Dance \nEvery 3rd Saturday\, head to The Red Light Lounge at 1901 Harney St in Omaha\, NE for Club Sinthesis! \nResident DJs Sado_Naut\, Barrens\, and Nevermore\, plus featured guests.
URL:https://darkmusic.net/event/club-sinthesis/2030-10-19/
LOCATION:Red Light Lounge\, 1901 Harney St\, Omaha\, NE\, United States
CATEGORIES:Aggrotech,Club Night,Cyber,Dark Alternative,Dark Electro,Dark Wave,EBM,FuturePop,Industrial,Synthpop
ATTACH;FMTTYPE=image/jpeg:https://darkmusic.net/wp-content/uploads/2026/04/1000028890.jpg
END:VEVENT
BEGIN:VEVENT
DTSTART;TZID=America/New_York:20301116T210000
DTEND;TZID=America/New_York:20301117T020000
DTSTAMP:20260425T090723
CREATED:20260417T113437Z
LAST-MODIFIED:20260417T114330Z
UID:10001384-1921093200-1921111200@darkmusic.net
SUMMARY:Club Sinthesis
DESCRIPTION:Industrial\, EBM\, Electro and Dark Dance \nEvery 3rd Saturday\, head to The Red Light Lounge at 1901 Harney St in Omaha\, NE for Club Sinthesis! \nResident DJs Sado_Naut\, Barrens\, and Nevermore\, plus featured guests.
URL:https://darkmusic.net/event/club-sinthesis/2030-11-16/
LOCATION:Red Light Lounge\, 1901 Harney St\, Omaha\, NE\, United States
CATEGORIES:Aggrotech,Club Night,Cyber,Dark Alternative,Dark Electro,Dark Wave,EBM,FuturePop,Industrial,Synthpop
ATTACH;FMTTYPE=image/jpeg:https://darkmusic.net/wp-content/uploads/2026/04/1000028890.jpg
END:VEVENT
BEGIN:VEVENT
DTSTART;TZID=America/New_York:20301221T210000
DTEND;TZID=America/New_York:20301222T020000
DTSTAMP:20260425T090723
CREATED:20260417T113437Z
LAST-MODIFIED:20260417T114330Z
UID:10001385-1924117200-1924135200@darkmusic.net
SUMMARY:Club Sinthesis
DESCRIPTION:Industrial\, EBM\, Electro and Dark Dance \nEvery 3rd Saturday\, head to The Red Light Lounge at 1901 Harney St in Omaha\, NE for Club Sinthesis! \nResident DJs Sado_Naut\, Barrens\, and Nevermore\, plus featured guests.
URL:https://darkmusic.net/event/club-sinthesis/2030-12-21/
LOCATION:Red Light Lounge\, 1901 Harney St\, Omaha\, NE\, United States
CATEGORIES:Aggrotech,Club Night,Cyber,Dark Alternative,Dark Electro,Dark Wave,EBM,FuturePop,Industrial,Synthpop
ATTACH;FMTTYPE=image/jpeg:https://darkmusic.net/wp-content/uploads/2026/04/1000028890.jpg
END:VEVENT
BEGIN:VEVENT
DTSTART;TZID=America/New_York:20310118T210000
DTEND;TZID=America/New_York:20310119T020000
DTSTAMP:20260425T090723
CREATED:20260417T113437Z
LAST-MODIFIED:20260417T114330Z
UID:10001386-1926536400-1926554400@darkmusic.net
SUMMARY:Club Sinthesis
DESCRIPTION:Industrial\, EBM\, Electro and Dark Dance \nEvery 3rd Saturday\, head to The Red Light Lounge at 1901 Harney St in Omaha\, NE for Club Sinthesis! \nResident DJs Sado_Naut\, Barrens\, and Nevermore\, plus featured guests.
URL:https://darkmusic.net/event/club-sinthesis/2031-01-18/
LOCATION:Red Light Lounge\, 1901 Harney St\, Omaha\, NE\, United States
CATEGORIES:Aggrotech,Club Night,Cyber,Dark Alternative,Dark Electro,Dark Wave,EBM,FuturePop,Industrial,Synthpop
ATTACH;FMTTYPE=image/jpeg:https://darkmusic.net/wp-content/uploads/2026/04/1000028890.jpg
END:VEVENT
BEGIN:VEVENT
DTSTART;TZID=America/New_York:20310215T210000
DTEND;TZID=America/New_York:20310216T020000
DTSTAMP:20260425T090723
CREATED:20260417T113437Z
LAST-MODIFIED:20260417T114330Z
UID:10001387-1928955600-1928973600@darkmusic.net
SUMMARY:Club Sinthesis
DESCRIPTION:Industrial\, EBM\, Electro and Dark Dance \nEvery 3rd Saturday\, head to The Red Light Lounge at 1901 Harney St in Omaha\, NE for Club Sinthesis! \nResident DJs Sado_Naut\, Barrens\, and Nevermore\, plus featured guests.
URL:https://darkmusic.net/event/club-sinthesis/2031-02-15/
LOCATION:Red Light Lounge\, 1901 Harney St\, Omaha\, NE\, United States
CATEGORIES:Aggrotech,Club Night,Cyber,Dark Alternative,Dark Electro,Dark Wave,EBM,FuturePop,Industrial,Synthpop
ATTACH;FMTTYPE=image/jpeg:https://darkmusic.net/wp-content/uploads/2026/04/1000028890.jpg
END:VEVENT
BEGIN:VEVENT
DTSTART;TZID=America/New_York:20310315T210000
DTEND;TZID=America/New_York:20310316T020000
DTSTAMP:20260425T090723
CREATED:20260417T113437Z
LAST-MODIFIED:20260417T114330Z
UID:10001388-1931374800-1931392800@darkmusic.net
SUMMARY:Club Sinthesis
DESCRIPTION:Industrial\, EBM\, Electro and Dark Dance \nEvery 3rd Saturday\, head to The Red Light Lounge at 1901 Harney St in Omaha\, NE for Club Sinthesis! \nResident DJs Sado_Naut\, Barrens\, and Nevermore\, plus featured guests.
URL:https://darkmusic.net/event/club-sinthesis/2031-03-15/
LOCATION:Red Light Lounge\, 1901 Harney St\, Omaha\, NE\, United States
CATEGORIES:Aggrotech,Club Night,Cyber,Dark Alternative,Dark Electro,Dark Wave,EBM,FuturePop,Industrial,Synthpop
ATTACH;FMTTYPE=image/jpeg:https://darkmusic.net/wp-content/uploads/2026/04/1000028890.jpg
END:VEVENT
END:VCALENDAR