BEGIN:VCALENDAR
VERSION:2.0
PRODID:-//The Dark Music Network - ECPv6.15.20//NONSGML v1.0//EN
CALSCALE:GREGORIAN
METHOD:PUBLISH
X-WR-CALNAME:The Dark Music Network
X-ORIGINAL-URL:https://darkmusic.net
X-WR-CALDESC:Events for The Dark Music Network
REFRESH-INTERVAL;VALUE=DURATION:PT1H
X-Robots-Tag:noindex
X-PUBLISHED-TTL:PT1H
BEGIN:VTIMEZONE
TZID:America/New_York
BEGIN:DAYLIGHT
TZOFFSETFROM:-0500
TZOFFSETTO:-0400
TZNAME:EDT
DTSTART:20240310T070000
END:DAYLIGHT
BEGIN:STANDARD
TZOFFSETFROM:-0400
TZOFFSETTO:-0500
TZNAME:EST
DTSTART:20241103T060000
END:STANDARD
BEGIN:DAYLIGHT
TZOFFSETFROM:-0500
TZOFFSETTO:-0400
TZNAME:EDT
DTSTART:20250309T070000
END:DAYLIGHT
BEGIN:STANDARD
TZOFFSETFROM:-0400
TZOFFSETTO:-0500
TZNAME:EST
DTSTART:20251102T060000
END:STANDARD
BEGIN:DAYLIGHT
TZOFFSETFROM:-0500
TZOFFSETTO:-0400
TZNAME:EDT
DTSTART:20260308T070000
END:DAYLIGHT
BEGIN:STANDARD
TZOFFSETFROM:-0400
TZOFFSETTO:-0500
TZNAME:EST
DTSTART:20261101T060000
END:STANDARD
END:VTIMEZONE
BEGIN:VTIMEZONE
TZID:Europe/Berlin
BEGIN:DAYLIGHT
TZOFFSETFROM:+0100
TZOFFSETTO:+0200
TZNAME:CEST
DTSTART:20240331T010000
END:DAYLIGHT
BEGIN:STANDARD
TZOFFSETFROM:+0200
TZOFFSETTO:+0100
TZNAME:CET
DTSTART:20241027T010000
END:STANDARD
BEGIN:DAYLIGHT
TZOFFSETFROM:+0100
TZOFFSETTO:+0200
TZNAME:CEST
DTSTART:20250330T010000
END:DAYLIGHT
BEGIN:STANDARD
TZOFFSETFROM:+0200
TZOFFSETTO:+0100
TZNAME:CET
DTSTART:20251026T010000
END:STANDARD
BEGIN:DAYLIGHT
TZOFFSETFROM:+0100
TZOFFSETTO:+0200
TZNAME:CEST
DTSTART:20260329T010000
END:DAYLIGHT
BEGIN:STANDARD
TZOFFSETFROM:+0200
TZOFFSETTO:+0100
TZNAME:CET
DTSTART:20261025T010000
END:STANDARD
END:VTIMEZONE
BEGIN:VTIMEZONE
TZID:America/Los_Angeles
BEGIN:DAYLIGHT
TZOFFSETFROM:-0800
TZOFFSETTO:-0700
TZNAME:PDT
DTSTART:20240310T100000
END:DAYLIGHT
BEGIN:STANDARD
TZOFFSETFROM:-0700
TZOFFSETTO:-0800
TZNAME:PST
DTSTART:20241103T090000
END:STANDARD
BEGIN:DAYLIGHT
TZOFFSETFROM:-0800
TZOFFSETTO:-0700
TZNAME:PDT
DTSTART:20250309T100000
END:DAYLIGHT
BEGIN:STANDARD
TZOFFSETFROM:-0700
TZOFFSETTO:-0800
TZNAME:PST
DTSTART:20251102T090000
END:STANDARD
BEGIN:DAYLIGHT
TZOFFSETFROM:-0800
TZOFFSETTO:-0700
TZNAME:PDT
DTSTART:20260308T100000
END:DAYLIGHT
BEGIN:STANDARD
TZOFFSETFROM:-0700
TZOFFSETTO:-0800
TZNAME:PST
DTSTART:20261101T090000
END:STANDARD
END:VTIMEZONE
BEGIN:VEVENT
DTSTART;TZID=America/New_York:20250705T203000
DTEND;TZID=America/New_York:20250706T020000
DTSTAMP:20260424T053016
CREATED:20250615T001947Z
LAST-MODIFIED:20250615T001947Z
UID:10001219-1751747400-1751767200@darkmusic.net
SUMMARY:ATMOSPHERE AUGUSTA
DESCRIPTION:The Famous ATMOSPHERE AUGUSTA club is back at it! \nSaturday JULY 5th come dance your sorrows away with DJ MISSTEP spinning Dark Electronic\, Industrial Goth\, Dark Techno\, Post Punk and more. \nAtmosphere Augusta is located at Le Chat Noir 304 8th st Augusta GA \nDoors at 8:30pm.  ONLY 10 bucks cash to get in!
URL:https://darkmusic.net/event/atmosphere-augusta/
LOCATION:Le Chat Noir\, 304 8th St\, Augusta\, G\, 30901\, United States
CATEGORIES:Aggrotech,Club Night,Cyber,Dark Electro,Dark Wave,EBM,FuturePop,Goth,Industrial,Post Punk,Synthpop
ATTACH;FMTTYPE=image/jpeg:https://darkmusic.net/wp-content/uploads/2025/06/ATMOSPHERE-AUGUSTA-July-5th-2025-Resident-MISSTEP.jpg
ORGANIZER;CN="DJ MISSTEP":MAILTO:clubterraform@gmail.com
GEO:33.474019;-81.9657975
X-APPLE-STRUCTURED-LOCATION;VALUE=URI;X-ADDRESS=Le Chat Noir 304 8th St Augusta G 30901 United States;X-APPLE-RADIUS=500;X-TITLE=304 8th St:geo:-81.9657975,33.474019
END:VEVENT
BEGIN:VEVENT
DTSTART;TZID=Europe/Berlin:20250605T180000
DTEND;TZID=Europe/Berlin:20250606T010000
DTSTAMP:20260424T053016
CREATED:20250512T223805Z
LAST-MODIFIED:20250512T223805Z
UID:10001208-1749146400-1749171600@darkmusic.net
SUMMARY:Twitch Dark DJs Warm-Up Party
DESCRIPTION:The Twitch Dark DJ WGT Warmup goes into the third round. Like last year\, we and Insert Scary Name Here invite you\, streamers\, moderators and channel guests\, to start WGT 2025 together with fun. Admission is free! Drinks at cost price or on a donation basis. There will also be a small dance floor.\nWe will be streaming from 6pm (CEST) on the InsertScaryNameHere channel\nSchedule:6pm (CEST) DJ DarkWanderer/ISNH (Germany)https://www.facebook.com/insertscarynameherehttps://www.twitch.tv/insertscarynamehere\n7pm(CEST) DJ Janus Schwarz/Scareful TV (Germany)https://www.facebook.com/ScarefulTVhttps://www.twitch.tv/scareful_tv\n8pm(CEST) DJ Cage (US)https://www.facebook.com/CageOVXhttps://www.twitch.tv/dj_cage\n9pm(CEST) DJ Dr.Jeep and DJ Ash/ Wispering Darkness (Italy)https://www.facebook.com/whispering.darkness.gothhttps://www.twitch.tv/whispering__darkness\n10pm(CEST) AsuraSunil (Canada/Portugal)https://www.facebook.com/asurasunilhttps://www.twitch.tv/djasurasunil\n11pm (CEST) DJ Mortasha Kinski (UK)https://www.facebook.com/djmortashakinskihttps://www.twitch.tv/mortasha_kinski\n12am(CEST) ISNH + Scareful TV\nThe private house is located in Leipzig:Bornaische Straße 158Tram line: 11Stop: Friederikenstraße (just before the AGRA site.)
URL:https://darkmusic.net/event/twitch-dark-djs-warm-up-party/
LOCATION:https://twitch.tv/insertscarynamehere
CATEGORIES:Dark Electro,Dark Wave,Goth,Post Punk
ATTACH;FMTTYPE=image/jpeg:https://darkmusic.net/wp-content/uploads/2025/05/WGT-2025-Warm-Up-Party.jpg
ORGANIZER;CN="Mortasha Kinski":MAILTO:mortasha.kinski@gmail.com
END:VEVENT
BEGIN:VEVENT
DTSTART;TZID=America/New_York:20250531T200000
DTEND;TZID=America/New_York:20250601T130000
DTSTAMP:20260424T053016
CREATED:20250504T223200Z
LAST-MODIFIED:20250530T000136Z
UID:10001205-1748721600-1748782800@darkmusic.net
SUMMARY:Vamp Club – ft DJ MOTH – Club Terraform
DESCRIPTION:Join us for a very special edition of CLUB TERRAFORM!!!\nVamp Club featuring DJ MOTH!\nspecial guest Jenn Mott Redd pro music photographer!\nDress to impress and get some great photos while you’re here!\nguest vendors – Looking Glass Insects & Ornjkat.\nGet your blood pumping on the dance floor to the very best of vampiric hits – Goth Post-Punk Darkwave Industrial Dark Techno & more.\nThere will be BLOOD BAG DRINK SPECIALS (While Supplies Last)!\n21+ ONLY\, $10 cash entry gets you in and a membership to Elevate SC. (plz have cash for door\, there will be a fee for credit)\nFood TBA.
URL:https://darkmusic.net/event/vamp-club-ft-dj-moth-club-terraform/
LOCATION:Elevate Social Club – West Columbia SC\, 735 Meeting St\, West Columbia\, S\, 29169\, United States
CATEGORIES:Club Night,Dark Dramatic Electro,Dark Electro,Dark Wave,EBM,Goth,Industrial,Post Punk,Synthpop,Vampire,Wiccan,Witch
ATTACH;FMTTYPE=image/jpeg:https://darkmusic.net/wp-content/uploads/2025/05/5-31-25-ft-moth-edited-new2.jpg
ORGANIZER;CN="DJ MISSTEP":MAILTO:clubterraform@gmail.com
GEO:33.9920839;-81.0636411
X-APPLE-STRUCTURED-LOCATION;VALUE=URI;X-ADDRESS=Elevate Social Club – West Columbia SC 735 Meeting St West Columbia S 29169 United States;X-APPLE-RADIUS=500;X-TITLE=735 Meeting St:geo:-81.0636411,33.9920839
END:VEVENT
BEGIN:VEVENT
DTSTART;TZID=America/New_York:20250524T210000
DTEND;TZID=America/New_York:20250524T213600
DTSTAMP:20260424T053016
CREATED:20250325T231729Z
LAST-MODIFIED:20250506T115204Z
UID:10001183-1748120400-1748122560@darkmusic.net
SUMMARY:The Moons Of Jupiter – World Goth Day Festival 2025
DESCRIPTION:Online event. A specially pre-recorded live set for World Goth Day Festival 2025! Premiering on our YouTube channel 9pm UK time\, Saturday 24th May    https://www.youtube.com/@TheMoonsOfJupiter
URL:https://darkmusic.net/event/the-moons-of-jupiter-world-goth-day-festival-2025/
LOCATION:
CATEGORIES:80's,Dark Dramatic Electro,Dark Electro,Dark Wave,Festival,Goth,Synthpop
ATTACH;FMTTYPE=image/jpeg:https://darkmusic.net/wp-content/uploads/2025/03/475870268_579603965066835_4755407118418511934_n.jpg
END:VEVENT
BEGIN:VEVENT
DTSTART;TZID=America/New_York:20250517T220000
DTEND;TZID=America/New_York:20250518T020000
DTSTAMP:20260424T053016
CREATED:20250423T165308Z
LAST-MODIFIED:20250423T165511Z
UID:10001204-1747519200-1747533600@darkmusic.net
SUMMARY:PSTRNC | Ottawa Goth / Industrial Dance Party
DESCRIPTION:We can’t wait to hang out with you for another night of our favourite dark music! \n\n Mark your calendars for Saturday\, May 17th! DJ Reverie is back\, ready to bring you an unforgettable night. Get ready for a night full of EBM\, Darkwave\, Futurepop\, Aggrotech\, Minimal Wave\, plus an amazing mix of other dark electronic music that will keep you dancing all night long! \n\nRemember\, entry is Pay What You Can  – pay what feels right. Prefer to grab a ticket early?  Grab a ticket on Eventbrite: https://pstrnc-may-2025.eventbrite.ca/?aff=darkmusicnetwork\n\nDoors open at 10 p.m. at Krusch! Come hang out and enjoy the night with us!\n\nDon’t forget to use the hashtag #pstrncottawa on your social media! \n\nLinks:https://linktr.ee/pstrncottawa
URL:https://darkmusic.net/event/pstrnc-ottawa-goth-industrial-dance-party/
LOCATION:Krusch\, 56 Byward Market Square\, Ottawa\, Ontario\, K1N 7A2\, Canada
CATEGORIES:Aggrotech,Club Night,Cyber,Dark Electro,Dark Wave,EBM,FuturePop,Goth,Industrial,Post Punk,Synthpop
ATTACH;FMTTYPE=image/png:https://darkmusic.net/wp-content/uploads/2025/04/flyer-instagram-1.png
ORGANIZER;CN="PSTRNC":MAILTO:djreverie@pstrnc.com
GEO:45.4272709;-75.6926123
X-APPLE-STRUCTURED-LOCATION;VALUE=URI;X-ADDRESS=Krusch 56 Byward Market Square Ottawa Ontario K1N 7A2 Canada;X-APPLE-RADIUS=500;X-TITLE=56 Byward Market Square:geo:-75.6926123,45.4272709
END:VEVENT
BEGIN:VEVENT
DTSTART;TZID=America/Los_Angeles:20250516T210000
DTEND;TZID=America/Los_Angeles:20250517T020000
DTSTAMP:20260424T053016
CREATED:20250228T014046Z
LAST-MODIFIED:20250329T055437Z
UID:10001191-1747429200-1747447200@darkmusic.net
SUMMARY:Syndicate: A Dark Dance Party
DESCRIPTION:Announcing Syndicate: A Dark Dance Party\n\n\n\nHosted by exquisitely empty and Kounter Attack\, Syndicate is a dark dance party held every other Friday located in Downtown Las Vegas’ 21+ boutique hotel\, The Lexi Hotel Las Vegas. \n\n\n\n\nWith 3 rooms (two inside + outside patio)\, 3 vibes\, and 4 DJs\, all fans of the dark\, forbidden\, and underground will find a place to dance the night away. \n\n\n\n\nSpinning your favorites in goth\, post punk\, EBM\, industrial\, dark electro\, and more are resident Vegas DJs Xymox 1107\, D-Stroyer\, The DJ Protokol\, and nolongerhuman. \n\n\nFeature the hottest otherworldly go-go’s\, Alien Vixens\, vendors\, performances\, and more. \n\n\n\n\nFree parking\, free entry\, and drink specials all night. \n\n\n\n\nMore details to come soon. \nSyndicate: For Fans of the Forbidden
URL:https://darkmusic.net/event/syndicate-a-dark-dance-party/2025-05-16/
LOCATION:The Lexi Las Vegas\, 1501 W Sahara Ave\, Las Vegas\, NV\, 89102\, United States
CATEGORIES:Aggrotech,Club Night,Dark Dramatic Electro,Dark Electro,Dark Wave,EBM,Goth,Industrial,Synthpop,Vampire
ATTACH;FMTTYPE=image/png:https://darkmusic.net/wp-content/uploads/2025/02/2025.04.04-Syndicate-Facebook-Profile-Cover.png
ORGANIZER;CN="exquisitely empty":MAILTO:exquisitelyemptylv@gmail.com
GEO:36.1437229;-115.1698193
X-APPLE-STRUCTURED-LOCATION;VALUE=URI;X-ADDRESS=The Lexi Las Vegas 1501 W Sahara Ave Las Vegas NV 89102 United States;X-APPLE-RADIUS=500;X-TITLE=1501 W Sahara Ave:geo:-115.1698193,36.1437229
END:VEVENT
BEGIN:VEVENT
DTSTART;TZID=America/New_York:20250503T203000
DTEND;TZID=America/New_York:20250504T010000
DTSTAMP:20260424T053016
CREATED:20250420T183219Z
LAST-MODIFIED:20250420T183219Z
UID:10001203-1746304200-1746320400@darkmusic.net
SUMMARY:Club ATMOSPHERE #121 Dark Dance
DESCRIPTION:Come join us for an evening of Industrial Goth music and dancing!\nDJ Misstep from Club Terraform in Columbia\, SC will be providing the soundtrack for the evening\nDJ Misstep: https://www.facebook.com/MisStepProject/\nEvent is always 18+.Doors @ 8:30pm every first Saturday.$10 CoverBRING CASH & IDs FOR ADMISSION!!!\nLocated in beautiful downtown Augusta\, Ga. at the corner of 8th st. and Ellis St.\nLe Chat Noir is an off-broad\, black box theatre with a year round production schedule and season tickets available.
URL:https://darkmusic.net/event/club-atmosphere-121-dark-dance/
LOCATION:Le Chat Noir\, 304 8th St\, Augusta\, G\, 30901\, United States
CATEGORIES:Aggrotech,Club Night,Dark Electro,Dark Wave,EBM,Goth,Industrial,Post Punk,Synthpop
ATTACH;FMTTYPE=image/jpeg:https://darkmusic.net/wp-content/uploads/2025/04/491005047_663428253290049_4107018423778271103_n.jpg
ORGANIZER;CN="DJ MISSTEP":MAILTO:clubterraform@gmail.com
GEO:33.474019;-81.9657975
X-APPLE-STRUCTURED-LOCATION;VALUE=URI;X-ADDRESS=Le Chat Noir 304 8th St Augusta G 30901 United States;X-APPLE-RADIUS=500;X-TITLE=304 8th St:geo:-81.9657975,33.474019
END:VEVENT
BEGIN:VEVENT
DTSTART;TZID=America/Los_Angeles:20250502T210000
DTEND;TZID=America/Los_Angeles:20250503T020000
DTSTAMP:20260424T053016
CREATED:20250228T014046Z
LAST-MODIFIED:20250329T055437Z
UID:10001190-1746219600-1746237600@darkmusic.net
SUMMARY:Syndicate: A Dark Dance Party
DESCRIPTION:Announcing Syndicate: A Dark Dance Party\n\n\n\nHosted by exquisitely empty and Kounter Attack\, Syndicate is a dark dance party held every other Friday located in Downtown Las Vegas’ 21+ boutique hotel\, The Lexi Hotel Las Vegas. \n\n\n\n\nWith 3 rooms (two inside + outside patio)\, 3 vibes\, and 4 DJs\, all fans of the dark\, forbidden\, and underground will find a place to dance the night away. \n\n\n\n\nSpinning your favorites in goth\, post punk\, EBM\, industrial\, dark electro\, and more are resident Vegas DJs Xymox 1107\, D-Stroyer\, The DJ Protokol\, and nolongerhuman. \n\n\nFeature the hottest otherworldly go-go’s\, Alien Vixens\, vendors\, performances\, and more. \n\n\n\n\nFree parking\, free entry\, and drink specials all night. \n\n\n\n\nMore details to come soon. \nSyndicate: For Fans of the Forbidden
URL:https://darkmusic.net/event/syndicate-a-dark-dance-party/2025-05-02/
LOCATION:The Lexi Las Vegas\, 1501 W Sahara Ave\, Las Vegas\, NV\, 89102\, United States
CATEGORIES:Aggrotech,Club Night,Dark Dramatic Electro,Dark Electro,Dark Wave,EBM,Goth,Industrial,Synthpop,Vampire
ATTACH;FMTTYPE=image/png:https://darkmusic.net/wp-content/uploads/2025/02/2025.04.04-Syndicate-Facebook-Profile-Cover.png
ORGANIZER;CN="exquisitely empty":MAILTO:exquisitelyemptylv@gmail.com
GEO:36.1437229;-115.1698193
X-APPLE-STRUCTURED-LOCATION;VALUE=URI;X-ADDRESS=The Lexi Las Vegas 1501 W Sahara Ave Las Vegas NV 89102 United States;X-APPLE-RADIUS=500;X-TITLE=1501 W Sahara Ave:geo:-115.1698193,36.1437229
END:VEVENT
BEGIN:VEVENT
DTSTART;TZID=America/New_York:20250426T223000
DTEND;TZID=America/New_York:20250427T020000
DTSTAMP:20260424T053016
CREATED:20250410T005833Z
LAST-MODIFIED:20250410T155957Z
UID:10001198-1745706600-1745719200@darkmusic.net
SUMMARY:KULTURE SHOCK PHILADELPHIA
DESCRIPTION:Greetings Creatures of the Night\nWelcomes You to this Event Kulture Shock with resident DJ DR OCTO-PUSSY spinning Gothic Darkwave Coldwave EBM Industrial and some dark techno ALL NIGHT\nDirectly AFTER CHRISTIAN DEATH PLAYING LIVE at same venue\nKULTURE SHOCK STARTS 10:30 pm SHARP\nvisuals and lightshow a gogo\ncheap drinkscheap thrills $10 cover21 plusDress for Sexxcess ! …or come as you are
URL:https://darkmusic.net/event/kulture-shock-philadelphia/
LOCATION:NIKKI LOPEZ\, 304 SOUTH ST\, Philadelphia\, PA\, PA\, 19147\, United States
CATEGORIES:Dark Electro,Dark Wave,EBM,Goth,Industrial
ATTACH;FMTTYPE=image/jpeg:https://darkmusic.net/wp-content/uploads/2025/04/489989875_10162627784032841_793985029483235415_n.jpg
GEO:39.941327;-75.1478724
X-APPLE-STRUCTURED-LOCATION;VALUE=URI;X-ADDRESS=NIKKI LOPEZ 304 SOUTH ST Philadelphia PA PA 19147 United States;X-APPLE-RADIUS=500;X-TITLE=304 SOUTH ST:geo:-75.1478724,39.941327
END:VEVENT
BEGIN:VEVENT
DTSTART;TZID=America/New_York:20250425T000000
DTEND;TZID=America/New_York:20250427T235959
DTSTAMP:20260424T053016
CREATED:20250228T124002Z
LAST-MODIFIED:20250302T042314Z
UID:10000378-1745539200-1745798399@darkmusic.net
SUMMARY:WHITBY REVENANT
DESCRIPTION:🤘 Introducing Whitby Revenant at The Royal Hotel Whitby. 🤘 \nAn electrifying alternative music festival running biannually alongside Whitby’s legendary goth weekends! 😎🖤 \nExpect thrilling live performances\, immersive experiences\, and a vibrant community celebrating the best of alternative music. \n🔮 Join the movement! Follow https://www.facebook/whitbyrevenant for exclusive announcements\, lineup reveals\, and event updates—you won’t want to miss what we have in store. \n📅 Spring & Summer 2025 \nWeekender & Staycation tickets available \n#WhitbyRevenant #AlternativeMusicFestival #GothWeekend #Whitby #TheRoyalHotel #AlternativeSounds #LiveMusic #goth #punk #rock #alternative # \n3 day festival \nTickets \nhttps://www.skiddle.com/festivals/revenant/
URL:https://darkmusic.net/event/whitby-revenant/
LOCATION:the Royal hotel whitby UK\, Royal Hotel\, West Cliff\,\, Whitby\, YO21 3HA
CATEGORIES:Dark Electro,Festival,Goth,Industrial
ATTACH;FMTTYPE=image/jpeg:https://darkmusic.net/wp-content/uploads/2025/02/inbound8399292106514272051.jpg
GEO:54.4899937;-0.6166367
X-APPLE-STRUCTURED-LOCATION;VALUE=URI;X-ADDRESS=the Royal hotel whitby UK Royal Hotel West Cliff Whitby YO21 3HA;X-APPLE-RADIUS=500;X-TITLE=Royal Hotel\, West Cliff\,:geo:-0.6166367,54.4899937
END:VEVENT
BEGIN:VEVENT
DTSTART;TZID=America/New_York:20250419T220000
DTEND;TZID=America/New_York:20250420T020000
DTSTAMP:20260424T053016
CREATED:20250407T032932Z
LAST-MODIFIED:20250407T032932Z
UID:10001194-1745100000-1745114400@darkmusic.net
SUMMARY:PSTRNC | Goth / Industrial Dance Party in Ottawa
DESCRIPTION:PSTRNC has a new home! Join us upstairs at Krusch (56 Byward Market Square)\, right above The Underground! We can’t wait to hang out with you for another night of our favourite dark music! \n\n Mark your calendars for Saturday\, April 19th! DJ Reverie is back\, ready to bring you an unforgettable night. Get ready for a night full of Darkwave\, EBM\, Synthpop\, and Dark Electro\, plus an amazing mix of other dark electronic music that will keep you dancing all night long! \n\nRemember\, entry is Pay What You Can  – pay what feels right.\nPrefer to grab a ticket early?  Grab a ticket on Eventbrite: https://www.eventbrite.ca/e/pstrnc-goth-industrial-dance-party-tickets-1292154160879?aff=darkmusicnetwork\n\nDoors open at 10 p.m. at Krusch! Come hang out and enjoy the night with us!\n\nDon’t forget to use the hashtag #pstrncottawa on your social media! \n\nLinks:https://linktr.ee/pstrncottawa
URL:https://darkmusic.net/event/pstrnc-goth-industrial-dance-party-in-ottawa/
LOCATION:Krusch\, 56 Byward Market Square\, Ottawa\, Ontario\, K1N 7A2\, Canada
CATEGORIES:Aggrotech,Club Night,Dark Electro,Dark Wave,EBM,FuturePop,Goth,Industrial,Post Punk,Synthpop
ATTACH;FMTTYPE=image/png:https://darkmusic.net/wp-content/uploads/2025/04/flyer-instagram.png
ORGANIZER;CN="PSTRNC":MAILTO:djreverie@pstrnc.com
GEO:45.4272709;-75.6926123
X-APPLE-STRUCTURED-LOCATION;VALUE=URI;X-ADDRESS=Krusch 56 Byward Market Square Ottawa Ontario K1N 7A2 Canada;X-APPLE-RADIUS=500;X-TITLE=56 Byward Market Square:geo:-75.6926123,45.4272709
END:VEVENT
BEGIN:VEVENT
DTSTART;TZID=America/New_York:20250418T210000
DTEND;TZID=America/New_York:20250419T020000
DTSTAMP:20260424T053016
CREATED:20250407T203241Z
LAST-MODIFIED:20250407T203241Z
UID:10001195-1745010000-1745028000@darkmusic.net
SUMMARY:VORTEX Fri April 18th w/ Dr. Octo-Pussy\, ElektriKill (Live)\, Mike Saga & Panzermensch
DESCRIPTION:Mike Saga Proudly Presents:\nVORTEX\nFriday April 18th. 2025\nHop to: // Darkwave // EBM // Industrial // Post-Punk // Goth // Dark Synth \nJoin us for a BAD FRIDAY Easter egg hunt—finally\, an Easter tradition as pointless as your ex’s apologies! Some eggs may contain utterly useless junk\, while others hold actually good prizes like a FREE ticket to a future Vortex. Will you find treasure or trash? Only one way to know! \n*Upon entry\, you’ll receive a ticket for a FREE raffle at 1am to win a pair of passes to The Vampire Freaks DARK FORCE FESTIVAL\, May 2nd–4th in Parsippany\, NJ! \nPerforming live:\nElektrikill\nIndustrial – Alpha\, New Jersey \nGuest Dj: Dr.Octo-Pussy \nVj: Pixel8ter \nResident djs: mighty MIKE SAGA & PANZERMENSCH \nTemptation on the Pole by: LU ANIMA + JULIE BELLS + IVORY MAE + NATASHA BURLY \nFotos: STEPHEN ROSELLI \nVending: JEWELRY by KARA + DARK JASMINE + TINY TERROR + MXR’S MIX \nTime: 9pm – 2am //// 21+ with id \nMore info: “LIKE” www.facebook.com/vortexphilly \nAdmission: $15 (cash only) @ Door \n@ Warehouse on Watts\nDownstairs in Cambridge Hall 923 n Watts St\, Philadelphia PA
URL:https://darkmusic.net/event/vortex-fri-april-18th-w-dr-octo-pussy-elektrikill-live-mike-saga-panzermensch/
LOCATION:Warehouse on Watts\, 923 N. Watts Street\, Philadelphia\, PA\, 19123\, United States
CATEGORIES:Club Night,Concert,Cyber,Dark Electro,Dark Wave,EBM,Goth,Industrial,Post Punk,Synthpop
ATTACH;FMTTYPE=image/jpeg:https://darkmusic.net/wp-content/uploads/2025/04/Vortex-Fri-April-18th-2025-4x6-most-updated-Web.jpg
ORGANIZER;CN="mighty Mike Saga":MAILTO:mightymikesaga@yahoo.com
GEO:39.9707068;-75.1585055
X-APPLE-STRUCTURED-LOCATION;VALUE=URI;X-ADDRESS=Warehouse on Watts 923 N. Watts Street Philadelphia PA 19123 United States;X-APPLE-RADIUS=500;X-TITLE=923 N. Watts Street:geo:-75.1585055,39.9707068
END:VEVENT
BEGIN:VEVENT
DTSTART;TZID=America/Los_Angeles:20250418T210000
DTEND;TZID=America/Los_Angeles:20250419T020000
DTSTAMP:20260424T053016
CREATED:20250228T014046Z
LAST-MODIFIED:20250329T055437Z
UID:10001189-1745010000-1745028000@darkmusic.net
SUMMARY:Syndicate: A Dark Dance Party
DESCRIPTION:Announcing Syndicate: A Dark Dance Party\n\n\n\nHosted by exquisitely empty and Kounter Attack\, Syndicate is a dark dance party held every other Friday located in Downtown Las Vegas’ 21+ boutique hotel\, The Lexi Hotel Las Vegas. \n\n\n\n\nWith 3 rooms (two inside + outside patio)\, 3 vibes\, and 4 DJs\, all fans of the dark\, forbidden\, and underground will find a place to dance the night away. \n\n\n\n\nSpinning your favorites in goth\, post punk\, EBM\, industrial\, dark electro\, and more are resident Vegas DJs Xymox 1107\, D-Stroyer\, The DJ Protokol\, and nolongerhuman. \n\n\nFeature the hottest otherworldly go-go’s\, Alien Vixens\, vendors\, performances\, and more. \n\n\n\n\nFree parking\, free entry\, and drink specials all night. \n\n\n\n\nMore details to come soon. \nSyndicate: For Fans of the Forbidden
URL:https://darkmusic.net/event/syndicate-a-dark-dance-party/2025-04-18/
LOCATION:The Lexi Las Vegas\, 1501 W Sahara Ave\, Las Vegas\, NV\, 89102\, United States
CATEGORIES:Aggrotech,Club Night,Dark Dramatic Electro,Dark Electro,Dark Wave,EBM,Goth,Industrial,Synthpop,Vampire
ATTACH;FMTTYPE=image/png:https://darkmusic.net/wp-content/uploads/2025/02/2025.04.04-Syndicate-Facebook-Profile-Cover.png
ORGANIZER;CN="exquisitely empty":MAILTO:exquisitelyemptylv@gmail.com
GEO:36.1437229;-115.1698193
X-APPLE-STRUCTURED-LOCATION;VALUE=URI;X-ADDRESS=The Lexi Las Vegas 1501 W Sahara Ave Las Vegas NV 89102 United States;X-APPLE-RADIUS=500;X-TITLE=1501 W Sahara Ave:geo:-115.1698193,36.1437229
END:VEVENT
BEGIN:VEVENT
DTSTART;TZID=America/Los_Angeles:20250404T210000
DTEND;TZID=America/Los_Angeles:20250405T020000
DTSTAMP:20260424T053016
CREATED:20250228T014046Z
LAST-MODIFIED:20250329T055437Z
UID:10001188-1743800400-1743818400@darkmusic.net
SUMMARY:Syndicate: A Dark Dance Party
DESCRIPTION:Announcing Syndicate: A Dark Dance Party\n\n\n\nHosted by exquisitely empty and Kounter Attack\, Syndicate is a dark dance party held every other Friday located in Downtown Las Vegas’ 21+ boutique hotel\, The Lexi Hotel Las Vegas. \n\n\n\n\nWith 3 rooms (two inside + outside patio)\, 3 vibes\, and 4 DJs\, all fans of the dark\, forbidden\, and underground will find a place to dance the night away. \n\n\n\n\nSpinning your favorites in goth\, post punk\, EBM\, industrial\, dark electro\, and more are resident Vegas DJs Xymox 1107\, D-Stroyer\, The DJ Protokol\, and nolongerhuman. \n\n\nFeature the hottest otherworldly go-go’s\, Alien Vixens\, vendors\, performances\, and more. \n\n\n\n\nFree parking\, free entry\, and drink specials all night. \n\n\n\n\nMore details to come soon. \nSyndicate: For Fans of the Forbidden
URL:https://darkmusic.net/event/syndicate-a-dark-dance-party/2025-04-04/
LOCATION:The Lexi Las Vegas\, 1501 W Sahara Ave\, Las Vegas\, NV\, 89102\, United States
CATEGORIES:Aggrotech,Club Night,Dark Dramatic Electro,Dark Electro,Dark Wave,EBM,Goth,Industrial,Synthpop,Vampire
ATTACH;FMTTYPE=image/png:https://darkmusic.net/wp-content/uploads/2025/02/2025.04.04-Syndicate-Facebook-Profile-Cover.png
ORGANIZER;CN="exquisitely empty":MAILTO:exquisitelyemptylv@gmail.com
GEO:36.1437229;-115.1698193
X-APPLE-STRUCTURED-LOCATION;VALUE=URI;X-ADDRESS=The Lexi Las Vegas 1501 W Sahara Ave Las Vegas NV 89102 United States;X-APPLE-RADIUS=500;X-TITLE=1501 W Sahara Ave:geo:-115.1698193,36.1437229
END:VEVENT
BEGIN:VEVENT
DTSTART;TZID=America/New_York:20250322T000000
DTEND;TZID=America/New_York:20250518T235959
DTSTAMP:20260424T053016
CREATED:20250317T151742Z
LAST-MODIFIED:20250317T151742Z
UID:10000392-1742601600-1747612799@darkmusic.net
SUMMARY:Cursed CD Release Parties
DESCRIPTION:There will be various CD release parties for Sina Matix’s Cursed EP nationwide.  Please see flyer for details.
URL:https://darkmusic.net/event/cursed-cd-release-parties/
LOCATION:Various
CATEGORIES:Club Night,Dark Dramatic Electro,Dark Electro,Dark Wave,EBM
ATTACH;FMTTYPE=image/png:https://darkmusic.net/wp-content/uploads/2025/03/Cursed-CD-Release-Party-Flyer.png
END:VEVENT
BEGIN:VEVENT
DTSTART;TZID=America/Los_Angeles:20250321T210000
DTEND;TZID=America/Los_Angeles:20250322T020000
DTSTAMP:20260424T053016
CREATED:20250228T014046Z
LAST-MODIFIED:20250329T055437Z
UID:10001187-1742590800-1742608800@darkmusic.net
SUMMARY:Syndicate: A Dark Dance Party
DESCRIPTION:Announcing Syndicate: A Dark Dance Party\n\n\n\nHosted by exquisitely empty and Kounter Attack\, Syndicate is a dark dance party held every other Friday located in Downtown Las Vegas’ 21+ boutique hotel\, The Lexi Hotel Las Vegas. \n\n\n\n\nWith 3 rooms (two inside + outside patio)\, 3 vibes\, and 4 DJs\, all fans of the dark\, forbidden\, and underground will find a place to dance the night away. \n\n\n\n\nSpinning your favorites in goth\, post punk\, EBM\, industrial\, dark electro\, and more are resident Vegas DJs Xymox 1107\, D-Stroyer\, The DJ Protokol\, and nolongerhuman. \n\n\nFeature the hottest otherworldly go-go’s\, Alien Vixens\, vendors\, performances\, and more. \n\n\n\n\nFree parking\, free entry\, and drink specials all night. \n\n\n\n\nMore details to come soon. \nSyndicate: For Fans of the Forbidden
URL:https://darkmusic.net/event/syndicate-a-dark-dance-party/2025-03-21/
LOCATION:The Lexi Las Vegas\, 1501 W Sahara Ave\, Las Vegas\, NV\, 89102\, United States
CATEGORIES:Aggrotech,Club Night,Dark Dramatic Electro,Dark Electro,Dark Wave,EBM,Goth,Industrial,Synthpop,Vampire
ATTACH;FMTTYPE=image/png:https://darkmusic.net/wp-content/uploads/2025/02/2025.04.04-Syndicate-Facebook-Profile-Cover.png
ORGANIZER;CN="exquisitely empty":MAILTO:exquisitelyemptylv@gmail.com
GEO:36.1437229;-115.1698193
X-APPLE-STRUCTURED-LOCATION;VALUE=URI;X-ADDRESS=The Lexi Las Vegas 1501 W Sahara Ave Las Vegas NV 89102 United States;X-APPLE-RADIUS=500;X-TITLE=1501 W Sahara Ave:geo:-115.1698193,36.1437229
END:VEVENT
BEGIN:VEVENT
DTSTART;TZID=America/Los_Angeles:20250307T210000
DTEND;TZID=America/Los_Angeles:20250308T020000
DTSTAMP:20260424T053016
CREATED:20250228T014046Z
LAST-MODIFIED:20250329T055437Z
UID:10001186-1741381200-1741399200@darkmusic.net
SUMMARY:Syndicate: A Dark Dance Party
DESCRIPTION:Announcing Syndicate: A Dark Dance Party\n\n\n\nHosted by exquisitely empty and Kounter Attack\, Syndicate is a dark dance party held every other Friday located in Downtown Las Vegas’ 21+ boutique hotel\, The Lexi Hotel Las Vegas. \n\n\n\n\nWith 3 rooms (two inside + outside patio)\, 3 vibes\, and 4 DJs\, all fans of the dark\, forbidden\, and underground will find a place to dance the night away. \n\n\n\n\nSpinning your favorites in goth\, post punk\, EBM\, industrial\, dark electro\, and more are resident Vegas DJs Xymox 1107\, D-Stroyer\, The DJ Protokol\, and nolongerhuman. \n\n\nFeature the hottest otherworldly go-go’s\, Alien Vixens\, vendors\, performances\, and more. \n\n\n\n\nFree parking\, free entry\, and drink specials all night. \n\n\n\n\nMore details to come soon. \nSyndicate: For Fans of the Forbidden
URL:https://darkmusic.net/event/syndicate-a-dark-dance-party/2025-03-07/
LOCATION:The Lexi Las Vegas\, 1501 W Sahara Ave\, Las Vegas\, NV\, 89102\, United States
CATEGORIES:Aggrotech,Club Night,Dark Dramatic Electro,Dark Electro,Dark Wave,EBM,Goth,Industrial,Synthpop,Vampire
ATTACH;FMTTYPE=image/png:https://darkmusic.net/wp-content/uploads/2025/02/2025.04.04-Syndicate-Facebook-Profile-Cover.png
ORGANIZER;CN="exquisitely empty":MAILTO:exquisitelyemptylv@gmail.com
GEO:36.1437229;-115.1698193
X-APPLE-STRUCTURED-LOCATION;VALUE=URI;X-ADDRESS=The Lexi Las Vegas 1501 W Sahara Ave Las Vegas NV 89102 United States;X-APPLE-RADIUS=500;X-TITLE=1501 W Sahara Ave:geo:-115.1698193,36.1437229
END:VEVENT
END:VCALENDAR