BEGIN:VCALENDAR
VERSION:2.0
PRODID:-//The Dark Music Network - ECPv6.15.20//NONSGML v1.0//EN
CALSCALE:GREGORIAN
METHOD:PUBLISH
X-ORIGINAL-URL:https://darkmusic.net
X-WR-CALDESC:Events for The Dark Music Network
REFRESH-INTERVAL;VALUE=DURATION:PT1H
X-Robots-Tag:noindex
X-PUBLISHED-TTL:PT1H
BEGIN:VTIMEZONE
TZID:America/New_York
BEGIN:DAYLIGHT
TZOFFSETFROM:-0500
TZOFFSETTO:-0400
TZNAME:EDT
DTSTART:20240310T070000
END:DAYLIGHT
BEGIN:STANDARD
TZOFFSETFROM:-0400
TZOFFSETTO:-0500
TZNAME:EST
DTSTART:20241103T060000
END:STANDARD
BEGIN:DAYLIGHT
TZOFFSETFROM:-0500
TZOFFSETTO:-0400
TZNAME:EDT
DTSTART:20250309T070000
END:DAYLIGHT
BEGIN:STANDARD
TZOFFSETFROM:-0400
TZOFFSETTO:-0500
TZNAME:EST
DTSTART:20251102T060000
END:STANDARD
BEGIN:DAYLIGHT
TZOFFSETFROM:-0500
TZOFFSETTO:-0400
TZNAME:EDT
DTSTART:20260308T070000
END:DAYLIGHT
BEGIN:STANDARD
TZOFFSETFROM:-0400
TZOFFSETTO:-0500
TZNAME:EST
DTSTART:20261101T060000
END:STANDARD
END:VTIMEZONE
BEGIN:VEVENT
DTSTART;TZID=America/New_York:20250524T210000
DTEND;TZID=America/New_York:20250524T213600
DTSTAMP:20260425T120117
CREATED:20250325T231729Z
LAST-MODIFIED:20250506T115204Z
UID:10001183-1748120400-1748122560@darkmusic.net
SUMMARY:The Moons Of Jupiter – World Goth Day Festival 2025
DESCRIPTION:Online event. A specially pre-recorded live set for World Goth Day Festival 2025! Premiering on our YouTube channel 9pm UK time\, Saturday 24th May    https://www.youtube.com/@TheMoonsOfJupiter
URL:https://darkmusic.net/event/the-moons-of-jupiter-world-goth-day-festival-2025/
LOCATION:
CATEGORIES:80's,Dark Dramatic Electro,Dark Electro,Dark Wave,Festival,Goth,Synthpop
ATTACH;FMTTYPE=image/jpeg:https://darkmusic.net/wp-content/uploads/2025/03/475870268_579603965066835_4755407118418511934_n.jpg
END:VEVENT
END:VCALENDAR