BEGIN:VCALENDAR
VERSION:2.0
PRODID:-//The Dark Music Network - ECPv6.15.20//NONSGML v1.0//EN
CALSCALE:GREGORIAN
METHOD:PUBLISH
X-ORIGINAL-URL:https://darkmusic.net
X-WR-CALDESC:Events for The Dark Music Network
REFRESH-INTERVAL;VALUE=DURATION:PT1H
X-Robots-Tag:noindex
X-PUBLISHED-TTL:PT1H
BEGIN:VTIMEZONE
TZID:America/New_York
BEGIN:DAYLIGHT
TZOFFSETFROM:-0500
TZOFFSETTO:-0400
TZNAME:EDT
DTSTART:20240310T070000
END:DAYLIGHT
BEGIN:STANDARD
TZOFFSETFROM:-0400
TZOFFSETTO:-0500
TZNAME:EST
DTSTART:20241103T060000
END:STANDARD
BEGIN:DAYLIGHT
TZOFFSETFROM:-0500
TZOFFSETTO:-0400
TZNAME:EDT
DTSTART:20250309T070000
END:DAYLIGHT
BEGIN:STANDARD
TZOFFSETFROM:-0400
TZOFFSETTO:-0500
TZNAME:EST
DTSTART:20251102T060000
END:STANDARD
BEGIN:DAYLIGHT
TZOFFSETFROM:-0500
TZOFFSETTO:-0400
TZNAME:EDT
DTSTART:20260308T070000
END:DAYLIGHT
BEGIN:STANDARD
TZOFFSETFROM:-0400
TZOFFSETTO:-0500
TZNAME:EST
DTSTART:20261101T060000
END:STANDARD
END:VTIMEZONE
BEGIN:VEVENT
DTSTART;TZID=America/New_York:20251001T170000
DTEND;TZID=America/New_York:20251001T180000
DTSTAMP:20260425T062728
CREATED:20251001T184828Z
LAST-MODIFIED:20251001T184828Z
UID:10001316-1759338000-1759341600@darkmusic.net
SUMMARY:New Music O' Clock on eMpTyVeeTV Hosted By Coor Brow-Obles
DESCRIPTION:WEDNESDAY\, OCTOBER 1 \nNew Music O’ Clock On eMpTyVeeTV Hosted By: \nCoor Brow-Obles \nFeaturing Music Videos Submitted By \nCoor Brow-Obles (Maidstone\, UK) \nCoppergear (Québec\, Canada) \nFae Fatale (Los Angeles\, California\, U.S.) – Courtesy of Nightime Asylum PR \nHALLOWS (Los Angeles\, California\, U.S.) \nImmortal Girlfriend (Milwaukee\, Wisconsin\, U.S.) \nthewalkingicon – On Negative Gain Productions \nvague phonique (Stuttgart\, Germany) \nWho Saw Her Die? (Louisville\, Kentucky\, U.S.) \nBeginning \n2p PT / 3p CDMX / 4p CT / 5p ET \n9p GMT / 10p BST / 11p CEST \n00:00 (Thursday) EEST \n8a (Thursday) Sydney\, Australia \n10a (Thursday) Aotearoa \nBroadcasting On https://twitch.tv/eMpTyVeeTV \n 
URL:https://darkmusic.net/event/new-music-o-clock-on-emptyveetv-hosted-by-coor-brow-obles/
LOCATION:Twitch
CATEGORIES:Dark Alternative,Dark Dramatic Electro,Dark Electro,Dark Wave,Goth,Music Video,Post Punk,Synthpop
ATTACH;FMTTYPE=image/jpeg:https://darkmusic.net/wp-content/uploads/2025/10/553411192_24279038995112631_4199994716725913323_n.jpg
ORGANIZER;CN="eMpTyVeeTV":MAILTO:eMpTyVee.TV@gmail.com
GEO:55.378051;-3.435973
END:VEVENT
BEGIN:VEVENT
DTSTART;TZID=America/New_York:20251005T120000
DTEND;TZID=America/New_York:20251005T130000
DTSTAMP:20260425T062728
CREATED:20251001T193519Z
LAST-MODIFIED:20251001T193519Z
UID:10001317-1759665600-1759669200@darkmusic.net
SUMMARY:Replay of New Music O' Clock on eMpTyVeeTV Hosted by Coor Brow-Obles
DESCRIPTION:SUNDAY\, OCTOBER 5 \nREPLAY of New Music O’ Clock on eMpTyVeeTV Hosted By \nCoor Brow-Obles \nFeaturing Music Videos Submitted By \nCoor Brow-Obles (Maidstone\, UK) \nCoppergear (Québec\, Canada) \nFae Fatale (Los Angeles\, California\, U.S.) – Courtesy of Nightime Asylum PR \nHALLOWS (Los Angeles\, California\, U.S.) \nImmortal Girlfriend (Milwaukee\, Wisconsin\, U.S.) \nthewalkingicon – On Negative Gain Productions \nvague phonique (Stuttgart\, Germany) \nWho Saw Her Die? (Louisville\, Kentucky\, U.S.) \nBegins \n9am PT / 10am CDMX / 11am CT / Noon ET \n1pm CLST / 4pm GMT / 5pm BST / 6pm CEST / 7pm EEST \n3am (Monday) Sydney\, Australia \n5am (Monday) Aotearoa \nBroadcasting On https://twitch.tv/eMpTyVeeTV \n 
URL:https://darkmusic.net/event/replay-of-new-music-o-clock-on-emptyveetv-hosted-by-coor-brow-obles/
LOCATION:Twitch
CATEGORIES:Dark Alternative,Dark Dramatic Electro,Dark Electro,Dark Wave,Goth,Music Video,Post Punk,Replay,Synthpop
ATTACH;FMTTYPE=image/jpeg:https://darkmusic.net/wp-content/uploads/2025/10/MBK7GBS5.jpg
ORGANIZER;CN="eMpTyVeeTV":MAILTO:eMpTyVee.TV@gmail.com
GEO:55.378051;-3.435973
END:VEVENT
BEGIN:VEVENT
DTSTART;TZID=America/New_York:20251101T203000
DTEND;TZID=America/New_York:20251102T020000
DTSTAMP:20260425T062728
CREATED:20251028T171618Z
LAST-MODIFIED:20251028T171618Z
UID:10001319-1762029000-1762048800@darkmusic.net
SUMMARY:ATMOSPHERE #127: AFTER HALLOWEEN PARTY
DESCRIPTION:Come join us for an evening of Goth music and dancing Halloween Style!!!\nDJ Misstep from Club Terraform in Columbia\, SC will be providing the soundtrack for the evening spinning the spooky tunes.\nDJ Misstep: https://www.facebook.com/MisStepProject/\nCostumes encouraged!!!\nEvent is always 18+.\nDoors @ 8:30pm every first Saturday.\n$10 Cover\nBRING CASH & IDs FOR ADMISSION!!!\nLocated in beautiful downtown Augusta\, Ga. at the corner of 8th st. and Ellis St.\nLe Chat Noir is an off-broad\, black box theatre with a year-round production schedule and season tickets available. \nHome
URL:https://darkmusic.net/event/atmosphere-127-after-halloween-party/
LOCATION:Le Chat Noir\, 304 8th St\, Augusta\, G\, 30901\, United States
CATEGORIES:Aggrotech,Club Night,Dark Alternative,Dark Dramatic Electro,Dark Electro,Dark Wave,EBM,FuturePop,Goth,Industrial,Post Punk,Synthpop,Vampire,Wiccan,Witch
ATTACH;FMTTYPE=image/jpeg:https://darkmusic.net/wp-content/uploads/2025/10/560460047_813135318319341_7287481591158109581_n.jpg
ORGANIZER;CN="DJ MISSTEP":MAILTO:clubterraform@gmail.com
GEO:33.474019;-81.9657975
X-APPLE-STRUCTURED-LOCATION;VALUE=URI;X-ADDRESS=Le Chat Noir 304 8th St Augusta G 30901 United States;X-APPLE-RADIUS=500;X-TITLE=304 8th St:geo:-81.9657975,33.474019
END:VEVENT
END:VCALENDAR