BEGIN:VCALENDAR
VERSION:2.0
PRODID:-//The Dark Music Network - ECPv6.15.20//NONSGML v1.0//EN
CALSCALE:GREGORIAN
METHOD:PUBLISH
X-ORIGINAL-URL:https://darkmusic.net
X-WR-CALDESC:Events for The Dark Music Network
REFRESH-INTERVAL;VALUE=DURATION:PT1H
X-Robots-Tag:noindex
X-PUBLISHED-TTL:PT1H
BEGIN:VTIMEZONE
TZID:America/New_York
BEGIN:DAYLIGHT
TZOFFSETFROM:-0500
TZOFFSETTO:-0400
TZNAME:EDT
DTSTART:20240310T070000
END:DAYLIGHT
BEGIN:STANDARD
TZOFFSETFROM:-0400
TZOFFSETTO:-0500
TZNAME:EST
DTSTART:20241103T060000
END:STANDARD
BEGIN:DAYLIGHT
TZOFFSETFROM:-0500
TZOFFSETTO:-0400
TZNAME:EDT
DTSTART:20250309T070000
END:DAYLIGHT
BEGIN:STANDARD
TZOFFSETFROM:-0400
TZOFFSETTO:-0500
TZNAME:EST
DTSTART:20251102T060000
END:STANDARD
BEGIN:DAYLIGHT
TZOFFSETFROM:-0500
TZOFFSETTO:-0400
TZNAME:EDT
DTSTART:20260308T070000
END:DAYLIGHT
BEGIN:STANDARD
TZOFFSETFROM:-0400
TZOFFSETTO:-0500
TZNAME:EST
DTSTART:20261101T060000
END:STANDARD
END:VTIMEZONE
BEGIN:VEVENT
DTSTART;TZID=America/New_York:20250322T000000
DTEND;TZID=America/New_York:20250518T235959
DTSTAMP:20260425T075910
CREATED:20250317T151742Z
LAST-MODIFIED:20250317T151742Z
UID:10000392-1742601600-1747612799@darkmusic.net
SUMMARY:Cursed CD Release Parties
DESCRIPTION:There will be various CD release parties for Sina Matix’s Cursed EP nationwide.  Please see flyer for details.
URL:https://darkmusic.net/event/cursed-cd-release-parties/
LOCATION:Various
CATEGORIES:Club Night,Dark Dramatic Electro,Dark Electro,Dark Wave,EBM
ATTACH;FMTTYPE=image/png:https://darkmusic.net/wp-content/uploads/2025/03/Cursed-CD-Release-Party-Flyer.png
END:VEVENT
END:VCALENDAR