BEGIN:VCALENDAR
VERSION:2.0
PRODID:-//The Dark Music Network - ECPv6.15.20//NONSGML v1.0//EN
CALSCALE:GREGORIAN
METHOD:PUBLISH
X-WR-CALNAME:The Dark Music Network
X-ORIGINAL-URL:https://darkmusic.net
X-WR-CALDESC:Events for The Dark Music Network
REFRESH-INTERVAL;VALUE=DURATION:PT1H
X-Robots-Tag:noindex
X-PUBLISHED-TTL:PT1H
BEGIN:VTIMEZONE
TZID:America/New_York
BEGIN:DAYLIGHT
TZOFFSETFROM:-0500
TZOFFSETTO:-0400
TZNAME:EDT
DTSTART:20240310T070000
END:DAYLIGHT
BEGIN:STANDARD
TZOFFSETFROM:-0400
TZOFFSETTO:-0500
TZNAME:EST
DTSTART:20241103T060000
END:STANDARD
BEGIN:DAYLIGHT
TZOFFSETFROM:-0500
TZOFFSETTO:-0400
TZNAME:EDT
DTSTART:20250309T070000
END:DAYLIGHT
BEGIN:STANDARD
TZOFFSETFROM:-0400
TZOFFSETTO:-0500
TZNAME:EST
DTSTART:20251102T060000
END:STANDARD
BEGIN:DAYLIGHT
TZOFFSETFROM:-0500
TZOFFSETTO:-0400
TZNAME:EDT
DTSTART:20260308T070000
END:DAYLIGHT
BEGIN:STANDARD
TZOFFSETFROM:-0400
TZOFFSETTO:-0500
TZNAME:EST
DTSTART:20261101T060000
END:STANDARD
END:VTIMEZONE
BEGIN:VEVENT
DTSTART;TZID=America/New_York:20250903T170000
DTEND;TZID=America/New_York:20250903T180000
DTSTAMP:20260424T104251
CREATED:20250826T154919Z
LAST-MODIFIED:20250826T154919Z
UID:10001307-1756918800-1756922400@darkmusic.net
SUMMARY:New Music O' Clock on eMpTyVeeTV Hosted by Lark Detweiler
DESCRIPTION:Wednesday\, September 3 \nNew Music O’ Clock Hosted by Lark Detweiler \nLark Detweiler is a dancer\, choreographer\, and bass player for the band Spiralteeth \nFeaturing Music Videos / Lyric Videos Submitted By: \nCoor Brow-Obles (Maidstone\, UK) \nDaffodildos (Brighton\, UK) – On Not Saints \nHasswut (Spain) – Courtesy of Negative Gain Productions \nHviress (Brighton\, UK) – On GIVE/TAKE \nNow After Nothing (Atlanta\, Georgia\, U.S.) – A Curse Mackey Remix \nRed Lorry Yellow Lorry (Leeds\, UK) – Courtesy of COP International \nShe 1 Him 2 (Cleveland\, Ohio\, U.S.) \nSolo Ansamblis (Vilnius\, Lithuania) – Courtesy of Artoffact Records and Damn Good (Lithuania) \nSpiralteeth (Los Angeles\, California\, U.S.) \nThe Halo Trees (Berlin\, Germany) – Courtesy of COP International \nTwice Dark (Bloomington\, Indiana\, U.S.) \nWho Saw Her Die? (Louisville\, Kentucky\, U.S.) \nBEGINNING \n2pm PT / 3pm CDMX / 4pm CT / 5pm ET \n6pm ART / 9pm GMT / 10pm BST / 11pm CEST \nMidnight (Thursday\, September 4) EEST \n8am (Thursday\, September 4) Sydney\, Australia \n10am (Thursday\, September 4) Aotearoa \nBROADCASTING ON https://twitch.tv/eMpTyVeeTV
URL:https://darkmusic.net/event/new-music-o-clock-on-emptyveetv-hosted-by-lark-detweiler/
LOCATION:Twitch
CATEGORIES:Dark Alternative,Dark Dramatic Electro,Dark Electro,Dark Wave,Goth,Music Video,Post Punk,Synthpop
ATTACH;FMTTYPE=image/jpeg:https://darkmusic.net/wp-content/uploads/2025/08/qGORx5tn.jpg
ORGANIZER;CN="eMpTyVeeTV":MAILTO:eMpTyVee.TV@gmail.com
GEO:55.378051;-3.435973
END:VEVENT
BEGIN:VEVENT
DTSTART;TZID=America/New_York:20250924T170000
DTEND;TZID=America/New_York:20250924T180000
DTSTAMP:20260424T104251
CREATED:20250924T024627Z
LAST-MODIFIED:20250924T024627Z
UID:10001314-1758733200-1758736800@darkmusic.net
SUMMARY:New Music O' Clock on eMpTyVeeTV Hosted By DJ Addambombb
DESCRIPTION:Wednesday\, September 24 \nNew Music O’ Clock on eMpTyVeeTV \nHosted by: DJ Addambombb \nFeaturing Music Videos Submitted By: \nFÆNGS (Jacksonville\, Florida\, U.S.) \nHALLOWS (Los Angeles\, California\, U.S.) \nJason Alacrity (Los Angeles\, California\, U.S.) – On Negative Gain \nLoveth Besamoh (Originally from Cameroon\, Now based in Rotterdam\, Netherlands) – Courtesy of Nightime Asylum PR \nNikk Fail (Milan\, Italy) Featuring Neko-ly and Pat Matrone \nThis Eternal Decay (Rome\, Italy) – On Trisol Music Group \nBegins \n2pm PT / 3pm CDMX / 4pm CT / 5pm ET \n6pm CLST / 9pm GMT / 10pm BST / 11pm CEST \n00:00 (Thursday\, September 25) EEST \n8am (Thursday\, September 25) Sydney\, Australia \n10am (Thursday\, September 25) Aotearoa \nBroadcasting On : https://twitch.tv/eMpTyVeeTV
URL:https://darkmusic.net/event/new-music-o-clock-on-emptyveetv-hosted-by-dj-addambombb-2/
LOCATION:Twitch
CATEGORIES:Dark Alternative,Dark Dramatic Electro,Dark Electro,Dark Wave,EBM,Goth,Industrial,Metal,Music Video,Post Punk,Synthpop
ATTACH;FMTTYPE=image/jpeg:https://darkmusic.net/wp-content/uploads/2025/09/552579345_1133408238992809_4358383467793289708_n.jpg
ORGANIZER;CN="eMpTyVeeTV":MAILTO:eMpTyVee.TV@gmail.com
GEO:55.378051;-3.435973
END:VEVENT
BEGIN:VEVENT
DTSTART;TZID=America/New_York:20250928T120000
DTEND;TZID=America/New_York:20250928T130000
DTSTAMP:20260424T104251
CREATED:20250924T025726Z
LAST-MODIFIED:20250924T025726Z
UID:10001315-1759060800-1759064400@darkmusic.net
SUMMARY:Replay of New Music O' Clock on eMpTyVeeTV Hosted By DJ Addambombb
DESCRIPTION:Sunday\, September 28 – REPLAY of New Music O’ Clock on eMpTyVeeTV \nHosted By: DJ Addambombb \nFeaturing Music Videos Submitted By: \nFÆNGS (Jacksonville\, Florida\, U.S.) \nHALLOWS (Los Angeles\, California\, U.S.) \nJason Alacrity (Los Angeles\, California\, U.S.) – On Negative Gain \nLoveth Besamoh (Originally from Cameroon\, Now based in Rotterdam\, Netherlands) – Courtesy of Nightime Asylum PR \nNikk Fail (Milan\, Italy) – Featuring Neko-ly and Pat Matrone \nThis Eternal Decay (Rome\, Italy) – On Trisol Music Group \nBegins \n9am PT / 10am CDMX / 11am CT / Noon ET \n1pm CLST / 4pm GMT / 5pm BST / 6pm CEST / 7pm EEST \n3am (Monday\, September 29) Sydney\, Australia \n5am (Monday\, September 29) Aotearoa \nBroadcasting On https://twitch.tv/eMpTyVeeTV
URL:https://darkmusic.net/event/replay-of-new-music-o-clock-on-emptyveetv-hosted-by-dj-addambombb-2/
LOCATION:Twitch
CATEGORIES:Dark Alternative,Dark Dramatic Electro,Dark Electro,Dark Wave,EBM,Goth,Industrial,Metal,Music Video,Post Punk,Replay,Synthpop
ATTACH;FMTTYPE=image/jpeg:https://darkmusic.net/wp-content/uploads/2025/09/F3h89U5R.jpg
ORGANIZER;CN="eMpTyVeeTV":MAILTO:eMpTyVee.TV@gmail.com
GEO:55.378051;-3.435973
END:VEVENT
END:VCALENDAR