BEGIN:VCALENDAR
VERSION:2.0
PRODID:-//The Dark Music Network - ECPv6.15.20//NONSGML v1.0//EN
CALSCALE:GREGORIAN
METHOD:PUBLISH
X-WR-CALNAME:The Dark Music Network
X-ORIGINAL-URL:https://darkmusic.net
X-WR-CALDESC:Events for The Dark Music Network
REFRESH-INTERVAL;VALUE=DURATION:PT1H
X-Robots-Tag:noindex
X-PUBLISHED-TTL:PT1H
BEGIN:VTIMEZONE
TZID:America/New_York
BEGIN:DAYLIGHT
TZOFFSETFROM:-0500
TZOFFSETTO:-0400
TZNAME:EDT
DTSTART:20240310T070000
END:DAYLIGHT
BEGIN:STANDARD
TZOFFSETFROM:-0400
TZOFFSETTO:-0500
TZNAME:EST
DTSTART:20241103T060000
END:STANDARD
BEGIN:DAYLIGHT
TZOFFSETFROM:-0500
TZOFFSETTO:-0400
TZNAME:EDT
DTSTART:20250309T070000
END:DAYLIGHT
BEGIN:STANDARD
TZOFFSETFROM:-0400
TZOFFSETTO:-0500
TZNAME:EST
DTSTART:20251102T060000
END:STANDARD
BEGIN:DAYLIGHT
TZOFFSETFROM:-0500
TZOFFSETTO:-0400
TZNAME:EDT
DTSTART:20260308T070000
END:DAYLIGHT
BEGIN:STANDARD
TZOFFSETFROM:-0400
TZOFFSETTO:-0500
TZNAME:EST
DTSTART:20261101T060000
END:STANDARD
BEGIN:DAYLIGHT
TZOFFSETFROM:-0500
TZOFFSETTO:-0400
TZNAME:EDT
DTSTART:20270314T070000
END:DAYLIGHT
BEGIN:STANDARD
TZOFFSETFROM:-0400
TZOFFSETTO:-0500
TZNAME:EST
DTSTART:20271107T060000
END:STANDARD
BEGIN:DAYLIGHT
TZOFFSETFROM:-0500
TZOFFSETTO:-0400
TZNAME:EDT
DTSTART:20280312T070000
END:DAYLIGHT
BEGIN:STANDARD
TZOFFSETFROM:-0400
TZOFFSETTO:-0500
TZNAME:EST
DTSTART:20281105T060000
END:STANDARD
BEGIN:DAYLIGHT
TZOFFSETFROM:-0500
TZOFFSETTO:-0400
TZNAME:EDT
DTSTART:20290311T070000
END:DAYLIGHT
BEGIN:STANDARD
TZOFFSETFROM:-0400
TZOFFSETTO:-0500
TZNAME:EST
DTSTART:20291104T060000
END:STANDARD
END:VTIMEZONE
BEGIN:VEVENT
DTSTART;TZID=America/New_York:20251101T203000
DTEND;TZID=America/New_York:20251102T020000
DTSTAMP:20260425T124529
CREATED:20251028T171618Z
LAST-MODIFIED:20251028T171618Z
UID:10001319-1762029000-1762048800@darkmusic.net
SUMMARY:ATMOSPHERE #127: AFTER HALLOWEEN PARTY
DESCRIPTION:Come join us for an evening of Goth music and dancing Halloween Style!!!\nDJ Misstep from Club Terraform in Columbia\, SC will be providing the soundtrack for the evening spinning the spooky tunes.\nDJ Misstep: https://www.facebook.com/MisStepProject/\nCostumes encouraged!!!\nEvent is always 18+.\nDoors @ 8:30pm every first Saturday.\n$10 Cover\nBRING CASH & IDs FOR ADMISSION!!!\nLocated in beautiful downtown Augusta\, Ga. at the corner of 8th st. and Ellis St.\nLe Chat Noir is an off-broad\, black box theatre with a year-round production schedule and season tickets available. \nHome
URL:https://darkmusic.net/event/atmosphere-127-after-halloween-party/
LOCATION:Le Chat Noir\, 304 8th St\, Augusta\, G\, 30901\, United States
CATEGORIES:Aggrotech,Club Night,Dark Alternative,Dark Dramatic Electro,Dark Electro,Dark Wave,EBM,FuturePop,Goth,Industrial,Post Punk,Synthpop,Vampire,Wiccan,Witch
ATTACH;FMTTYPE=image/jpeg:https://darkmusic.net/wp-content/uploads/2025/10/560460047_813135318319341_7287481591158109581_n.jpg
ORGANIZER;CN="DJ MISSTEP":MAILTO:clubterraform@gmail.com
GEO:33.474019;-81.9657975
X-APPLE-STRUCTURED-LOCATION;VALUE=URI;X-ADDRESS=Le Chat Noir 304 8th St Augusta G 30901 United States;X-APPLE-RADIUS=500;X-TITLE=304 8th St:geo:-81.9657975,33.474019
END:VEVENT
BEGIN:VEVENT
DTSTART;TZID=America/New_York:20260418T210000
DTEND;TZID=America/New_York:20260419T020000
DTSTAMP:20260425T124529
CREATED:20260417T113437Z
LAST-MODIFIED:20260417T114330Z
UID:10001329-1776546000-1776564000@darkmusic.net
SUMMARY:Club Sinthesis
DESCRIPTION:Industrial\, EBM\, Electro and Dark Dance \nEvery 3rd Saturday\, head to The Red Light Lounge at 1901 Harney St in Omaha\, NE for Club Sinthesis! \nResident DJs Sado_Naut\, Barrens\, and Nevermore\, plus featured guests.
URL:https://darkmusic.net/event/club-sinthesis/2026-04-18/
LOCATION:Red Light Lounge\, 1901 Harney St\, Omaha\, NE\, United States
CATEGORIES:Aggrotech,Club Night,Cyber,Dark Alternative,Dark Electro,Dark Wave,EBM,FuturePop,Industrial,Synthpop
ATTACH;FMTTYPE=image/jpeg:https://darkmusic.net/wp-content/uploads/2026/04/1000028890.jpg
END:VEVENT
BEGIN:VEVENT
DTSTART;TZID=America/New_York:20260516T210000
DTEND;TZID=America/New_York:20260517T020000
DTSTAMP:20260425T124529
CREATED:20260417T113437Z
LAST-MODIFIED:20260417T114330Z
UID:10001339-1778965200-1778983200@darkmusic.net
SUMMARY:Club Sinthesis
DESCRIPTION:Industrial\, EBM\, Electro and Dark Dance \nEvery 3rd Saturday\, head to The Red Light Lounge at 1901 Harney St in Omaha\, NE for Club Sinthesis! \nResident DJs Sado_Naut\, Barrens\, and Nevermore\, plus featured guests.
URL:https://darkmusic.net/event/club-sinthesis/2026-05-16/
LOCATION:Red Light Lounge\, 1901 Harney St\, Omaha\, NE\, United States
CATEGORIES:Aggrotech,Club Night,Cyber,Dark Alternative,Dark Electro,Dark Wave,EBM,FuturePop,Industrial,Synthpop
ATTACH;FMTTYPE=image/jpeg:https://darkmusic.net/wp-content/uploads/2026/04/1000028890.jpg
END:VEVENT
BEGIN:VEVENT
DTSTART;TZID=America/New_York:20260620T210000
DTEND;TZID=America/New_York:20260621T020000
DTSTAMP:20260425T124529
CREATED:20260417T113437Z
LAST-MODIFIED:20260417T114330Z
UID:10001340-1781989200-1782007200@darkmusic.net
SUMMARY:Club Sinthesis
DESCRIPTION:Industrial\, EBM\, Electro and Dark Dance \nEvery 3rd Saturday\, head to The Red Light Lounge at 1901 Harney St in Omaha\, NE for Club Sinthesis! \nResident DJs Sado_Naut\, Barrens\, and Nevermore\, plus featured guests.
URL:https://darkmusic.net/event/club-sinthesis/2026-06-20/
LOCATION:Red Light Lounge\, 1901 Harney St\, Omaha\, NE\, United States
CATEGORIES:Aggrotech,Club Night,Cyber,Dark Alternative,Dark Electro,Dark Wave,EBM,FuturePop,Industrial,Synthpop
ATTACH;FMTTYPE=image/jpeg:https://darkmusic.net/wp-content/uploads/2026/04/1000028890.jpg
END:VEVENT
BEGIN:VEVENT
DTSTART;TZID=America/New_York:20260718T210000
DTEND;TZID=America/New_York:20260719T020000
DTSTAMP:20260425T124529
CREATED:20260417T113437Z
LAST-MODIFIED:20260417T114330Z
UID:10001341-1784408400-1784426400@darkmusic.net
SUMMARY:Club Sinthesis
DESCRIPTION:Industrial\, EBM\, Electro and Dark Dance \nEvery 3rd Saturday\, head to The Red Light Lounge at 1901 Harney St in Omaha\, NE for Club Sinthesis! \nResident DJs Sado_Naut\, Barrens\, and Nevermore\, plus featured guests.
URL:https://darkmusic.net/event/club-sinthesis/2026-07-18/
LOCATION:Red Light Lounge\, 1901 Harney St\, Omaha\, NE\, United States
CATEGORIES:Aggrotech,Club Night,Cyber,Dark Alternative,Dark Electro,Dark Wave,EBM,FuturePop,Industrial,Synthpop
ATTACH;FMTTYPE=image/jpeg:https://darkmusic.net/wp-content/uploads/2026/04/1000028890.jpg
END:VEVENT
BEGIN:VEVENT
DTSTART;TZID=America/New_York:20260815T210000
DTEND;TZID=America/New_York:20260816T020000
DTSTAMP:20260425T124529
CREATED:20260417T113437Z
LAST-MODIFIED:20260417T114330Z
UID:10001342-1786827600-1786845600@darkmusic.net
SUMMARY:Club Sinthesis
DESCRIPTION:Industrial\, EBM\, Electro and Dark Dance \nEvery 3rd Saturday\, head to The Red Light Lounge at 1901 Harney St in Omaha\, NE for Club Sinthesis! \nResident DJs Sado_Naut\, Barrens\, and Nevermore\, plus featured guests.
URL:https://darkmusic.net/event/club-sinthesis/2026-08-15/
LOCATION:Red Light Lounge\, 1901 Harney St\, Omaha\, NE\, United States
CATEGORIES:Aggrotech,Club Night,Cyber,Dark Alternative,Dark Electro,Dark Wave,EBM,FuturePop,Industrial,Synthpop
ATTACH;FMTTYPE=image/jpeg:https://darkmusic.net/wp-content/uploads/2026/04/1000028890.jpg
END:VEVENT
BEGIN:VEVENT
DTSTART;TZID=America/New_York:20260919T210000
DTEND;TZID=America/New_York:20260920T020000
DTSTAMP:20260425T124529
CREATED:20260417T113437Z
LAST-MODIFIED:20260417T114330Z
UID:10001343-1789851600-1789869600@darkmusic.net
SUMMARY:Club Sinthesis
DESCRIPTION:Industrial\, EBM\, Electro and Dark Dance \nEvery 3rd Saturday\, head to The Red Light Lounge at 1901 Harney St in Omaha\, NE for Club Sinthesis! \nResident DJs Sado_Naut\, Barrens\, and Nevermore\, plus featured guests.
URL:https://darkmusic.net/event/club-sinthesis/2026-09-19/
LOCATION:Red Light Lounge\, 1901 Harney St\, Omaha\, NE\, United States
CATEGORIES:Aggrotech,Club Night,Cyber,Dark Alternative,Dark Electro,Dark Wave,EBM,FuturePop,Industrial,Synthpop
ATTACH;FMTTYPE=image/jpeg:https://darkmusic.net/wp-content/uploads/2026/04/1000028890.jpg
END:VEVENT
BEGIN:VEVENT
DTSTART;TZID=America/New_York:20261017T210000
DTEND;TZID=America/New_York:20261018T020000
DTSTAMP:20260425T124529
CREATED:20260417T113437Z
LAST-MODIFIED:20260417T114330Z
UID:10001330-1792270800-1792288800@darkmusic.net
SUMMARY:Club Sinthesis
DESCRIPTION:Industrial\, EBM\, Electro and Dark Dance \nEvery 3rd Saturday\, head to The Red Light Lounge at 1901 Harney St in Omaha\, NE for Club Sinthesis! \nResident DJs Sado_Naut\, Barrens\, and Nevermore\, plus featured guests.
URL:https://darkmusic.net/event/club-sinthesis/2026-10-17/
LOCATION:Red Light Lounge\, 1901 Harney St\, Omaha\, NE\, United States
CATEGORIES:Aggrotech,Club Night,Cyber,Dark Alternative,Dark Electro,Dark Wave,EBM,FuturePop,Industrial,Synthpop
ATTACH;FMTTYPE=image/jpeg:https://darkmusic.net/wp-content/uploads/2026/04/1000028890.jpg
END:VEVENT
BEGIN:VEVENT
DTSTART;TZID=America/New_York:20261121T210000
DTEND;TZID=America/New_York:20261122T020000
DTSTAMP:20260425T124529
CREATED:20260417T113437Z
LAST-MODIFIED:20260417T114330Z
UID:10001344-1795294800-1795312800@darkmusic.net
SUMMARY:Club Sinthesis
DESCRIPTION:Industrial\, EBM\, Electro and Dark Dance \nEvery 3rd Saturday\, head to The Red Light Lounge at 1901 Harney St in Omaha\, NE for Club Sinthesis! \nResident DJs Sado_Naut\, Barrens\, and Nevermore\, plus featured guests.
URL:https://darkmusic.net/event/club-sinthesis/2026-11-21/
LOCATION:Red Light Lounge\, 1901 Harney St\, Omaha\, NE\, United States
CATEGORIES:Aggrotech,Club Night,Cyber,Dark Alternative,Dark Electro,Dark Wave,EBM,FuturePop,Industrial,Synthpop
ATTACH;FMTTYPE=image/jpeg:https://darkmusic.net/wp-content/uploads/2026/04/1000028890.jpg
END:VEVENT
BEGIN:VEVENT
DTSTART;TZID=America/New_York:20261219T210000
DTEND;TZID=America/New_York:20261220T020000
DTSTAMP:20260425T124529
CREATED:20260417T113437Z
LAST-MODIFIED:20260417T114330Z
UID:10001345-1797714000-1797732000@darkmusic.net
SUMMARY:Club Sinthesis
DESCRIPTION:Industrial\, EBM\, Electro and Dark Dance \nEvery 3rd Saturday\, head to The Red Light Lounge at 1901 Harney St in Omaha\, NE for Club Sinthesis! \nResident DJs Sado_Naut\, Barrens\, and Nevermore\, plus featured guests.
URL:https://darkmusic.net/event/club-sinthesis/2026-12-19/
LOCATION:Red Light Lounge\, 1901 Harney St\, Omaha\, NE\, United States
CATEGORIES:Aggrotech,Club Night,Cyber,Dark Alternative,Dark Electro,Dark Wave,EBM,FuturePop,Industrial,Synthpop
ATTACH;FMTTYPE=image/jpeg:https://darkmusic.net/wp-content/uploads/2026/04/1000028890.jpg
END:VEVENT
BEGIN:VEVENT
DTSTART;TZID=America/New_York:20270116T210000
DTEND;TZID=America/New_York:20270117T020000
DTSTAMP:20260425T124529
CREATED:20260417T113437Z
LAST-MODIFIED:20260417T114330Z
UID:10001346-1800133200-1800151200@darkmusic.net
SUMMARY:Club Sinthesis
DESCRIPTION:Industrial\, EBM\, Electro and Dark Dance \nEvery 3rd Saturday\, head to The Red Light Lounge at 1901 Harney St in Omaha\, NE for Club Sinthesis! \nResident DJs Sado_Naut\, Barrens\, and Nevermore\, plus featured guests.
URL:https://darkmusic.net/event/club-sinthesis/2027-01-16/
LOCATION:Red Light Lounge\, 1901 Harney St\, Omaha\, NE\, United States
CATEGORIES:Aggrotech,Club Night,Cyber,Dark Alternative,Dark Electro,Dark Wave,EBM,FuturePop,Industrial,Synthpop
ATTACH;FMTTYPE=image/jpeg:https://darkmusic.net/wp-content/uploads/2026/04/1000028890.jpg
END:VEVENT
BEGIN:VEVENT
DTSTART;TZID=America/New_York:20270220T210000
DTEND;TZID=America/New_York:20270221T020000
DTSTAMP:20260425T124529
CREATED:20260417T113437Z
LAST-MODIFIED:20260417T114330Z
UID:10001347-1803157200-1803175200@darkmusic.net
SUMMARY:Club Sinthesis
DESCRIPTION:Industrial\, EBM\, Electro and Dark Dance \nEvery 3rd Saturday\, head to The Red Light Lounge at 1901 Harney St in Omaha\, NE for Club Sinthesis! \nResident DJs Sado_Naut\, Barrens\, and Nevermore\, plus featured guests.
URL:https://darkmusic.net/event/club-sinthesis/2027-02-20/
LOCATION:Red Light Lounge\, 1901 Harney St\, Omaha\, NE\, United States
CATEGORIES:Aggrotech,Club Night,Cyber,Dark Alternative,Dark Electro,Dark Wave,EBM,FuturePop,Industrial,Synthpop
ATTACH;FMTTYPE=image/jpeg:https://darkmusic.net/wp-content/uploads/2026/04/1000028890.jpg
END:VEVENT
BEGIN:VEVENT
DTSTART;TZID=America/New_York:20270320T210000
DTEND;TZID=America/New_York:20270321T020000
DTSTAMP:20260425T124529
CREATED:20260417T113437Z
LAST-MODIFIED:20260417T114330Z
UID:10001348-1805576400-1805594400@darkmusic.net
SUMMARY:Club Sinthesis
DESCRIPTION:Industrial\, EBM\, Electro and Dark Dance \nEvery 3rd Saturday\, head to The Red Light Lounge at 1901 Harney St in Omaha\, NE for Club Sinthesis! \nResident DJs Sado_Naut\, Barrens\, and Nevermore\, plus featured guests.
URL:https://darkmusic.net/event/club-sinthesis/2027-03-20/
LOCATION:Red Light Lounge\, 1901 Harney St\, Omaha\, NE\, United States
CATEGORIES:Aggrotech,Club Night,Cyber,Dark Alternative,Dark Electro,Dark Wave,EBM,FuturePop,Industrial,Synthpop
ATTACH;FMTTYPE=image/jpeg:https://darkmusic.net/wp-content/uploads/2026/04/1000028890.jpg
END:VEVENT
BEGIN:VEVENT
DTSTART;TZID=America/New_York:20270417T210000
DTEND;TZID=America/New_York:20270418T020000
DTSTAMP:20260425T124529
CREATED:20260417T113437Z
LAST-MODIFIED:20260417T114330Z
UID:10001331-1807995600-1808013600@darkmusic.net
SUMMARY:Club Sinthesis
DESCRIPTION:Industrial\, EBM\, Electro and Dark Dance \nEvery 3rd Saturday\, head to The Red Light Lounge at 1901 Harney St in Omaha\, NE for Club Sinthesis! \nResident DJs Sado_Naut\, Barrens\, and Nevermore\, plus featured guests.
URL:https://darkmusic.net/event/club-sinthesis/2027-04-17/
LOCATION:Red Light Lounge\, 1901 Harney St\, Omaha\, NE\, United States
CATEGORIES:Aggrotech,Club Night,Cyber,Dark Alternative,Dark Electro,Dark Wave,EBM,FuturePop,Industrial,Synthpop
ATTACH;FMTTYPE=image/jpeg:https://darkmusic.net/wp-content/uploads/2026/04/1000028890.jpg
END:VEVENT
BEGIN:VEVENT
DTSTART;TZID=America/New_York:20270515T210000
DTEND;TZID=America/New_York:20270516T020000
DTSTAMP:20260425T124529
CREATED:20260417T113437Z
LAST-MODIFIED:20260417T114330Z
UID:10001349-1810414800-1810432800@darkmusic.net
SUMMARY:Club Sinthesis
DESCRIPTION:Industrial\, EBM\, Electro and Dark Dance \nEvery 3rd Saturday\, head to The Red Light Lounge at 1901 Harney St in Omaha\, NE for Club Sinthesis! \nResident DJs Sado_Naut\, Barrens\, and Nevermore\, plus featured guests.
URL:https://darkmusic.net/event/club-sinthesis/2027-05-15/
LOCATION:Red Light Lounge\, 1901 Harney St\, Omaha\, NE\, United States
CATEGORIES:Aggrotech,Club Night,Cyber,Dark Alternative,Dark Electro,Dark Wave,EBM,FuturePop,Industrial,Synthpop
ATTACH;FMTTYPE=image/jpeg:https://darkmusic.net/wp-content/uploads/2026/04/1000028890.jpg
END:VEVENT
BEGIN:VEVENT
DTSTART;TZID=America/New_York:20270619T210000
DTEND;TZID=America/New_York:20270620T020000
DTSTAMP:20260425T124529
CREATED:20260417T113437Z
LAST-MODIFIED:20260417T114330Z
UID:10001350-1813438800-1813456800@darkmusic.net
SUMMARY:Club Sinthesis
DESCRIPTION:Industrial\, EBM\, Electro and Dark Dance \nEvery 3rd Saturday\, head to The Red Light Lounge at 1901 Harney St in Omaha\, NE for Club Sinthesis! \nResident DJs Sado_Naut\, Barrens\, and Nevermore\, plus featured guests.
URL:https://darkmusic.net/event/club-sinthesis/2027-06-19/
LOCATION:Red Light Lounge\, 1901 Harney St\, Omaha\, NE\, United States
CATEGORIES:Aggrotech,Club Night,Cyber,Dark Alternative,Dark Electro,Dark Wave,EBM,FuturePop,Industrial,Synthpop
ATTACH;FMTTYPE=image/jpeg:https://darkmusic.net/wp-content/uploads/2026/04/1000028890.jpg
END:VEVENT
BEGIN:VEVENT
DTSTART;TZID=America/New_York:20270717T210000
DTEND;TZID=America/New_York:20270718T020000
DTSTAMP:20260425T124529
CREATED:20260417T113437Z
LAST-MODIFIED:20260417T114330Z
UID:10001351-1815858000-1815876000@darkmusic.net
SUMMARY:Club Sinthesis
DESCRIPTION:Industrial\, EBM\, Electro and Dark Dance \nEvery 3rd Saturday\, head to The Red Light Lounge at 1901 Harney St in Omaha\, NE for Club Sinthesis! \nResident DJs Sado_Naut\, Barrens\, and Nevermore\, plus featured guests.
URL:https://darkmusic.net/event/club-sinthesis/2027-07-17/
LOCATION:Red Light Lounge\, 1901 Harney St\, Omaha\, NE\, United States
CATEGORIES:Aggrotech,Club Night,Cyber,Dark Alternative,Dark Electro,Dark Wave,EBM,FuturePop,Industrial,Synthpop
ATTACH;FMTTYPE=image/jpeg:https://darkmusic.net/wp-content/uploads/2026/04/1000028890.jpg
END:VEVENT
BEGIN:VEVENT
DTSTART;TZID=America/New_York:20270821T210000
DTEND;TZID=America/New_York:20270822T020000
DTSTAMP:20260425T124529
CREATED:20260417T113437Z
LAST-MODIFIED:20260417T114330Z
UID:10001352-1818882000-1818900000@darkmusic.net
SUMMARY:Club Sinthesis
DESCRIPTION:Industrial\, EBM\, Electro and Dark Dance \nEvery 3rd Saturday\, head to The Red Light Lounge at 1901 Harney St in Omaha\, NE for Club Sinthesis! \nResident DJs Sado_Naut\, Barrens\, and Nevermore\, plus featured guests.
URL:https://darkmusic.net/event/club-sinthesis/2027-08-21/
LOCATION:Red Light Lounge\, 1901 Harney St\, Omaha\, NE\, United States
CATEGORIES:Aggrotech,Club Night,Cyber,Dark Alternative,Dark Electro,Dark Wave,EBM,FuturePop,Industrial,Synthpop
ATTACH;FMTTYPE=image/jpeg:https://darkmusic.net/wp-content/uploads/2026/04/1000028890.jpg
END:VEVENT
BEGIN:VEVENT
DTSTART;TZID=America/New_York:20270918T210000
DTEND;TZID=America/New_York:20270919T020000
DTSTAMP:20260425T124529
CREATED:20260417T113437Z
LAST-MODIFIED:20260417T114330Z
UID:10001353-1821301200-1821319200@darkmusic.net
SUMMARY:Club Sinthesis
DESCRIPTION:Industrial\, EBM\, Electro and Dark Dance \nEvery 3rd Saturday\, head to The Red Light Lounge at 1901 Harney St in Omaha\, NE for Club Sinthesis! \nResident DJs Sado_Naut\, Barrens\, and Nevermore\, plus featured guests.
URL:https://darkmusic.net/event/club-sinthesis/2027-09-18/
LOCATION:Red Light Lounge\, 1901 Harney St\, Omaha\, NE\, United States
CATEGORIES:Aggrotech,Club Night,Cyber,Dark Alternative,Dark Electro,Dark Wave,EBM,FuturePop,Industrial,Synthpop
ATTACH;FMTTYPE=image/jpeg:https://darkmusic.net/wp-content/uploads/2026/04/1000028890.jpg
END:VEVENT
BEGIN:VEVENT
DTSTART;TZID=America/New_York:20271016T210000
DTEND;TZID=America/New_York:20271017T020000
DTSTAMP:20260425T124529
CREATED:20260417T113437Z
LAST-MODIFIED:20260417T114330Z
UID:10001332-1823720400-1823738400@darkmusic.net
SUMMARY:Club Sinthesis
DESCRIPTION:Industrial\, EBM\, Electro and Dark Dance \nEvery 3rd Saturday\, head to The Red Light Lounge at 1901 Harney St in Omaha\, NE for Club Sinthesis! \nResident DJs Sado_Naut\, Barrens\, and Nevermore\, plus featured guests.
URL:https://darkmusic.net/event/club-sinthesis/2027-10-16/
LOCATION:Red Light Lounge\, 1901 Harney St\, Omaha\, NE\, United States
CATEGORIES:Aggrotech,Club Night,Cyber,Dark Alternative,Dark Electro,Dark Wave,EBM,FuturePop,Industrial,Synthpop
ATTACH;FMTTYPE=image/jpeg:https://darkmusic.net/wp-content/uploads/2026/04/1000028890.jpg
END:VEVENT
BEGIN:VEVENT
DTSTART;TZID=America/New_York:20271120T210000
DTEND;TZID=America/New_York:20271121T020000
DTSTAMP:20260425T124529
CREATED:20260417T113437Z
LAST-MODIFIED:20260417T114330Z
UID:10001354-1826744400-1826762400@darkmusic.net
SUMMARY:Club Sinthesis
DESCRIPTION:Industrial\, EBM\, Electro and Dark Dance \nEvery 3rd Saturday\, head to The Red Light Lounge at 1901 Harney St in Omaha\, NE for Club Sinthesis! \nResident DJs Sado_Naut\, Barrens\, and Nevermore\, plus featured guests.
URL:https://darkmusic.net/event/club-sinthesis/2027-11-20/
LOCATION:Red Light Lounge\, 1901 Harney St\, Omaha\, NE\, United States
CATEGORIES:Aggrotech,Club Night,Cyber,Dark Alternative,Dark Electro,Dark Wave,EBM,FuturePop,Industrial,Synthpop
ATTACH;FMTTYPE=image/jpeg:https://darkmusic.net/wp-content/uploads/2026/04/1000028890.jpg
END:VEVENT
BEGIN:VEVENT
DTSTART;TZID=America/New_York:20271218T210000
DTEND;TZID=America/New_York:20271219T020000
DTSTAMP:20260425T124529
CREATED:20260417T113437Z
LAST-MODIFIED:20260417T114330Z
UID:10001355-1829163600-1829181600@darkmusic.net
SUMMARY:Club Sinthesis
DESCRIPTION:Industrial\, EBM\, Electro and Dark Dance \nEvery 3rd Saturday\, head to The Red Light Lounge at 1901 Harney St in Omaha\, NE for Club Sinthesis! \nResident DJs Sado_Naut\, Barrens\, and Nevermore\, plus featured guests.
URL:https://darkmusic.net/event/club-sinthesis/2027-12-18/
LOCATION:Red Light Lounge\, 1901 Harney St\, Omaha\, NE\, United States
CATEGORIES:Aggrotech,Club Night,Cyber,Dark Alternative,Dark Electro,Dark Wave,EBM,FuturePop,Industrial,Synthpop
ATTACH;FMTTYPE=image/jpeg:https://darkmusic.net/wp-content/uploads/2026/04/1000028890.jpg
END:VEVENT
BEGIN:VEVENT
DTSTART;TZID=America/New_York:20280115T210000
DTEND;TZID=America/New_York:20280116T020000
DTSTAMP:20260425T124529
CREATED:20260417T113437Z
LAST-MODIFIED:20260417T114330Z
UID:10001356-1831582800-1831600800@darkmusic.net
SUMMARY:Club Sinthesis
DESCRIPTION:Industrial\, EBM\, Electro and Dark Dance \nEvery 3rd Saturday\, head to The Red Light Lounge at 1901 Harney St in Omaha\, NE for Club Sinthesis! \nResident DJs Sado_Naut\, Barrens\, and Nevermore\, plus featured guests.
URL:https://darkmusic.net/event/club-sinthesis/2028-01-15/
LOCATION:Red Light Lounge\, 1901 Harney St\, Omaha\, NE\, United States
CATEGORIES:Aggrotech,Club Night,Cyber,Dark Alternative,Dark Electro,Dark Wave,EBM,FuturePop,Industrial,Synthpop
ATTACH;FMTTYPE=image/jpeg:https://darkmusic.net/wp-content/uploads/2026/04/1000028890.jpg
END:VEVENT
BEGIN:VEVENT
DTSTART;TZID=America/New_York:20280219T210000
DTEND;TZID=America/New_York:20280220T020000
DTSTAMP:20260425T124529
CREATED:20260417T113437Z
LAST-MODIFIED:20260417T114330Z
UID:10001357-1834606800-1834624800@darkmusic.net
SUMMARY:Club Sinthesis
DESCRIPTION:Industrial\, EBM\, Electro and Dark Dance \nEvery 3rd Saturday\, head to The Red Light Lounge at 1901 Harney St in Omaha\, NE for Club Sinthesis! \nResident DJs Sado_Naut\, Barrens\, and Nevermore\, plus featured guests.
URL:https://darkmusic.net/event/club-sinthesis/2028-02-19/
LOCATION:Red Light Lounge\, 1901 Harney St\, Omaha\, NE\, United States
CATEGORIES:Aggrotech,Club Night,Cyber,Dark Alternative,Dark Electro,Dark Wave,EBM,FuturePop,Industrial,Synthpop
ATTACH;FMTTYPE=image/jpeg:https://darkmusic.net/wp-content/uploads/2026/04/1000028890.jpg
END:VEVENT
BEGIN:VEVENT
DTSTART;TZID=America/New_York:20280318T210000
DTEND;TZID=America/New_York:20280319T020000
DTSTAMP:20260425T124530
CREATED:20260417T113437Z
LAST-MODIFIED:20260417T114330Z
UID:10001358-1837026000-1837044000@darkmusic.net
SUMMARY:Club Sinthesis
DESCRIPTION:Industrial\, EBM\, Electro and Dark Dance \nEvery 3rd Saturday\, head to The Red Light Lounge at 1901 Harney St in Omaha\, NE for Club Sinthesis! \nResident DJs Sado_Naut\, Barrens\, and Nevermore\, plus featured guests.
URL:https://darkmusic.net/event/club-sinthesis/2028-03-18/
LOCATION:Red Light Lounge\, 1901 Harney St\, Omaha\, NE\, United States
CATEGORIES:Aggrotech,Club Night,Cyber,Dark Alternative,Dark Electro,Dark Wave,EBM,FuturePop,Industrial,Synthpop
ATTACH;FMTTYPE=image/jpeg:https://darkmusic.net/wp-content/uploads/2026/04/1000028890.jpg
END:VEVENT
BEGIN:VEVENT
DTSTART;TZID=America/New_York:20280415T210000
DTEND;TZID=America/New_York:20280416T020000
DTSTAMP:20260425T124530
CREATED:20260417T113437Z
LAST-MODIFIED:20260417T114330Z
UID:10001333-1839445200-1839463200@darkmusic.net
SUMMARY:Club Sinthesis
DESCRIPTION:Industrial\, EBM\, Electro and Dark Dance \nEvery 3rd Saturday\, head to The Red Light Lounge at 1901 Harney St in Omaha\, NE for Club Sinthesis! \nResident DJs Sado_Naut\, Barrens\, and Nevermore\, plus featured guests.
URL:https://darkmusic.net/event/club-sinthesis/2028-04-15/
LOCATION:Red Light Lounge\, 1901 Harney St\, Omaha\, NE\, United States
CATEGORIES:Aggrotech,Club Night,Cyber,Dark Alternative,Dark Electro,Dark Wave,EBM,FuturePop,Industrial,Synthpop
ATTACH;FMTTYPE=image/jpeg:https://darkmusic.net/wp-content/uploads/2026/04/1000028890.jpg
END:VEVENT
BEGIN:VEVENT
DTSTART;TZID=America/New_York:20280520T210000
DTEND;TZID=America/New_York:20280521T020000
DTSTAMP:20260425T124530
CREATED:20260417T113437Z
LAST-MODIFIED:20260417T114330Z
UID:10001359-1842469200-1842487200@darkmusic.net
SUMMARY:Club Sinthesis
DESCRIPTION:Industrial\, EBM\, Electro and Dark Dance \nEvery 3rd Saturday\, head to The Red Light Lounge at 1901 Harney St in Omaha\, NE for Club Sinthesis! \nResident DJs Sado_Naut\, Barrens\, and Nevermore\, plus featured guests.
URL:https://darkmusic.net/event/club-sinthesis/2028-05-20/
LOCATION:Red Light Lounge\, 1901 Harney St\, Omaha\, NE\, United States
CATEGORIES:Aggrotech,Club Night,Cyber,Dark Alternative,Dark Electro,Dark Wave,EBM,FuturePop,Industrial,Synthpop
ATTACH;FMTTYPE=image/jpeg:https://darkmusic.net/wp-content/uploads/2026/04/1000028890.jpg
END:VEVENT
BEGIN:VEVENT
DTSTART;TZID=America/New_York:20280617T210000
DTEND;TZID=America/New_York:20280618T020000
DTSTAMP:20260425T124530
CREATED:20260417T113437Z
LAST-MODIFIED:20260417T114330Z
UID:10001360-1844888400-1844906400@darkmusic.net
SUMMARY:Club Sinthesis
DESCRIPTION:Industrial\, EBM\, Electro and Dark Dance \nEvery 3rd Saturday\, head to The Red Light Lounge at 1901 Harney St in Omaha\, NE for Club Sinthesis! \nResident DJs Sado_Naut\, Barrens\, and Nevermore\, plus featured guests.
URL:https://darkmusic.net/event/club-sinthesis/2028-06-17/
LOCATION:Red Light Lounge\, 1901 Harney St\, Omaha\, NE\, United States
CATEGORIES:Aggrotech,Club Night,Cyber,Dark Alternative,Dark Electro,Dark Wave,EBM,FuturePop,Industrial,Synthpop
ATTACH;FMTTYPE=image/jpeg:https://darkmusic.net/wp-content/uploads/2026/04/1000028890.jpg
END:VEVENT
BEGIN:VEVENT
DTSTART;TZID=America/New_York:20280715T210000
DTEND;TZID=America/New_York:20280716T020000
DTSTAMP:20260425T124530
CREATED:20260417T113437Z
LAST-MODIFIED:20260417T114330Z
UID:10001361-1847307600-1847325600@darkmusic.net
SUMMARY:Club Sinthesis
DESCRIPTION:Industrial\, EBM\, Electro and Dark Dance \nEvery 3rd Saturday\, head to The Red Light Lounge at 1901 Harney St in Omaha\, NE for Club Sinthesis! \nResident DJs Sado_Naut\, Barrens\, and Nevermore\, plus featured guests.
URL:https://darkmusic.net/event/club-sinthesis/2028-07-15/
LOCATION:Red Light Lounge\, 1901 Harney St\, Omaha\, NE\, United States
CATEGORIES:Aggrotech,Club Night,Cyber,Dark Alternative,Dark Electro,Dark Wave,EBM,FuturePop,Industrial,Synthpop
ATTACH;FMTTYPE=image/jpeg:https://darkmusic.net/wp-content/uploads/2026/04/1000028890.jpg
END:VEVENT
BEGIN:VEVENT
DTSTART;TZID=America/New_York:20280819T210000
DTEND;TZID=America/New_York:20280820T020000
DTSTAMP:20260425T124530
CREATED:20260417T113437Z
LAST-MODIFIED:20260417T114330Z
UID:10001362-1850331600-1850349600@darkmusic.net
SUMMARY:Club Sinthesis
DESCRIPTION:Industrial\, EBM\, Electro and Dark Dance \nEvery 3rd Saturday\, head to The Red Light Lounge at 1901 Harney St in Omaha\, NE for Club Sinthesis! \nResident DJs Sado_Naut\, Barrens\, and Nevermore\, plus featured guests.
URL:https://darkmusic.net/event/club-sinthesis/2028-08-19/
LOCATION:Red Light Lounge\, 1901 Harney St\, Omaha\, NE\, United States
CATEGORIES:Aggrotech,Club Night,Cyber,Dark Alternative,Dark Electro,Dark Wave,EBM,FuturePop,Industrial,Synthpop
ATTACH;FMTTYPE=image/jpeg:https://darkmusic.net/wp-content/uploads/2026/04/1000028890.jpg
END:VEVENT
END:VCALENDAR