BEGIN:VCALENDAR
VERSION:2.0
PRODID:-//The Dark Music Network - ECPv6.15.20//NONSGML v1.0//EN
CALSCALE:GREGORIAN
METHOD:PUBLISH
X-WR-CALNAME:The Dark Music Network
X-ORIGINAL-URL:https://darkmusic.net
X-WR-CALDESC:Events for The Dark Music Network
REFRESH-INTERVAL;VALUE=DURATION:PT1H
X-Robots-Tag:noindex
X-PUBLISHED-TTL:PT1H
BEGIN:VTIMEZONE
TZID:America/New_York
BEGIN:DAYLIGHT
TZOFFSETFROM:-0500
TZOFFSETTO:-0400
TZNAME:EDT
DTSTART:20240310T070000
END:DAYLIGHT
BEGIN:STANDARD
TZOFFSETFROM:-0400
TZOFFSETTO:-0500
TZNAME:EST
DTSTART:20241103T060000
END:STANDARD
BEGIN:DAYLIGHT
TZOFFSETFROM:-0500
TZOFFSETTO:-0400
TZNAME:EDT
DTSTART:20250309T070000
END:DAYLIGHT
BEGIN:STANDARD
TZOFFSETFROM:-0400
TZOFFSETTO:-0500
TZNAME:EST
DTSTART:20251102T060000
END:STANDARD
BEGIN:DAYLIGHT
TZOFFSETFROM:-0500
TZOFFSETTO:-0400
TZNAME:EDT
DTSTART:20260308T070000
END:DAYLIGHT
BEGIN:STANDARD
TZOFFSETFROM:-0400
TZOFFSETTO:-0500
TZNAME:EST
DTSTART:20261101T060000
END:STANDARD
END:VTIMEZONE
BEGIN:VEVENT
DTSTART;TZID=America/New_York:20250910T170000
DTEND;TZID=America/New_York:20250910T180000
DTSTAMP:20260424T114111
CREATED:20250907T042955Z
LAST-MODIFIED:20250908T222024Z
UID:10001309-1757523600-1757527200@darkmusic.net
SUMMARY:New Music O’ Clock on eMpTyVeeTV Hosted by DJ Mones
DESCRIPTION:Wednesday\, September 10 – New Music O’ Clock on eMpTyVeeTV \nHosted By : DJ Mones \nFeaturing Music Videos Submitted By: \nCattaC (Manheim\, Germany) – Courtesy of darkTunes Music Group \nCoppergear (Québec\, Canada) \nImmortal Girlfriend (Milwaukee\, Wisconsin\, U.S.) \nJason Alacrity (Los Angeles\, California\, U.S.) \nLoveth Besamoh (Originally from Cameroon\, Now based in Rotterdam\, Netherlands) – Courtesy of Nightime Asylum PR \nMortes (Germany) x Balduvian Bears (Salt Lake City\, Utah\, U.S.) – Courtesy of darkTunes Music Group \nPink Panther Project (London\, UK) – Courtesy of The Circle Music\, 3nation PR\, Rune Serpent Europa \nthewalkingicon – Courtesy of Negative Gain Productions \nVioflesh (Santiago\, Chile) \nWilliam Bleak (Berlin\, Germany) \nBeginning \n2p PT / 3p CDMX / 3p MT / 4p CT / 5p ET \n6p CLST / 9p GMT / 10p BST / 11p CEST \n00:00 (Thursday) EEST \n8a (Thursday) Sydney\, Australia \n10a (Thursday) Aotearoa \nBroadcasting On https://twitch.tv/eMpTyVeeTV
URL:https://darkmusic.net/event/new-music-o-clock-on-emptyveetv-hosted-by-dj-mones/
LOCATION:Twitch
CATEGORIES:Dark Alternative,Dark Electro,Dark Wave,EBM,Goth,Industrial,Music Video,Synthpop
ATTACH;FMTTYPE=image/jpeg:https://darkmusic.net/wp-content/uploads/2025/09/541248447_1098041599113526_5434435048357663513_n.jpg
ORGANIZER;CN="eMpTyVeeTV":MAILTO:eMpTyVee.TV@gmail.com
GEO:55.378051;-3.435973
END:VEVENT
END:VCALENDAR