BEGIN:VCALENDAR
VERSION:2.0
PRODID:-//The Dark Music Network - ECPv6.15.20//NONSGML v1.0//EN
CALSCALE:GREGORIAN
METHOD:PUBLISH
X-WR-CALNAME:The Dark Music Network
X-ORIGINAL-URL:https://darkmusic.net
X-WR-CALDESC:Events for The Dark Music Network
REFRESH-INTERVAL;VALUE=DURATION:PT1H
X-Robots-Tag:noindex
X-PUBLISHED-TTL:PT1H
BEGIN:VTIMEZONE
TZID:America/New_York
BEGIN:DAYLIGHT
TZOFFSETFROM:-0500
TZOFFSETTO:-0400
TZNAME:EDT
DTSTART:20240310T070000
END:DAYLIGHT
BEGIN:STANDARD
TZOFFSETFROM:-0400
TZOFFSETTO:-0500
TZNAME:EST
DTSTART:20241103T060000
END:STANDARD
BEGIN:DAYLIGHT
TZOFFSETFROM:-0500
TZOFFSETTO:-0400
TZNAME:EDT
DTSTART:20250309T070000
END:DAYLIGHT
BEGIN:STANDARD
TZOFFSETFROM:-0400
TZOFFSETTO:-0500
TZNAME:EST
DTSTART:20251102T060000
END:STANDARD
BEGIN:DAYLIGHT
TZOFFSETFROM:-0500
TZOFFSETTO:-0400
TZNAME:EDT
DTSTART:20260308T070000
END:DAYLIGHT
BEGIN:STANDARD
TZOFFSETFROM:-0400
TZOFFSETTO:-0500
TZNAME:EST
DTSTART:20261101T060000
END:STANDARD
END:VTIMEZONE
BEGIN:VTIMEZONE
TZID:America/Los_Angeles
BEGIN:DAYLIGHT
TZOFFSETFROM:-0800
TZOFFSETTO:-0700
TZNAME:PDT
DTSTART:20240310T100000
END:DAYLIGHT
BEGIN:STANDARD
TZOFFSETFROM:-0700
TZOFFSETTO:-0800
TZNAME:PST
DTSTART:20241103T090000
END:STANDARD
BEGIN:DAYLIGHT
TZOFFSETFROM:-0800
TZOFFSETTO:-0700
TZNAME:PDT
DTSTART:20250309T100000
END:DAYLIGHT
BEGIN:STANDARD
TZOFFSETFROM:-0700
TZOFFSETTO:-0800
TZNAME:PST
DTSTART:20251102T090000
END:STANDARD
BEGIN:DAYLIGHT
TZOFFSETFROM:-0800
TZOFFSETTO:-0700
TZNAME:PDT
DTSTART:20260308T100000
END:DAYLIGHT
BEGIN:STANDARD
TZOFFSETFROM:-0700
TZOFFSETTO:-0800
TZNAME:PST
DTSTART:20261101T090000
END:STANDARD
END:VTIMEZONE
BEGIN:VEVENT
DTSTART;TZID=America/New_York:20250419T160000
DTEND;TZID=America/New_York:20250419T200000
DTSTAMP:20260423T190618
CREATED:20250408T201928Z
LAST-MODIFIED:20250408T201928Z
UID:10001196-1745078400-1745092800@darkmusic.net
SUMMARY:Nim Vind\, Evelyn's Casket\, Seglock @ Bar XIII
DESCRIPTION:Saturday April 19th \n4PM \nBar XIII\, Wilmington Delaware \nAges 21+ \n$20 cover
URL:https://darkmusic.net/event/nim-vind-evelyns-casket-seglock-bar-xiii/
LOCATION:Bar XIII Delaware\, 1706 Philadelphia Pike\, Wilmington\, DE\, 19809\, United States
CATEGORIES:Concert
ATTACH;FMTTYPE=image/jpeg:https://darkmusic.net/wp-content/uploads/2025/04/FB_IMG_1744143450710.jpg
GEO:39.7863961;-75.4759046
X-APPLE-STRUCTURED-LOCATION;VALUE=URI;X-ADDRESS=Bar XIII Delaware 1706 Philadelphia Pike Wilmington DE 19809 United States;X-APPLE-RADIUS=500;X-TITLE=1706 Philadelphia Pike:geo:-75.4759046,39.7863961
END:VEVENT
BEGIN:VEVENT
DTSTART;TZID=America/New_York:20250418T210000
DTEND;TZID=America/New_York:20250419T020000
DTSTAMP:20260423T190618
CREATED:20250407T203241Z
LAST-MODIFIED:20250407T203241Z
UID:10001195-1745010000-1745028000@darkmusic.net
SUMMARY:VORTEX Fri April 18th w/ Dr. Octo-Pussy\, ElektriKill (Live)\, Mike Saga & Panzermensch
DESCRIPTION:Mike Saga Proudly Presents:\nVORTEX\nFriday April 18th. 2025\nHop to: // Darkwave // EBM // Industrial // Post-Punk // Goth // Dark Synth \nJoin us for a BAD FRIDAY Easter egg hunt—finally\, an Easter tradition as pointless as your ex’s apologies! Some eggs may contain utterly useless junk\, while others hold actually good prizes like a FREE ticket to a future Vortex. Will you find treasure or trash? Only one way to know! \n*Upon entry\, you’ll receive a ticket for a FREE raffle at 1am to win a pair of passes to The Vampire Freaks DARK FORCE FESTIVAL\, May 2nd–4th in Parsippany\, NJ! \nPerforming live:\nElektrikill\nIndustrial – Alpha\, New Jersey \nGuest Dj: Dr.Octo-Pussy \nVj: Pixel8ter \nResident djs: mighty MIKE SAGA & PANZERMENSCH \nTemptation on the Pole by: LU ANIMA + JULIE BELLS + IVORY MAE + NATASHA BURLY \nFotos: STEPHEN ROSELLI \nVending: JEWELRY by KARA + DARK JASMINE + TINY TERROR + MXR’S MIX \nTime: 9pm – 2am //// 21+ with id \nMore info: “LIKE” www.facebook.com/vortexphilly \nAdmission: $15 (cash only) @ Door \n@ Warehouse on Watts\nDownstairs in Cambridge Hall 923 n Watts St\, Philadelphia PA
URL:https://darkmusic.net/event/vortex-fri-april-18th-w-dr-octo-pussy-elektrikill-live-mike-saga-panzermensch/
LOCATION:Warehouse on Watts\, 923 N. Watts Street\, Philadelphia\, PA\, 19123\, United States
CATEGORIES:Club Night,Concert,Cyber,Dark Electro,Dark Wave,EBM,Goth,Industrial,Post Punk,Synthpop
ATTACH;FMTTYPE=image/jpeg:https://darkmusic.net/wp-content/uploads/2025/04/Vortex-Fri-April-18th-2025-4x6-most-updated-Web.jpg
ORGANIZER;CN="mighty Mike Saga":MAILTO:mightymikesaga@yahoo.com
GEO:39.9707068;-75.1585055
X-APPLE-STRUCTURED-LOCATION;VALUE=URI;X-ADDRESS=Warehouse on Watts 923 N. Watts Street Philadelphia PA 19123 United States;X-APPLE-RADIUS=500;X-TITLE=923 N. Watts Street:geo:-75.1585055,39.9707068
END:VEVENT
BEGIN:VEVENT
DTSTART;TZID=America/New_York:20250417T200000
DTEND;TZID=America/New_York:20250417T233000
DTSTAMP:20260423T190618
CREATED:20250415T204327Z
LAST-MODIFIED:20250415T204327Z
UID:10001202-1744920000-1744932600@darkmusic.net
SUMMARY:Vicki's Dream w/The Amatory Murder\, Tokyo Teens and WWITCHBOY
DESCRIPTION:Spend a night with four amazing bands. Performing original material of darkwave/metal/goth etc. This is definitely the place to be on April 17th. Come check us out!!!
URL:https://darkmusic.net/event/vickis-dream-w-the-amatory-murder-tokyo-teens-and-wwitchboy/
LOCATION:27 Club\, 180 Patton Ave.\, Asheville\, N\, 28801\, United States
CATEGORIES:Concert
ATTACH;FMTTYPE=image/jpeg:https://darkmusic.net/wp-content/uploads/2025/04/27-Club.jpg
ORGANIZER;CN="stv705sol":MAILTO:stephen.polsonjr@gmail.com
GEO:35.5932955;-82.5593074
X-APPLE-STRUCTURED-LOCATION;VALUE=URI;X-ADDRESS=27 Club 180 Patton Ave. Asheville N 28801 United States;X-APPLE-RADIUS=500;X-TITLE=180 Patton Ave.:geo:-82.5593074,35.5932955
END:VEVENT
BEGIN:VEVENT
DTSTART;TZID=America/New_York:20250405T200000
DTEND;TZID=America/New_York:20250405T235900
DTSTAMP:20260423T190618
CREATED:20250324T002958Z
LAST-MODIFIED:20250324T003144Z
UID:10001180-1743883200-1743897540@darkmusic.net
SUMMARY:Amulet | Murder For Girls | Doors in the Labyrinth @ Sidequest on 44th
DESCRIPTION:Distortion Productions Presents:\nSaturday\, APRIL 5th\nShow #218\n\nFrom Washington\, DC…Distortion’s own:\n\nAMULET\nhttps://amulettheband.bandcamp.com/\n\nWith special guests:\n\nMURDER FOR GIRLS\nhttps://murderforgirls.bandcamp.com/\n\nand\n\nDOORS IN THE LABYRINTH\nhttps://doorsinthelabyrinth.bandcamp.com/\n\nPlus a Special Edition of MIDIAN after the bands with DJ HIEM\n@ Sidequest on 44th!!\n\n146 44th St\nPittsburgh\, PA\n\n8PM\n\n$30 Advance\n$35 Door\n\nTickets:tinyurl.com/amuletpburgh\n21+
URL:https://darkmusic.net/event/amulet-murder-for-girls-doors-in-the-labyrinth-sidequest-on-44th/
LOCATION:Sidequest\, 146 44th Street\, Pittsburgh\, 15201\, United States
CATEGORIES:Concert,Goth,Post Punk,Synthpop
ATTACH;FMTTYPE=image/jpeg:https://darkmusic.net/wp-content/uploads/2025/03/4-05-25_pittsburg_vertical.jpg
ORGANIZER;CN="Amulet":MAILTO:contact@amulettheband.com
GEO:40.472511;-79.9616957
X-APPLE-STRUCTURED-LOCATION;VALUE=URI;X-ADDRESS=Sidequest 146 44th Street Pittsburgh 15201 United States;X-APPLE-RADIUS=500;X-TITLE=146 44th Street:geo:-79.9616957,40.472511
END:VEVENT
BEGIN:VEVENT
DTSTART;TZID=America/New_York:20250329T210000
DTEND;TZID=America/New_York:20250330T020000
DTSTAMP:20260423T190618
CREATED:20250324T023238Z
LAST-MODIFIED:20250324T023238Z
UID:10001181-1743282000-1743300000@darkmusic.net
SUMMARY:Vixens on Fire II Live Music and Fire Flow Festival
DESCRIPTION:Join us for the Vixens on Fire II live music and fire flow festival!\nSaturday\, March 29 at Crucible Madison\nDoors at 9PM / 21+ / $20 cover\nTickets: multipass.com/VOFII\nBands: Mari Kattman\, Sensuous Enemy & Lorelei Dreaming\nFire performers: Petrichor Flow Babes & Lilly V Tänzerin\nDance music: DJ Bandit
URL:https://darkmusic.net/event/vixens-on-fire-ii-live-music-and-fire-flow-festival/
LOCATION:Crucible Madison\, 3116 Commercial Ave\, Madison\, W\, 53714\, United States
CATEGORIES:Club Night,Concert,Dark Wave,Festival,Industrial,Synthpop
ATTACH;FMTTYPE=image/jpeg:https://darkmusic.net/wp-content/uploads/2025/03/VOFII-Promo-Image.jpg
ORGANIZER;CN="Blu J Prodctions%2C LLC":MAILTO:info@blujproductionsllc.com
GEO:43.1074462;-89.3358278
X-APPLE-STRUCTURED-LOCATION;VALUE=URI;X-ADDRESS=Crucible Madison 3116 Commercial Ave Madison W 53714 United States;X-APPLE-RADIUS=500;X-TITLE=3116 Commercial Ave:geo:-89.3358278,43.1074462
END:VEVENT
BEGIN:VEVENT
DTSTART;TZID=America/New_York:20250329T130000
DTEND;TZID=America/New_York:20250329T170000
DTSTAMP:20260423T190618
CREATED:20250324T143310Z
LAST-MODIFIED:20250324T172611Z
UID:10001182-1743253200-1743267600@darkmusic.net
SUMMARY:Live at Steelton Skate Park
DESCRIPTION:A day of punk\, hardcore music \nAll ages.  $10 \n319 Eleanor St Steelton Pa
URL:https://darkmusic.net/event/live-at-steelton-skate-park-4/
LOCATION:steelton skate park\, 319 Eleanor St\, Steelton\, Pa
CATEGORIES:Concert
ATTACH;FMTTYPE=image/jpeg:https://darkmusic.net/wp-content/uploads/2025/03/20250323_143652.jpg
ORGANIZER;CN="ben614":MAILTO:guitarben2000@yahoo.com
GEO:40.2401565;-76.8480967
X-APPLE-STRUCTURED-LOCATION;VALUE=URI;X-ADDRESS=steelton skate park 319 Eleanor St Steelton Pa;X-APPLE-RADIUS=500;X-TITLE=319 Eleanor St:geo:-76.8480967,40.2401565
END:VEVENT
BEGIN:VEVENT
DTSTART;TZID=America/Los_Angeles:20250322T210000
DTEND;TZID=America/Los_Angeles:20250323T013000
DTSTAMP:20260423T190618
CREATED:20250318T002326Z
LAST-MODIFIED:20250318T002326Z
UID:10000394-1742677200-1742693400@darkmusic.net
SUMMARY:Outland - Raising Hell!
DESCRIPTION:OUTLAND: Raising Hell!\nCome dressed in street appropriate fetish outfits\, goth\, or a straight up cenobite! \nFeaturing resident DJs\, Dj Keypr & DJ Sophixi spinning a contrast of old school and new school goth/industrial/darkwave music all night \nHosted by Sophi\, Keypr\, Tremer & the amazing OUTLAND staff! \nSupported by the Gothic Security Team \nLive Performance by The Mourning Watch & Heat of RXN \n21+ with Valid ID\nSaturday March 22nd\nDoors at 9PM till Close \n$8 Adv\n$10 Door\n$15 VIP (get a large poster and 2 stickers with entry)\nhttps://outlandclub.com/raising-hell-pre-sale-tickets/ \nAt the Rendezvous\n2322 2nd Ave Seattle WA 98121
URL:https://darkmusic.net/event/outland-raising-hell/
LOCATION:The Rendezvous\, 2324 2nd Ave.\, Seattle\, W\, 98121\, United States
CATEGORIES:Concert,Dark Wave,EBM,Goth,Industrial,Post Punk
ATTACH;FMTTYPE=image/jpeg:https://darkmusic.net/wp-content/uploads/2025/03/IMG_9114.jpeg
GEO:47.6147748;-122.3462889
X-APPLE-STRUCTURED-LOCATION;VALUE=URI;X-ADDRESS=The Rendezvous 2324 2nd Ave. Seattle W 98121 United States;X-APPLE-RADIUS=500;X-TITLE=2324 2nd Ave.:geo:-122.3462889,47.6147748
END:VEVENT
BEGIN:VEVENT
DTSTART;TZID=America/New_York:20250320T200000
DTEND;TZID=America/New_York:20250320T230000
DTSTAMP:20260423T190618
CREATED:20250318T142547Z
LAST-MODIFIED:20250318T142902Z
UID:10000395-1742500800-1742511600@darkmusic.net
SUMMARY:Vicki’s Dream with Living Dead Girl – 3/20/25
DESCRIPTION:Get ready for an incredible night of Goth/Metal and Rock!!! We’re going to tear the house down with these great bands and legendary artist Living Dead Girl!!!\nSee you there!!!
URL:https://darkmusic.net/event/vickis-dream-with-living-dead-girl-3-20-25/
LOCATION:Sweetwater\, 2920 Old Norcross Rd\, Duluth\, GA\, 30096\, United States
CATEGORIES:Concert
ATTACH;FMTTYPE=image/jpeg:https://darkmusic.net/wp-content/uploads/2025/03/Living-Dead-Girl.jpg
ORGANIZER;CN="stv705sol":MAILTO:stephen.polsonjr@gmail.com
GEO:33.9516237;-84.1020775
X-APPLE-STRUCTURED-LOCATION;VALUE=URI;X-ADDRESS=Sweetwater 2920 Old Norcross Rd Duluth GA 30096 United States;X-APPLE-RADIUS=500;X-TITLE=2920 Old Norcross Rd:geo:-84.1020775,33.9516237
END:VEVENT
END:VCALENDAR