BEGIN:VCALENDAR
VERSION:2.0
PRODID:-//The Dark Music Network - ECPv6.15.20//NONSGML v1.0//EN
CALSCALE:GREGORIAN
METHOD:PUBLISH
X-WR-CALNAME:The Dark Music Network
X-ORIGINAL-URL:https://darkmusic.net
X-WR-CALDESC:Events for The Dark Music Network
REFRESH-INTERVAL;VALUE=DURATION:PT1H
X-Robots-Tag:noindex
X-PUBLISHED-TTL:PT1H
BEGIN:VTIMEZONE
TZID:America/New_York
BEGIN:DAYLIGHT
TZOFFSETFROM:-0500
TZOFFSETTO:-0400
TZNAME:EDT
DTSTART:20240310T070000
END:DAYLIGHT
BEGIN:STANDARD
TZOFFSETFROM:-0400
TZOFFSETTO:-0500
TZNAME:EST
DTSTART:20241103T060000
END:STANDARD
BEGIN:DAYLIGHT
TZOFFSETFROM:-0500
TZOFFSETTO:-0400
TZNAME:EDT
DTSTART:20250309T070000
END:DAYLIGHT
BEGIN:STANDARD
TZOFFSETFROM:-0400
TZOFFSETTO:-0500
TZNAME:EST
DTSTART:20251102T060000
END:STANDARD
BEGIN:DAYLIGHT
TZOFFSETFROM:-0500
TZOFFSETTO:-0400
TZNAME:EDT
DTSTART:20260308T070000
END:DAYLIGHT
BEGIN:STANDARD
TZOFFSETFROM:-0400
TZOFFSETTO:-0500
TZNAME:EST
DTSTART:20261101T060000
END:STANDARD
END:VTIMEZONE
BEGIN:VEVENT
DTSTART;TZID=America/New_York:20251213T160000
DTEND;TZID=America/New_York:20251213T230000
DTSTAMP:20260424T090853
CREATED:20251209T061614Z
LAST-MODIFIED:20251209T061614Z
UID:10001325-1765641600-1765666800@darkmusic.net
SUMMARY:Wicked Christmas 5
DESCRIPTION:Welcome to the 5th anniversary of Wicked Christmas!!! This year is a very special show because we are finally able to bring it home!!! We have a whole slew of amazing talent set to take the stage along with 50/50 raffles\, merch raffles and more. We will also have a donation box for toys for tots as well. Half of the proceeds will also be donated to a family in need for the holiday season. We hope to see you there\, Merry Christmas to all!!!
URL:https://darkmusic.net/event/wicked-christmas-5/
LOCATION:Morsberger’s Tavern\, 713 Frederick Rd\, Catonsville\, MD\, 21228\, United States
CATEGORIES:Concert
ATTACH;FMTTYPE=image/jpeg:https://darkmusic.net/wp-content/uploads/2025/12/Gazzmask-at-Moshburgers-121925.jpg
ORGANIZER;CN="na":MAILTO:na
END:VEVENT
END:VCALENDAR