BEGIN:VCALENDAR
VERSION:2.0
PRODID:-//The Dark Music Network - ECPv6.15.20//NONSGML v1.0//EN
CALSCALE:GREGORIAN
METHOD:PUBLISH
X-WR-CALNAME:The Dark Music Network
X-ORIGINAL-URL:https://darkmusic.net
X-WR-CALDESC:Events for The Dark Music Network
REFRESH-INTERVAL;VALUE=DURATION:PT1H
X-Robots-Tag:noindex
X-PUBLISHED-TTL:PT1H
BEGIN:VTIMEZONE
TZID:America/New_York
BEGIN:DAYLIGHT
TZOFFSETFROM:-0500
TZOFFSETTO:-0400
TZNAME:EDT
DTSTART:20240310T070000
END:DAYLIGHT
BEGIN:STANDARD
TZOFFSETFROM:-0400
TZOFFSETTO:-0500
TZNAME:EST
DTSTART:20241103T060000
END:STANDARD
BEGIN:DAYLIGHT
TZOFFSETFROM:-0500
TZOFFSETTO:-0400
TZNAME:EDT
DTSTART:20250309T070000
END:DAYLIGHT
BEGIN:STANDARD
TZOFFSETFROM:-0400
TZOFFSETTO:-0500
TZNAME:EST
DTSTART:20251102T060000
END:STANDARD
BEGIN:DAYLIGHT
TZOFFSETFROM:-0500
TZOFFSETTO:-0400
TZNAME:EDT
DTSTART:20260308T070000
END:DAYLIGHT
BEGIN:STANDARD
TZOFFSETFROM:-0400
TZOFFSETTO:-0500
TZNAME:EST
DTSTART:20261101T060000
END:STANDARD
END:VTIMEZONE
BEGIN:VEVENT
DTSTART;TZID=America/New_York:20251031T183000
DTEND;TZID=America/New_York:20251031T220000
DTSTAMP:20260424T133931
CREATED:20251013T165635Z
LAST-MODIFIED:20251013T165635Z
UID:10001318-1761935400-1761948000@darkmusic.net
SUMMARY:Frightful Fantasy
DESCRIPTION:Upcoming show Flemington DIY Friday Oct 31. A night of Ethereal / Synth music featuring\n26 Stangl Rd\, Flemington NJ\nAll ages / Doors @ 630 / $ 10\nCostumes encouraged!\n\n\n\nnimf (From Ireland) – Ethereal\nhttps://youtu.be/9xly2XdOipA?si=VOg4pJ58uu0XPNrQ\n\n\n\nBody Garden (Pennsylvania) – Ethereal electronic\nhttps://youtu.be/HdlSpzi-PJ8?si=UTp0IwDoB9Z3FoLU\n\n\n\n@earthen shield WereGnome Records (NY) – Synth\nhttps://youtu.be/tg8sZwuqqIg?si=oRYneJO_5PjUKGIC\n\n\n\n@solesvivr Jesse Smith (NJ) – Dungeon Synth\nhttps://youtu.be/08ujiHFh0yo?si=DNAVP4p0CGxrVOQH
URL:https://darkmusic.net/event/frightful-fantasy/
LOCATION:FL
CATEGORIES:Concert
ATTACH;FMTTYPE=image/jpeg:https://darkmusic.net/wp-content/uploads/2025/10/Flemington-DIY.jpg
END:VEVENT
END:VCALENDAR