BEGIN:VCALENDAR
VERSION:2.0
PRODID:-//The Dark Music Network - ECPv6.15.20//NONSGML v1.0//EN
CALSCALE:GREGORIAN
METHOD:PUBLISH
X-WR-CALNAME:The Dark Music Network
X-ORIGINAL-URL:https://darkmusic.net
X-WR-CALDESC:Events for The Dark Music Network
REFRESH-INTERVAL;VALUE=DURATION:PT1H
X-Robots-Tag:noindex
X-PUBLISHED-TTL:PT1H
BEGIN:VTIMEZONE
TZID:America/New_York
BEGIN:DAYLIGHT
TZOFFSETFROM:-0500
TZOFFSETTO:-0400
TZNAME:EDT
DTSTART:20240310T070000
END:DAYLIGHT
BEGIN:STANDARD
TZOFFSETFROM:-0400
TZOFFSETTO:-0500
TZNAME:EST
DTSTART:20241103T060000
END:STANDARD
BEGIN:DAYLIGHT
TZOFFSETFROM:-0500
TZOFFSETTO:-0400
TZNAME:EDT
DTSTART:20250309T070000
END:DAYLIGHT
BEGIN:STANDARD
TZOFFSETFROM:-0400
TZOFFSETTO:-0500
TZNAME:EST
DTSTART:20251102T060000
END:STANDARD
BEGIN:DAYLIGHT
TZOFFSETFROM:-0500
TZOFFSETTO:-0400
TZNAME:EDT
DTSTART:20260308T070000
END:DAYLIGHT
BEGIN:STANDARD
TZOFFSETFROM:-0400
TZOFFSETTO:-0500
TZNAME:EST
DTSTART:20261101T060000
END:STANDARD
END:VTIMEZONE
BEGIN:VEVENT
DTSTART;TZID=America/New_York:20250517T180000
DTEND;TZID=America/New_York:20250517T230000
DTSTAMP:20260425T065228
CREATED:20250408T202500Z
LAST-MODIFIED:20250408T202537Z
UID:10001197-1747504800-1747522800@darkmusic.net
SUMMARY:Horror Night @ David's Outlook
DESCRIPTION:Glampire (NY Glam/Horror Punk) \nSeglock (PA Horror Metal) \nThe Stranger Things (PA Horror Rock) \nArioch (Magician) \nSaturday May 17th \n6PM \nDavid’s Outlook \n228 E. Chestnut St. Hanover PA \nAll ages\, 21+ to BYOB \n$15 cover
URL:https://darkmusic.net/event/horror-night-davids-outlook/
LOCATION:David’s Outlook Hanover PA
CATEGORIES:Concert
ATTACH;FMTTYPE=image/jpeg:https://darkmusic.net/wp-content/uploads/2025/04/ffc40716-4de0-4f0b-aac2-771e9bd30f4e-1-1-1-1-1-1-2.jpg
END:VEVENT
END:VCALENDAR