BEGIN:VCALENDAR
VERSION:2.0
PRODID:-//The Dark Music Network - ECPv6.15.20//NONSGML v1.0//EN
CALSCALE:GREGORIAN
METHOD:PUBLISH
X-WR-CALNAME:The Dark Music Network
X-ORIGINAL-URL:https://darkmusic.net
X-WR-CALDESC:Events for The Dark Music Network
REFRESH-INTERVAL;VALUE=DURATION:PT1H
X-Robots-Tag:noindex
X-PUBLISHED-TTL:PT1H
BEGIN:VTIMEZONE
TZID:America/New_York
BEGIN:DAYLIGHT
TZOFFSETFROM:-0500
TZOFFSETTO:-0400
TZNAME:EDT
DTSTART:20240310T070000
END:DAYLIGHT
BEGIN:STANDARD
TZOFFSETFROM:-0400
TZOFFSETTO:-0500
TZNAME:EST
DTSTART:20241103T060000
END:STANDARD
BEGIN:DAYLIGHT
TZOFFSETFROM:-0500
TZOFFSETTO:-0400
TZNAME:EDT
DTSTART:20250309T070000
END:DAYLIGHT
BEGIN:STANDARD
TZOFFSETFROM:-0400
TZOFFSETTO:-0500
TZNAME:EST
DTSTART:20251102T060000
END:STANDARD
BEGIN:DAYLIGHT
TZOFFSETFROM:-0500
TZOFFSETTO:-0400
TZNAME:EDT
DTSTART:20260308T070000
END:DAYLIGHT
BEGIN:STANDARD
TZOFFSETFROM:-0400
TZOFFSETTO:-0500
TZNAME:EST
DTSTART:20261101T060000
END:STANDARD
END:VTIMEZONE
BEGIN:VEVENT
DTSTART;TZID=America/New_York:20250702T170000
DTEND;TZID=America/New_York:20250702T180000
DTSTAMP:20260424T200646
CREATED:20250627T190538Z
LAST-MODIFIED:20250627T190538Z
UID:10001222-1751475600-1751479200@darkmusic.net
SUMMARY:New Music O' Clock on eMpTyVeeTV Hosted By Hororhaus
DESCRIPTION:Hororhaus introduces music videos new to the rotation on twitch.tv/eMpTyVeeTV \nHororhaus is an artist that brings a hybrid of 70s & 80s horror soundscapes\, goth\, electronica\, black metal themes\, & dark 80s synth sounds. \nNew Music O’ Clock Wednesday\, July 2 at 5pm PT / 9pm GMT \nFeaturing Music Videos Submitted By \n40 Octaves Below (Vancouver\, British Columbia\, Canada) – WORLD PREMIERE VIDEO \nCrying Vessel (Switzerland / U.S.) – On Cold Transmission \nDaniel Ouellette (Massachusetts\, U.S.) – With An eMpTyVeeTV EXCLUSIVE \nDead Lights (London\, UK) – On darkTunes \nHororhaus (Woodstock\, New York\, U.S.) – LIVE Performance From World Goth Day 2025 \nJason Alacrity (Los Angeles\, California\, U.S.) Featuring Carrellee – On Negative Gain Productions \nOWLS (Longford\, Ireland) – On Negative Gain Productions \nPaper Foxes (Phoenix\, Arizona\, U.S.) – On Violet Hour Transmissions \nRobots In Love (Dunedin\, Aotearoa) – LIVE Performance From World Goth Day 2025 \nWilliam Bleak (Berlin\, Germany) \nBeginning \n2pm PT / 3pm CDMX / 4pm CT / 5pm ET \n6pm ART / 9pm GMT / 10pm BST / 11pm CEST \n0:00 (Thursday) EEST \n8am (Thursday) Sydney\, Australia \n10am (Thursday) Aotearoa \nBroadcasting On https://twitch.tv/eMpTyVeeTV
URL:https://darkmusic.net/event/new-music-o-clock-on-emptyveetv-hosted-by-hororhaus/
LOCATION:Twitch
CATEGORIES:80's,Concert,Dark Wave,Goth,Industrial,Post Punk
ATTACH;FMTTYPE=image/jpeg:https://darkmusic.net/wp-content/uploads/2025/06/508819628_1257675859148104_4968335387198346324_n.jpg
ORGANIZER;CN="eMpTyVeeTV":MAILTO:eMpTyVee.TV@gmail.com
GEO:55.378051;-3.435973
END:VEVENT
BEGIN:VEVENT
DTSTART;TZID=America/New_York:20250719T200000
DTEND;TZID=America/New_York:20250720T020000
DTSTAMP:20260424T200646
CREATED:20250526T221717Z
LAST-MODIFIED:20250628T224811Z
UID:10001217-1752955200-1752976800@darkmusic.net
SUMMARY:DEAD COOL & IDOL TALK – L I V E @ Club Terraform
DESCRIPTION:DEAD COOL & IDOL TALK are on tour and performing LIVE at Club Terraform (Elevate Social Club) West Columbia South Carolina with DJ MISSTEP \nTICKETS ARE NOW ON SALE. ONLY BUY THROUGH THE EVENT LINK AND BEWARE OF SCAMMERS!!! \nEARLY TICKETS NOW-JULY 4TH $8+fees \nONLINE TICKETS JULY 5TH-JULY18TH ARE 10+fees \nTICKETS AT THE DOOR (IF NOT SOLD OUT) ARE $15 \n21+ ONLY
URL:https://darkmusic.net/event/dead-cool-idol-talk-l-i-v-e-club-terraform/
LOCATION:Elevate Social Club – West Columbia SC\, 735 Meeting St\, West Columbia\, S\, 29169\, United States
CATEGORIES:Club Night,Concert,Dark Electro,Dark Wave,EBM,Goth,Industrial,Post Punk,Synthpop
ATTACH;FMTTYPE=image/jpeg:https://darkmusic.net/wp-content/uploads/2025/05/7-19-25-dead-cool-idol-talk-misstep-terraform-with-ornjkat.jpg
ORGANIZER;CN="DJ MISSTEP":MAILTO:clubterraform@gmail.com
GEO:33.9920839;-81.0636411
X-APPLE-STRUCTURED-LOCATION;VALUE=URI;X-ADDRESS=Elevate Social Club – West Columbia SC 735 Meeting St West Columbia S 29169 United States;X-APPLE-RADIUS=500;X-TITLE=735 Meeting St:geo:-81.0636411,33.9920839
END:VEVENT
BEGIN:VEVENT
DTSTART;TZID=America/New_York:20250725T190000
DTEND;TZID=America/New_York:20250725T220000
DTSTAMP:20260424T200646
CREATED:20250514T170050Z
LAST-MODIFIED:20250520T154942Z
UID:10001210-1753470000-1753480800@darkmusic.net
SUMMARY:JACK PHANTOM AND THE EXQUISITE CORPSE CABARET/DOORS IN THE LABYRINTH / Pittsburgh\, PA July 25
DESCRIPTION:Jack Phantom and the Exquisite Corpse Cabaret (Pensacola\, FL) delivers a dark jazz performance blending moody instrumentation\, haunting visuals\, and emotionally charged storytelling. Led by Jack Phantom\, the project explores themes of addiction\, death\, and the human condition with a sound that’s both beautiful\, atmospheric and raw. Part concert\, part movie\, part confessional—this is music for those drawn to the beautiful and the bleak. \nDoors In the Labyrinth (Pittsburgh\, PA) blends post-rock drone with darkwave electronics\, creating atmospheric narrative songs.  Drawing from a history in experimental music\, film scores\, traditional folk and more\, Doors In The Labyrinth is the work of multi-instrumentalist josh loughrey.  Most recently\, Doors In The Labyrinth has appeared on the Electronic Saviors VII compilation\, and is currently writing and recording the follow up to 2021’s “In The Shadow Of The Monolith”. \nUpper room at Sidequest on 44th\, \n146 44TH ST\, PITTSBURGH\, PA 15201\, US
URL:https://darkmusic.net/event/jack-phantom-and-the-exquisite-corpse-cabaret-others-tba-pittsburgh-pa-july-25/
LOCATION:Sidequest on 44th\, 146 44TH ST\, Pittsburgh\, P\, 15201\, United States
CATEGORIES:Concert
ATTACH;FMTTYPE=image/jpeg:https://darkmusic.net/wp-content/uploads/2025/05/jp_for_tour_2025-1-scaled.jpg
ORGANIZER;CN="Jack Phantom":MAILTO:jack.phantom.official@gmail.com
GEO:40.472511;-79.9616957
X-APPLE-STRUCTURED-LOCATION;VALUE=URI;X-ADDRESS=Sidequest on 44th 146 44TH ST Pittsburgh P 15201 United States;X-APPLE-RADIUS=500;X-TITLE=146 44TH ST:geo:-79.9616957,40.472511
END:VEVENT
BEGIN:VEVENT
DTSTART;TZID=America/New_York:20250729T190000
DTEND;TZID=America/New_York:20250729T233000
DTSTAMP:20260424T200647
CREATED:20250609T184358Z
LAST-MODIFIED:20250609T184358Z
UID:10001218-1753815600-1753831800@darkmusic.net
SUMMARY:JACK PHANTOM AND THE EXQUISITE CORPSE CABARET w SOLEMN SHAPES\, BOCANEGRA\, CFFNDRGGR
DESCRIPTION:Darkwave\, Dark Jazz\, PostPunk and Goth at the legendary Milestone Club in Charlotte\, NC. \n18+ with ID no exceptions. Doors open at 7pm.
URL:https://darkmusic.net/event/jack-phantom-and-the-exquisite-corpse-cabaret-w-solemn-shapes-bocanegra-cffndrggr/
LOCATION:Milestone Club\, 3400 Tuckaseegee Rd\, Charlotte\, N\, 28208\, United States
CATEGORIES:Concert
ORGANIZER;CN="Jack Phantom":MAILTO:jack.phantom.official@gmail.com
END:VEVENT
END:VCALENDAR