BEGIN:VCALENDAR
VERSION:2.0
PRODID:-//The Dark Music Network - ECPv6.15.20//NONSGML v1.0//EN
CALSCALE:GREGORIAN
METHOD:PUBLISH
X-WR-CALNAME:The Dark Music Network
X-ORIGINAL-URL:https://darkmusic.net
X-WR-CALDESC:Events for The Dark Music Network
REFRESH-INTERVAL;VALUE=DURATION:PT1H
X-Robots-Tag:noindex
X-PUBLISHED-TTL:PT1H
BEGIN:VTIMEZONE
TZID:America/New_York
BEGIN:DAYLIGHT
TZOFFSETFROM:-0500
TZOFFSETTO:-0400
TZNAME:EDT
DTSTART:20250309T070000
END:DAYLIGHT
BEGIN:STANDARD
TZOFFSETFROM:-0400
TZOFFSETTO:-0500
TZNAME:EST
DTSTART:20251102T060000
END:STANDARD
BEGIN:DAYLIGHT
TZOFFSETFROM:-0500
TZOFFSETTO:-0400
TZNAME:EDT
DTSTART:20260308T070000
END:DAYLIGHT
BEGIN:STANDARD
TZOFFSETFROM:-0400
TZOFFSETTO:-0500
TZNAME:EST
DTSTART:20261101T060000
END:STANDARD
BEGIN:DAYLIGHT
TZOFFSETFROM:-0500
TZOFFSETTO:-0400
TZNAME:EDT
DTSTART:20270314T070000
END:DAYLIGHT
BEGIN:STANDARD
TZOFFSETFROM:-0400
TZOFFSETTO:-0500
TZNAME:EST
DTSTART:20271107T060000
END:STANDARD
END:VTIMEZONE
BEGIN:VEVENT
DTSTART;TZID=America/New_York:20260508T220000
DTEND;TZID=America/New_York:20260509T020000
DTSTAMP:20260423T154822
CREATED:20250321T185818Z
LAST-MODIFIED:20250321T190929Z
UID:10000576-1778277600-1778292000@darkmusic.net
SUMMARY:Vertex Night Club
DESCRIPTION:One of the longest running goth clubs in the US. Not to be confused with the awesome VORTEX – similar names\, no relation. \nThurs\, Friday\, and Saturday. 10pm- 2am (Or until they kick everyone out. Drinks stop at 2 but the club will often stay going) \nThursday Night – DJ Noname \nFriday Night – DJ Crash \nSaturday Night – DJ Darkwave \nOften hosts a Gothic Garage Sale twice a year\, plus other events. \nWill update this more soon as there isn’t much online for the club since it is very underground.
URL:https://darkmusic.net/event/vertex/2026-05-08/
LOCATION:Vertex Night Club\, 169 N Chestnut St\, Rochester\, NY\, 14604\, United States
CATEGORIES:80's,Aggrotech,Club Night,Cyber,Dark Wave,EBM,FuturePop,Goth,Industrial,Oddities Market,Synthpop
ATTACH;FMTTYPE=image/jpeg:https://darkmusic.net/wp-content/uploads/2025/03/Vertex.jpg
GEO:43.1606393;-77.603646
X-APPLE-STRUCTURED-LOCATION;VALUE=URI;X-ADDRESS=Vertex Night Club 169 N Chestnut St Rochester NY 14604 United States;X-APPLE-RADIUS=500;X-TITLE=169 N Chestnut St:geo:-77.603646,43.1606393
END:VEVENT
BEGIN:VEVENT
DTSTART;TZID=America/New_York:20260509T200000
DTEND;TZID=America/New_York:20260510T020000
DTSTAMP:20260423T154822
CREATED:20260329T090802Z
LAST-MODIFIED:20260329T090802Z
UID:10001327-1778356800-1778378400@darkmusic.net
SUMMARY:Spring Goth Celebration 2026
DESCRIPTION:DJ Jason and Propaganda nightclub present: \nSpring Goth Celebration 2026 with \nShadow Reborn \nCaelum Wraith \nVeronica and the Dark Particles \n& \nOpus Mori \nplus\, \nDJ Jason spinning Goth all night
URL:https://darkmusic.net/event/spring-goth-celebration-2026/
LOCATION:Propaganda\, 6 South J Street\, Lake Worth Beach\, FL\, 33460\, United States
CATEGORIES:Club Night,Concert,Festival,Goth
ATTACH;FMTTYPE=image/jpeg:https://darkmusic.net/wp-content/uploads/2026/03/Absolution-NYC-Goth-Club-Event-Flyer-Festival-Floroda-SpringGoth2026v2-copy.jpeg
ORGANIZER;CN="DJ Jason":MAILTO:djjasonofalchemy@gmail.com
GEO:26.6155883;-80.05612
X-APPLE-STRUCTURED-LOCATION;VALUE=URI;X-ADDRESS=Propaganda 6 South J Street Lake Worth Beach FL 33460 United States;X-APPLE-RADIUS=500;X-TITLE=6 South J Street:geo:-80.05612,26.6155883
END:VEVENT
BEGIN:VEVENT
DTSTART;TZID=America/New_York:20260509T200000
DTEND;TZID=America/New_York:20260510T020000
DTSTAMP:20260423T154822
CREATED:20260419T190852Z
LAST-MODIFIED:20260419T190852Z
UID:10001392-1778356800-1778378400@darkmusic.net
SUMMARY:SLAB + The Mourning Dolls Present: Maypocalypse
DESCRIPTION:SLAB is not a club as much as an evening affair. \nIn May\, we bring you an apocalyptic event complete with Barter Town. A place to swap spooky gear / clothing / housewares / etc with others. No money exchanged\, just a old fashioned swap. Two parties agree\, done! \nWe are also kicking off our community art project. Stop by to get a sqaure to decorate however you see fit. We have some media on site for you to use\, but we encourage you to take it home and put your style into the piece. One square at a time\, but you can do multiple squares. Just return one to get another if you desire! \nDJs will bring the music to fill the night air and custom drinks to fill your belly. \nPhoto ops with The Mourning Dolls to capture your fit for surviving the end of days. \nSLAB is always a Pay What You Can event. We do suggest $5 (or more) if you can. Money should never keep us apart\, and no one 21+ gets turned away. We prefer community over all!
URL:https://darkmusic.net/event/slab-the-mourning-dolls-present-maypocalypse/
LOCATION:Red Light Lounge\, 1901 Harney St\, Omaha\, NE\, United States
CATEGORIES:Club Night,Dark Wave,Goth
ATTACH;FMTTYPE=image/jpeg:https://darkmusic.net/wp-content/uploads/2026/04/IMG_0367-1-scaled.jpeg
ORGANIZER;CN="SLAB Goth Night":MAILTO:octoberland@gmail.com
END:VEVENT
BEGIN:VEVENT
DTSTART;TZID=America/New_York:20260509T220000
DTEND;TZID=America/New_York:20260510T020000
DTSTAMP:20260423T154822
CREATED:20250321T185818Z
LAST-MODIFIED:20250321T190929Z
UID:10000577-1778364000-1778378400@darkmusic.net
SUMMARY:Vertex Night Club
DESCRIPTION:One of the longest running goth clubs in the US. Not to be confused with the awesome VORTEX – similar names\, no relation. \nThurs\, Friday\, and Saturday. 10pm- 2am (Or until they kick everyone out. Drinks stop at 2 but the club will often stay going) \nThursday Night – DJ Noname \nFriday Night – DJ Crash \nSaturday Night – DJ Darkwave \nOften hosts a Gothic Garage Sale twice a year\, plus other events. \nWill update this more soon as there isn’t much online for the club since it is very underground.
URL:https://darkmusic.net/event/vertex/2026-05-09/
LOCATION:Vertex Night Club\, 169 N Chestnut St\, Rochester\, NY\, 14604\, United States
CATEGORIES:80's,Aggrotech,Club Night,Cyber,Dark Wave,EBM,FuturePop,Goth,Industrial,Oddities Market,Synthpop
ATTACH;FMTTYPE=image/jpeg:https://darkmusic.net/wp-content/uploads/2025/03/Vertex.jpg
GEO:43.1606393;-77.603646
X-APPLE-STRUCTURED-LOCATION;VALUE=URI;X-ADDRESS=Vertex Night Club 169 N Chestnut St Rochester NY 14604 United States;X-APPLE-RADIUS=500;X-TITLE=169 N Chestnut St:geo:-77.603646,43.1606393
END:VEVENT
END:VCALENDAR