BEGIN:VCALENDAR
VERSION:2.0
PRODID:-//The Dark Music Network - ECPv6.15.20//NONSGML v1.0//EN
CALSCALE:GREGORIAN
METHOD:PUBLISH
X-ORIGINAL-URL:https://darkmusic.net
X-WR-CALDESC:Events for The Dark Music Network
REFRESH-INTERVAL;VALUE=DURATION:PT1H
X-Robots-Tag:noindex
X-PUBLISHED-TTL:PT1H
BEGIN:VTIMEZONE
TZID:America/New_York
BEGIN:DAYLIGHT
TZOFFSETFROM:-0500
TZOFFSETTO:-0400
TZNAME:EDT
DTSTART:20250309T070000
END:DAYLIGHT
BEGIN:STANDARD
TZOFFSETFROM:-0400
TZOFFSETTO:-0500
TZNAME:EST
DTSTART:20251102T060000
END:STANDARD
BEGIN:DAYLIGHT
TZOFFSETFROM:-0500
TZOFFSETTO:-0400
TZNAME:EDT
DTSTART:20260308T070000
END:DAYLIGHT
BEGIN:STANDARD
TZOFFSETFROM:-0400
TZOFFSETTO:-0500
TZNAME:EST
DTSTART:20261101T060000
END:STANDARD
BEGIN:DAYLIGHT
TZOFFSETFROM:-0500
TZOFFSETTO:-0400
TZNAME:EDT
DTSTART:20270314T070000
END:DAYLIGHT
BEGIN:STANDARD
TZOFFSETFROM:-0400
TZOFFSETTO:-0500
TZNAME:EST
DTSTART:20271107T060000
END:STANDARD
END:VTIMEZONE
BEGIN:VEVENT
DTSTART;TZID=America/New_York:20260420T220000
DTEND;TZID=America/New_York:20260421T030000
DTSTAMP:20260423T140818
CREATED:20250227T160600Z
LAST-MODIFIED:20250627T202111Z
UID:10000156-1776722400-1776740400@darkmusic.net
SUMMARY:5+ Hours of Goth livestream
DESCRIPTION:Every Monday at 10pm Eastern time DJ Jason spins a free livestream with purely Goth for over 5 hours on the Twitch platform.  Hope to see you there in the DJ chat area.  \nhttps://www.twitch.tv/djjasonspinsgoth
URL:https://darkmusic.net/event/5-hours-of-goth-livestream/2026-04-20/
LOCATION:https://darkmusic.net/event/5-hours-of-goth-livestream/2026-04-20/
CATEGORIES:Goth
ATTACH;FMTTYPE=image/jpeg:https://darkmusic.net/wp-content/uploads/2025/02/492971009_10234984159040536_3024512789924366107_n.jpg
ORGANIZER;CN="DJ Jason":MAILTO:djjasonofalchemy@gmail.com
END:VEVENT
BEGIN:VEVENT
DTSTART;TZID=America/New_York:20260421T200000
DTEND;TZID=America/New_York:20260422T020000
DTSTAMP:20260423T140818
CREATED:20260419T185027Z
LAST-MODIFIED:20260419T185027Z
UID:10001391-1776801600-1776823200@darkmusic.net
SUMMARY:SLAB: An Evening with DJ Owen
DESCRIPTION:SLAB is elated to present An Evening with DJ Owen! \nHe’s making his way across the US and we thought it was important enough to get him back to our city that we are hosting a surprise event on Tuesday\, April 21. We are not normally busy on week nights\, but this merits a change. If you are not familiar with Owen\, here is more information. \nIf you spend time at Gothic clubs\, you have probably seen Owen around. He has been a staple in the American Gothic Scene for decades from coast to coast. Currently based in the San Francisco Bay Area\, his unique way of bringing joy to a dance floor can be experienced regularly at many clubs\, including Nightshift\, 1984\, Club Necromancy\, The Rellik\, and The Box\, just to name a few\, and can also be enjoyed on the weekly Hanging Garden Radio Show\, which is heard throughout Northern California or anywhere in the world through the internet. \nA love of\, and devotion to\, music has manifested in many forms over Owen’s lifetime. Aside form being a trained classical musician in his own right\, Owen has spun professionally in such divergent musical genres as Swing\, 80’s\, Indie\, Current Top 40\, 90’s\, and Lounge. Even in the Goth/Industrial realm\, he is unusually diverse\, spinning anything from Ethereal\, to Aggrotech & EBM\, to Deathrock\, to 80’s & 90’s Industrial\, to modern & classic Darkwave\, Post-Punk\, and much more. He simply has a passion for music\, itself\, and sharing the feeling of experiencing its transcendence with others. This is why he is so eager to take and play as many requests as possible from the crowd. A club is a place to feel good. \nThe Gothic Scene is something truly special. It is more than just a place to go out; it is a genuine community. This is what draws many people to be part of it and this is why many of those people continue to stay with it well after their peers in age have lost interest in going to clubs. When not behind the DJ tables\, you will often find Owen loving this community. Chances are good he is probably dancing on the floor or conversing with everyone. His personal contributions include creating clubs and festivals\, playing benefits whenever possible\, and even constructing group trips and tours. \nWhen you see Owen around\, say hello\, make musical requests\, and most of all\, have a great time. After all\, we’re among friends and the joy of music. That’s a good enough reason to celebrate any night!
URL:https://darkmusic.net/event/slab-an-evening-with-dj-owen/
LOCATION:Red Light Lounge\, 1901 Harney St\, Omaha\, NE\, United States
CATEGORIES:Club Night,Dark Wave,Goth
ATTACH;FMTTYPE=image/jpeg:https://darkmusic.net/wp-content/uploads/2026/04/SLAB-2026-APR21-PRINT-scaled.jpg
ORGANIZER;CN="SLAB Goth Night":MAILTO:octoberland@gmail.com
END:VEVENT
END:VCALENDAR