BEGIN:VCALENDAR
VERSION:2.0
PRODID:-//The Dark Music Network - ECPv6.15.20//NONSGML v1.0//EN
CALSCALE:GREGORIAN
METHOD:PUBLISH
X-WR-CALNAME:The Dark Music Network
X-ORIGINAL-URL:https://darkmusic.net
X-WR-CALDESC:Events for The Dark Music Network
REFRESH-INTERVAL;VALUE=DURATION:PT1H
X-Robots-Tag:noindex
X-PUBLISHED-TTL:PT1H
BEGIN:VTIMEZONE
TZID:America/New_York
BEGIN:DAYLIGHT
TZOFFSETFROM:-0500
TZOFFSETTO:-0400
TZNAME:EDT
DTSTART:20240310T070000
END:DAYLIGHT
BEGIN:STANDARD
TZOFFSETFROM:-0400
TZOFFSETTO:-0500
TZNAME:EST
DTSTART:20241103T060000
END:STANDARD
BEGIN:DAYLIGHT
TZOFFSETFROM:-0500
TZOFFSETTO:-0400
TZNAME:EDT
DTSTART:20250309T070000
END:DAYLIGHT
BEGIN:STANDARD
TZOFFSETFROM:-0400
TZOFFSETTO:-0500
TZNAME:EST
DTSTART:20251102T060000
END:STANDARD
BEGIN:DAYLIGHT
TZOFFSETFROM:-0500
TZOFFSETTO:-0400
TZNAME:EDT
DTSTART:20260308T070000
END:DAYLIGHT
BEGIN:STANDARD
TZOFFSETFROM:-0400
TZOFFSETTO:-0500
TZNAME:EST
DTSTART:20261101T060000
END:STANDARD
END:VTIMEZONE
BEGIN:VEVENT
DTSTART;TZID=America/New_York:20251211T220000
DTEND;TZID=America/New_York:20251212T020000
DTSTAMP:20260423T221543
CREATED:20250321T185818Z
LAST-MODIFIED:20250321T190929Z
UID:10000512-1765490400-1765504800@darkmusic.net
SUMMARY:Vertex Night Club
DESCRIPTION:One of the longest running goth clubs in the US. Not to be confused with the awesome VORTEX – similar names\, no relation. \nThurs\, Friday\, and Saturday. 10pm- 2am (Or until they kick everyone out. Drinks stop at 2 but the club will often stay going) \nThursday Night – DJ Noname \nFriday Night – DJ Crash \nSaturday Night – DJ Darkwave \nOften hosts a Gothic Garage Sale twice a year\, plus other events. \nWill update this more soon as there isn’t much online for the club since it is very underground.
URL:https://darkmusic.net/event/vertex/2025-12-11/
LOCATION:Vertex Night Club\, 169 N Chestnut St\, Rochester\, NY\, 14604\, United States
CATEGORIES:80's,Aggrotech,Club Night,Cyber,Dark Wave,EBM,FuturePop,Goth,Industrial,Oddities Market,Synthpop
ATTACH;FMTTYPE=image/jpeg:https://darkmusic.net/wp-content/uploads/2025/03/Vertex.jpg
GEO:43.1606393;-77.603646
X-APPLE-STRUCTURED-LOCATION;VALUE=URI;X-ADDRESS=Vertex Night Club 169 N Chestnut St Rochester NY 14604 United States;X-APPLE-RADIUS=500;X-TITLE=169 N Chestnut St:geo:-77.603646,43.1606393
END:VEVENT
BEGIN:VEVENT
DTSTART;TZID=America/New_York:20251212T210000
DTEND;TZID=America/New_York:20251213T013000
DTSTAMP:20260423T221543
CREATED:20251125T165350Z
LAST-MODIFIED:20251125T165350Z
UID:10001324-1765573200-1765589400@darkmusic.net
SUMMARY:Aeternum
DESCRIPTION:Join us for Aeternum on 12.12.25 at Holy Frijoles. A shadow-soaked realm where the night is alive with power electronics\, hellfire visuals\, and demonic echoes. \nDJs: RasDNA\, Alan Acid\, eEL\nLighting Techs: Ruin\, Alan Acid\nBone Art Vendor: Ars Mortis \n12.12.25 / 9PM / $10 / 21+\nHoly Frijoles\n908-912 W 36th St\, Baltimore
URL:https://darkmusic.net/event/aeternum-2/
LOCATION:Holy Frijoles\, 908-912 W 36th St.\, Baltimore\, MD\, 21211\, United States
CATEGORIES:Aggrotech,Club Night,Dark Electro,Industrial
ATTACH;FMTTYPE=image/jpeg:https://darkmusic.net/wp-content/uploads/2025/11/Aeternum-2025-12-12-flyer.jpg
ORGANIZER;CN="eEL":MAILTO:eel.darkbrain@gmail.com
END:VEVENT
BEGIN:VEVENT
DTSTART;TZID=America/New_York:20251212T220000
DTEND;TZID=America/New_York:20251213T020000
DTSTAMP:20260423T221543
CREATED:20250321T185818Z
LAST-MODIFIED:20250321T190929Z
UID:10000513-1765576800-1765591200@darkmusic.net
SUMMARY:Vertex Night Club
DESCRIPTION:One of the longest running goth clubs in the US. Not to be confused with the awesome VORTEX – similar names\, no relation. \nThurs\, Friday\, and Saturday. 10pm- 2am (Or until they kick everyone out. Drinks stop at 2 but the club will often stay going) \nThursday Night – DJ Noname \nFriday Night – DJ Crash \nSaturday Night – DJ Darkwave \nOften hosts a Gothic Garage Sale twice a year\, plus other events. \nWill update this more soon as there isn’t much online for the club since it is very underground.
URL:https://darkmusic.net/event/vertex/2025-12-12/
LOCATION:Vertex Night Club\, 169 N Chestnut St\, Rochester\, NY\, 14604\, United States
CATEGORIES:80's,Aggrotech,Club Night,Cyber,Dark Wave,EBM,FuturePop,Goth,Industrial,Oddities Market,Synthpop
ATTACH;FMTTYPE=image/jpeg:https://darkmusic.net/wp-content/uploads/2025/03/Vertex.jpg
GEO:43.1606393;-77.603646
X-APPLE-STRUCTURED-LOCATION;VALUE=URI;X-ADDRESS=Vertex Night Club 169 N Chestnut St Rochester NY 14604 United States;X-APPLE-RADIUS=500;X-TITLE=169 N Chestnut St:geo:-77.603646,43.1606393
END:VEVENT
END:VCALENDAR