BEGIN:VCALENDAR
VERSION:2.0
PRODID:-//The Dark Music Network - ECPv6.15.20//NONSGML v1.0//EN
CALSCALE:GREGORIAN
METHOD:PUBLISH
X-WR-CALNAME:The Dark Music Network
X-ORIGINAL-URL:https://darkmusic.net
X-WR-CALDESC:Events for The Dark Music Network
REFRESH-INTERVAL;VALUE=DURATION:PT1H
X-Robots-Tag:noindex
X-PUBLISHED-TTL:PT1H
BEGIN:VTIMEZONE
TZID:America/New_York
BEGIN:DAYLIGHT
TZOFFSETFROM:-0500
TZOFFSETTO:-0400
TZNAME:EDT
DTSTART:20240310T070000
END:DAYLIGHT
BEGIN:STANDARD
TZOFFSETFROM:-0400
TZOFFSETTO:-0500
TZNAME:EST
DTSTART:20241103T060000
END:STANDARD
BEGIN:DAYLIGHT
TZOFFSETFROM:-0500
TZOFFSETTO:-0400
TZNAME:EDT
DTSTART:20250309T070000
END:DAYLIGHT
BEGIN:STANDARD
TZOFFSETFROM:-0400
TZOFFSETTO:-0500
TZNAME:EST
DTSTART:20251102T060000
END:STANDARD
BEGIN:DAYLIGHT
TZOFFSETFROM:-0500
TZOFFSETTO:-0400
TZNAME:EDT
DTSTART:20260308T070000
END:DAYLIGHT
BEGIN:STANDARD
TZOFFSETFROM:-0400
TZOFFSETTO:-0500
TZNAME:EST
DTSTART:20261101T060000
END:STANDARD
END:VTIMEZONE
BEGIN:VEVENT
DTSTART;TZID=America/New_York:20251024T220000
DTEND;TZID=America/New_York:20251025T020000
DTSTAMP:20260424T025315
CREATED:20250321T185818Z
LAST-MODIFIED:20250321T190929Z
UID:10000493-1761343200-1761357600@darkmusic.net
SUMMARY:Vertex Night Club
DESCRIPTION:One of the longest running goth clubs in the US. Not to be confused with the awesome VORTEX – similar names\, no relation. \nThurs\, Friday\, and Saturday. 10pm- 2am (Or until they kick everyone out. Drinks stop at 2 but the club will often stay going) \nThursday Night – DJ Noname \nFriday Night – DJ Crash \nSaturday Night – DJ Darkwave \nOften hosts a Gothic Garage Sale twice a year\, plus other events. \nWill update this more soon as there isn’t much online for the club since it is very underground.
URL:https://darkmusic.net/event/vertex/2025-10-24/
LOCATION:Vertex Night Club\, 169 N Chestnut St\, Rochester\, NY\, 14604\, United States
CATEGORIES:80's,Aggrotech,Club Night,Cyber,Dark Wave,EBM,FuturePop,Goth,Industrial,Oddities Market,Synthpop
ATTACH;FMTTYPE=image/jpeg:https://darkmusic.net/wp-content/uploads/2025/03/Vertex.jpg
GEO:43.1606393;-77.603646
X-APPLE-STRUCTURED-LOCATION;VALUE=URI;X-ADDRESS=Vertex Night Club 169 N Chestnut St Rochester NY 14604 United States;X-APPLE-RADIUS=500;X-TITLE=169 N Chestnut St:geo:-77.603646,43.1606393
END:VEVENT
BEGIN:VEVENT
DTSTART;TZID=America/New_York:20251025T110000
DTEND;TZID=America/New_York:20251026T210000
DTSTAMP:20260424T025315
CREATED:20250320T223128Z
LAST-MODIFIED:20250320T223128Z
UID:10000398-1761390000-1761512400@darkmusic.net
SUMMARY:SYRACUSE SUBCULTURE SHOWCASE
DESCRIPTION:A 2 Day Convention showcasing All things Goth\, Punk\, ALT and KINK. VIP EBM/DarkwaveAfterparty w/Full bar\, DJ sets\, tattoo artists\, shibari\, suspension and other Kink based demonstrations. \nother features include piercings\, photo booth opportunities\, Best dressed contest\, Raffles\, sideshow acts\, burlesque\, pole artistry routines and more all TBA! This Will be an 18+ only event. \n  \n10/25 11 am to 10 pm \n10/26 12 pm to 9 pm \n  \nTickets available via website link below
URL:https://darkmusic.net/event/syracuse-subculture-showcase/
LOCATION:2025  Alhambra Live\, Alhambra Live\, Morecambe\, LA4 4EU\, United Kingdom
CATEGORIES:Club Night,Dark Wave,Goth,Horror Punk,Oddities Market,Vampire
ATTACH;FMTTYPE=image/jpeg:https://darkmusic.net/wp-content/uploads/2025/03/InstraFitter_20241227_115029.jpg
GEO:54.0662193;-2.8802521
X-APPLE-STRUCTURED-LOCATION;VALUE=URI;X-ADDRESS=2025  Alhambra Live Alhambra Live Morecambe LA4 4EU United Kingdom;X-APPLE-RADIUS=500;X-TITLE=Alhambra Live:geo:-2.8802521,54.0662193
END:VEVENT
BEGIN:VEVENT
DTSTART;TZID=America/New_York:20251025T220000
DTEND;TZID=America/New_York:20251026T020000
DTSTAMP:20260424T025315
CREATED:20250321T185818Z
LAST-MODIFIED:20250321T190929Z
UID:10000494-1761429600-1761444000@darkmusic.net
SUMMARY:Vertex Night Club
DESCRIPTION:One of the longest running goth clubs in the US. Not to be confused with the awesome VORTEX – similar names\, no relation. \nThurs\, Friday\, and Saturday. 10pm- 2am (Or until they kick everyone out. Drinks stop at 2 but the club will often stay going) \nThursday Night – DJ Noname \nFriday Night – DJ Crash \nSaturday Night – DJ Darkwave \nOften hosts a Gothic Garage Sale twice a year\, plus other events. \nWill update this more soon as there isn’t much online for the club since it is very underground.
URL:https://darkmusic.net/event/vertex/2025-10-25/
LOCATION:Vertex Night Club\, 169 N Chestnut St\, Rochester\, NY\, 14604\, United States
CATEGORIES:80's,Aggrotech,Club Night,Cyber,Dark Wave,EBM,FuturePop,Goth,Industrial,Oddities Market,Synthpop
ATTACH;FMTTYPE=image/jpeg:https://darkmusic.net/wp-content/uploads/2025/03/Vertex.jpg
GEO:43.1606393;-77.603646
X-APPLE-STRUCTURED-LOCATION;VALUE=URI;X-ADDRESS=Vertex Night Club 169 N Chestnut St Rochester NY 14604 United States;X-APPLE-RADIUS=500;X-TITLE=169 N Chestnut St:geo:-77.603646,43.1606393
END:VEVENT
END:VCALENDAR