BEGIN:VCALENDAR
VERSION:2.0
PRODID:-//The Dark Music Network - ECPv6.15.20//NONSGML v1.0//EN
CALSCALE:GREGORIAN
METHOD:PUBLISH
X-ORIGINAL-URL:https://darkmusic.net
X-WR-CALDESC:Events for The Dark Music Network
REFRESH-INTERVAL;VALUE=DURATION:PT1H
X-Robots-Tag:noindex
X-PUBLISHED-TTL:PT1H
BEGIN:VTIMEZONE
TZID:America/New_York
BEGIN:DAYLIGHT
TZOFFSETFROM:-0500
TZOFFSETTO:-0400
TZNAME:EDT
DTSTART:20240310T070000
END:DAYLIGHT
BEGIN:STANDARD
TZOFFSETFROM:-0400
TZOFFSETTO:-0500
TZNAME:EST
DTSTART:20241103T060000
END:STANDARD
BEGIN:DAYLIGHT
TZOFFSETFROM:-0500
TZOFFSETTO:-0400
TZNAME:EDT
DTSTART:20250309T070000
END:DAYLIGHT
BEGIN:STANDARD
TZOFFSETFROM:-0400
TZOFFSETTO:-0500
TZNAME:EST
DTSTART:20251102T060000
END:STANDARD
BEGIN:DAYLIGHT
TZOFFSETFROM:-0500
TZOFFSETTO:-0400
TZNAME:EDT
DTSTART:20260308T070000
END:DAYLIGHT
BEGIN:STANDARD
TZOFFSETFROM:-0400
TZOFFSETTO:-0500
TZNAME:EST
DTSTART:20261101T060000
END:STANDARD
END:VTIMEZONE
BEGIN:VEVENT
DTSTART;TZID=America/New_York:20250903T170000
DTEND;TZID=America/New_York:20250903T180000
DTSTAMP:20260424T045554
CREATED:20250826T154919Z
LAST-MODIFIED:20250826T154919Z
UID:10001307-1756918800-1756922400@darkmusic.net
SUMMARY:New Music O' Clock on eMpTyVeeTV Hosted by Lark Detweiler
DESCRIPTION:Wednesday\, September 3 \nNew Music O’ Clock Hosted by Lark Detweiler \nLark Detweiler is a dancer\, choreographer\, and bass player for the band Spiralteeth \nFeaturing Music Videos / Lyric Videos Submitted By: \nCoor Brow-Obles (Maidstone\, UK) \nDaffodildos (Brighton\, UK) – On Not Saints \nHasswut (Spain) – Courtesy of Negative Gain Productions \nHviress (Brighton\, UK) – On GIVE/TAKE \nNow After Nothing (Atlanta\, Georgia\, U.S.) – A Curse Mackey Remix \nRed Lorry Yellow Lorry (Leeds\, UK) – Courtesy of COP International \nShe 1 Him 2 (Cleveland\, Ohio\, U.S.) \nSolo Ansamblis (Vilnius\, Lithuania) – Courtesy of Artoffact Records and Damn Good (Lithuania) \nSpiralteeth (Los Angeles\, California\, U.S.) \nThe Halo Trees (Berlin\, Germany) – Courtesy of COP International \nTwice Dark (Bloomington\, Indiana\, U.S.) \nWho Saw Her Die? (Louisville\, Kentucky\, U.S.) \nBEGINNING \n2pm PT / 3pm CDMX / 4pm CT / 5pm ET \n6pm ART / 9pm GMT / 10pm BST / 11pm CEST \nMidnight (Thursday\, September 4) EEST \n8am (Thursday\, September 4) Sydney\, Australia \n10am (Thursday\, September 4) Aotearoa \nBROADCASTING ON https://twitch.tv/eMpTyVeeTV
URL:https://darkmusic.net/event/new-music-o-clock-on-emptyveetv-hosted-by-lark-detweiler/
LOCATION:Twitch
CATEGORIES:Dark Alternative,Dark Dramatic Electro,Dark Electro,Dark Wave,Goth,Music Video,Post Punk,Synthpop
ATTACH;FMTTYPE=image/jpeg:https://darkmusic.net/wp-content/uploads/2025/08/qGORx5tn.jpg
ORGANIZER;CN="eMpTyVeeTV":MAILTO:eMpTyVee.TV@gmail.com
GEO:55.378051;-3.435973
END:VEVENT
END:VCALENDAR