BEGIN:VCALENDAR
VERSION:2.0
PRODID:-//The Dark Music Network - ECPv6.15.20//NONSGML v1.0//EN
CALSCALE:GREGORIAN
METHOD:PUBLISH
X-ORIGINAL-URL:https://darkmusic.net
X-WR-CALDESC:Events for The Dark Music Network
REFRESH-INTERVAL;VALUE=DURATION:PT1H
X-Robots-Tag:noindex
X-PUBLISHED-TTL:PT1H
BEGIN:VTIMEZONE
TZID:America/New_York
BEGIN:DAYLIGHT
TZOFFSETFROM:-0500
TZOFFSETTO:-0400
TZNAME:EDT
DTSTART:20240310T070000
END:DAYLIGHT
BEGIN:STANDARD
TZOFFSETFROM:-0400
TZOFFSETTO:-0500
TZNAME:EST
DTSTART:20241103T060000
END:STANDARD
BEGIN:DAYLIGHT
TZOFFSETFROM:-0500
TZOFFSETTO:-0400
TZNAME:EDT
DTSTART:20250309T070000
END:DAYLIGHT
BEGIN:STANDARD
TZOFFSETFROM:-0400
TZOFFSETTO:-0500
TZNAME:EST
DTSTART:20251102T060000
END:STANDARD
BEGIN:DAYLIGHT
TZOFFSETFROM:-0500
TZOFFSETTO:-0400
TZNAME:EDT
DTSTART:20260308T070000
END:DAYLIGHT
BEGIN:STANDARD
TZOFFSETFROM:-0400
TZOFFSETTO:-0500
TZNAME:EST
DTSTART:20261101T060000
END:STANDARD
END:VTIMEZONE
BEGIN:VEVENT
DTSTART;TZID=America/New_York:20250828T190000
DTEND;TZID=America/New_York:20250828T230000
DTSTAMP:20260424T071836
CREATED:20250227T124226Z
LAST-MODIFIED:20250227T151636Z
UID:10000045-1756407600-1756422000@darkmusic.net
SUMMARY:Dark Constellation
DESCRIPTION:DMV: THURSDAY : Goth * Industrial * Darkwave * Alternative * Dance Party
URL:https://darkmusic.net/event/dark-constellation/2025-08-28/
LOCATION:The Renegade\, 3100 Clarendon Blvd PL-10\, Arlington\, 22201\, United States
CATEGORIES:Club Night
ATTACH;FMTTYPE=image/jpeg:https://darkmusic.net/wp-content/uploads/2025/02/IMG_5953.jpeg
ORGANIZER;CN="MisS Guided":MAILTO:djmissguided@gmail.com
GEO:38.8867412;-77.0950622
X-APPLE-STRUCTURED-LOCATION;VALUE=URI;X-ADDRESS=The Renegade 3100 Clarendon Blvd PL-10 Arlington 22201 United States;X-APPLE-RADIUS=500;X-TITLE=3100 Clarendon Blvd PL-10:geo:-77.0950622,38.8867412
END:VEVENT
BEGIN:VEVENT
DTSTART;TZID=America/New_York:20250828T190000
DTEND;TZID=America/New_York:20250830T020000
DTSTAMP:20260424T071836
CREATED:20250712T170521Z
LAST-MODIFIED:20250712T171734Z
UID:10001232-1756407600-1756519200@darkmusic.net
SUMMARY:A Murder of Crows – The New York Gothic & Post Punk Festival 2025
DESCRIPTION:A Murder of Crow 2025: The New York Post-Punk & Gothic Music Festival10th Anniversary \n\n\nFriday\, August 29 – Night 1 at Bowery Ballroom: Pink Turns Blue (Germany) Ritual Howls (MI) Soft Vein (CA) Astari Nite (FL) Hallowed Hearts (TX/NY) \n\n\nSaturday\, August 30 – Night 2 at Bowery Ballroom: 45 Grave (CA) Vision Video (GA) Nox Novacula (CA) Altar de Fey (CA) Octavian Winters (CA) \n\n\nThursday\, August 28 – Opening Party at TV Eye: (free with 2-day festival ticket)The BrickbatsThe Long Losts \n\nFestival DJs: Scary Lady Sarah & William Faith (The Pirate Twins) Sean Templar\, Dave Bats\, Patrick\, Hi-Fi Hillary\, Sean Detra\, Mistress McCutchan\, Ralphie Nigma\, Miz Margo\, Cinis\, Matt V-Christ\, AsuraSunil\, Kangal\, Mark Splatter\, plus surprise guests \nFriday only:  https://www.ticketmaster.com/event/000062A5F6F85835  \nSaturday only: https://www.ticketmaster.com/000062A5F6F95841  \n2-day tickets*: https://www.ticketmaster.com/event/000062A5F60F5717 
URL:https://darkmusic.net/event/a-murder-of-crows-the-new-york-gothic-post-punk-festival-2025/
LOCATION:Bowery Ballroom\, 6 Delancey Street\, New York\, NY\, 10002-2804\, United States
CATEGORIES:Festival,Goth,Post Punk
ORGANIZER;CN="Mortasha Kinski":MAILTO:mortasha.kinski@gmail.com
END:VEVENT
BEGIN:VEVENT
DTSTART;TZID=America/New_York:20250828T220000
DTEND;TZID=America/New_York:20250829T020000
DTSTAMP:20260424T071836
CREATED:20250321T185818Z
LAST-MODIFIED:20250321T190929Z
UID:10000468-1756418400-1756432800@darkmusic.net
SUMMARY:Vertex Night Club
DESCRIPTION:One of the longest running goth clubs in the US. Not to be confused with the awesome VORTEX – similar names\, no relation. \nThurs\, Friday\, and Saturday. 10pm- 2am (Or until they kick everyone out. Drinks stop at 2 but the club will often stay going) \nThursday Night – DJ Noname \nFriday Night – DJ Crash \nSaturday Night – DJ Darkwave \nOften hosts a Gothic Garage Sale twice a year\, plus other events. \nWill update this more soon as there isn’t much online for the club since it is very underground.
URL:https://darkmusic.net/event/vertex/2025-08-28/
LOCATION:Vertex Night Club\, 169 N Chestnut St\, Rochester\, NY\, 14604\, United States
CATEGORIES:80's,Aggrotech,Club Night,Cyber,Dark Wave,EBM,FuturePop,Goth,Industrial,Oddities Market,Synthpop
ATTACH;FMTTYPE=image/jpeg:https://darkmusic.net/wp-content/uploads/2025/03/Vertex.jpg
GEO:43.1606393;-77.603646
X-APPLE-STRUCTURED-LOCATION;VALUE=URI;X-ADDRESS=Vertex Night Club 169 N Chestnut St Rochester NY 14604 United States;X-APPLE-RADIUS=500;X-TITLE=169 N Chestnut St:geo:-77.603646,43.1606393
END:VEVENT
END:VCALENDAR