BEGIN:VCALENDAR
VERSION:2.0
PRODID:-//The Dark Music Network - ECPv6.15.20//NONSGML v1.0//EN
CALSCALE:GREGORIAN
METHOD:PUBLISH
X-ORIGINAL-URL:https://darkmusic.net
X-WR-CALDESC:Events for The Dark Music Network
REFRESH-INTERVAL;VALUE=DURATION:PT1H
X-Robots-Tag:noindex
X-PUBLISHED-TTL:PT1H
BEGIN:VTIMEZONE
TZID:America/New_York
BEGIN:DAYLIGHT
TZOFFSETFROM:-0500
TZOFFSETTO:-0400
TZNAME:EDT
DTSTART:20240310T070000
END:DAYLIGHT
BEGIN:STANDARD
TZOFFSETFROM:-0400
TZOFFSETTO:-0500
TZNAME:EST
DTSTART:20241103T060000
END:STANDARD
BEGIN:DAYLIGHT
TZOFFSETFROM:-0500
TZOFFSETTO:-0400
TZNAME:EDT
DTSTART:20250309T070000
END:DAYLIGHT
BEGIN:STANDARD
TZOFFSETFROM:-0400
TZOFFSETTO:-0500
TZNAME:EST
DTSTART:20251102T060000
END:STANDARD
BEGIN:DAYLIGHT
TZOFFSETFROM:-0500
TZOFFSETTO:-0400
TZNAME:EDT
DTSTART:20260308T070000
END:DAYLIGHT
BEGIN:STANDARD
TZOFFSETFROM:-0400
TZOFFSETTO:-0500
TZNAME:EST
DTSTART:20261101T060000
END:STANDARD
END:VTIMEZONE
BEGIN:VEVENT
DTSTART;TZID=America/New_York:20250822T110000
DTEND;TZID=America/New_York:20250825T233000
DTSTAMP:20260424T071829
CREATED:20250729T192346Z
LAST-MODIFIED:20250729T192346Z
UID:10001239-1755860400-1756164600@darkmusic.net
SUMMARY:Virtual temple 9
DESCRIPTION:Now in its ninth edition\, Virtual Temple 9 returns as an immersive online experience that transcends borders. Broadcasting live on Twitch\, this unique event brings together a powerful lineup of bands\, performers\, visual artists\, and DJs from around the world—all converging in a shared digital space. \nExpect a journey through sound and vision: experimental audio\, live performances\, DJ sets\, visuals\, and collaborations that blur the line between the physical and virtual. From underground beats to hypnotic visuals\, Virtual Temple 9 is a sanctuary for alternative creativity and global artistic expression. \nJoin us for hours of nonstop transmission and connect with a vibrant international community. The temple is open.
URL:https://darkmusic.net/event/virtual-temple-9/
LOCATION:Dark Music Network
ATTACH;FMTTYPE=image/jpeg:https://darkmusic.net/wp-content/uploads/2025/07/500167112_1272292954906332_3629927405907052114_n.jpg
END:VEVENT
BEGIN:VEVENT
DTSTART;TZID=America/New_York:20250825T220000
DTEND;TZID=America/New_York:20250826T030000
DTSTAMP:20260424T071829
CREATED:20250227T160600Z
LAST-MODIFIED:20250627T202111Z
UID:10000122-1756159200-1756177200@darkmusic.net
SUMMARY:5+ Hours of Goth livestream
DESCRIPTION:Every Monday at 10pm Eastern time DJ Jason spins a free livestream with purely Goth for over 5 hours on the Twitch platform.  Hope to see you there in the DJ chat area.  \nhttps://www.twitch.tv/djjasonspinsgoth
URL:https://darkmusic.net/event/5-hours-of-goth-livestream/2025-08-25/
LOCATION:https://darkmusic.net/event/5-hours-of-goth-livestream/2025-08-25/
CATEGORIES:Goth
ATTACH;FMTTYPE=image/jpeg:https://darkmusic.net/wp-content/uploads/2025/02/492971009_10234984159040536_3024512789924366107_n.jpg
ORGANIZER;CN="DJ Jason":MAILTO:djjasonofalchemy@gmail.com
END:VEVENT
END:VCALENDAR