BEGIN:VCALENDAR
VERSION:2.0
PRODID:-//The Dark Music Network - ECPv6.15.20//NONSGML v1.0//EN
CALSCALE:GREGORIAN
METHOD:PUBLISH
X-WR-CALNAME:The Dark Music Network
X-ORIGINAL-URL:https://darkmusic.net
X-WR-CALDESC:Events for The Dark Music Network
REFRESH-INTERVAL;VALUE=DURATION:PT1H
X-Robots-Tag:noindex
X-PUBLISHED-TTL:PT1H
BEGIN:VTIMEZONE
TZID:America/New_York
BEGIN:DAYLIGHT
TZOFFSETFROM:-0500
TZOFFSETTO:-0400
TZNAME:EDT
DTSTART:20240310T070000
END:DAYLIGHT
BEGIN:STANDARD
TZOFFSETFROM:-0400
TZOFFSETTO:-0500
TZNAME:EST
DTSTART:20241103T060000
END:STANDARD
BEGIN:DAYLIGHT
TZOFFSETFROM:-0500
TZOFFSETTO:-0400
TZNAME:EDT
DTSTART:20250309T070000
END:DAYLIGHT
BEGIN:STANDARD
TZOFFSETFROM:-0400
TZOFFSETTO:-0500
TZNAME:EST
DTSTART:20251102T060000
END:STANDARD
BEGIN:DAYLIGHT
TZOFFSETFROM:-0500
TZOFFSETTO:-0400
TZNAME:EDT
DTSTART:20260308T070000
END:DAYLIGHT
BEGIN:STANDARD
TZOFFSETFROM:-0400
TZOFFSETTO:-0500
TZNAME:EST
DTSTART:20261101T060000
END:STANDARD
END:VTIMEZONE
BEGIN:VEVENT
DTSTART;TZID=America/New_York:20250814T190000
DTEND;TZID=America/New_York:20250814T230000
DTSTAMP:20260424T071707
CREATED:20250227T124226Z
LAST-MODIFIED:20250227T151636Z
UID:10000043-1755198000-1755212400@darkmusic.net
SUMMARY:Dark Constellation
DESCRIPTION:DMV: THURSDAY : Goth * Industrial * Darkwave * Alternative * Dance Party
URL:https://darkmusic.net/event/dark-constellation/2025-08-14/
LOCATION:The Renegade\, 3100 Clarendon Blvd PL-10\, Arlington\, 22201\, United States
CATEGORIES:Club Night
ATTACH;FMTTYPE=image/jpeg:https://darkmusic.net/wp-content/uploads/2025/02/IMG_5953.jpeg
ORGANIZER;CN="MisS Guided":MAILTO:djmissguided@gmail.com
GEO:38.8867412;-77.0950622
X-APPLE-STRUCTURED-LOCATION;VALUE=URI;X-ADDRESS=The Renegade 3100 Clarendon Blvd PL-10 Arlington 22201 United States;X-APPLE-RADIUS=500;X-TITLE=3100 Clarendon Blvd PL-10:geo:-77.0950622,38.8867412
END:VEVENT
BEGIN:VEVENT
DTSTART;TZID=America/New_York:20250814T190000
DTEND;TZID=America/New_York:20250814T233000
DTSTAMP:20260424T071707
CREATED:20250511T022829Z
LAST-MODIFIED:20250628T191631Z
UID:10001206-1755198000-1755214200@darkmusic.net
SUMMARY:EGO LIKENESS + DAEDBAET + DONNA LYNCH (Spoken Word Set)
DESCRIPTION:Communion After Dark Presents:EGO LIKENESSDAEDBAET and Donna Lynch Spoken Word Setat New World Tampa on 08/14/2025Ticket Link: https://www.ticketweb.com/…/communion-after…/14455433Doors 7 PM
URL:https://darkmusic.net/event/ego-likeness-pillow-kill-donna-lynch-spoken-word-set/
LOCATION:New World Tampa\, 810 Skagway Ave\, Tampa\,\, F\, 33604\, United States
CATEGORIES:Dark Wave,Goth,Spoken Word
ORGANIZER;CN="Communion After Dark":MAILTO:communionadbooking@gmail.com
GEO:28.0324324;-82.4524298
X-APPLE-STRUCTURED-LOCATION;VALUE=URI;X-ADDRESS=New World Tampa 810 Skagway Ave Tampa F 33604 United States;X-APPLE-RADIUS=500;X-TITLE=810 Skagway Ave:geo:-82.4524298,28.0324324
END:VEVENT
BEGIN:VEVENT
DTSTART;TZID=America/New_York:20250814T220000
DTEND;TZID=America/New_York:20250815T020000
DTSTAMP:20260424T071707
CREATED:20250321T185818Z
LAST-MODIFIED:20250321T190929Z
UID:10000462-1755208800-1755223200@darkmusic.net
SUMMARY:Vertex Night Club
DESCRIPTION:One of the longest running goth clubs in the US. Not to be confused with the awesome VORTEX – similar names\, no relation. \nThurs\, Friday\, and Saturday. 10pm- 2am (Or until they kick everyone out. Drinks stop at 2 but the club will often stay going) \nThursday Night – DJ Noname \nFriday Night – DJ Crash \nSaturday Night – DJ Darkwave \nOften hosts a Gothic Garage Sale twice a year\, plus other events. \nWill update this more soon as there isn’t much online for the club since it is very underground.
URL:https://darkmusic.net/event/vertex/2025-08-14/
LOCATION:Vertex Night Club\, 169 N Chestnut St\, Rochester\, NY\, 14604\, United States
CATEGORIES:80's,Aggrotech,Club Night,Cyber,Dark Wave,EBM,FuturePop,Goth,Industrial,Oddities Market,Synthpop
ATTACH;FMTTYPE=image/jpeg:https://darkmusic.net/wp-content/uploads/2025/03/Vertex.jpg
GEO:43.1606393;-77.603646
X-APPLE-STRUCTURED-LOCATION;VALUE=URI;X-ADDRESS=Vertex Night Club 169 N Chestnut St Rochester NY 14604 United States;X-APPLE-RADIUS=500;X-TITLE=169 N Chestnut St:geo:-77.603646,43.1606393
END:VEVENT
END:VCALENDAR