BEGIN:VCALENDAR
VERSION:2.0
PRODID:-//The Dark Music Network - ECPv6.15.20//NONSGML v1.0//EN
CALSCALE:GREGORIAN
METHOD:PUBLISH
X-ORIGINAL-URL:https://darkmusic.net
X-WR-CALDESC:Events for The Dark Music Network
REFRESH-INTERVAL;VALUE=DURATION:PT1H
X-Robots-Tag:noindex
X-PUBLISHED-TTL:PT1H
BEGIN:VTIMEZONE
TZID:America/New_York
BEGIN:DAYLIGHT
TZOFFSETFROM:-0500
TZOFFSETTO:-0400
TZNAME:EDT
DTSTART:20240310T070000
END:DAYLIGHT
BEGIN:STANDARD
TZOFFSETFROM:-0400
TZOFFSETTO:-0500
TZNAME:EST
DTSTART:20241103T060000
END:STANDARD
BEGIN:DAYLIGHT
TZOFFSETFROM:-0500
TZOFFSETTO:-0400
TZNAME:EDT
DTSTART:20250309T070000
END:DAYLIGHT
BEGIN:STANDARD
TZOFFSETFROM:-0400
TZOFFSETTO:-0500
TZNAME:EST
DTSTART:20251102T060000
END:STANDARD
BEGIN:DAYLIGHT
TZOFFSETFROM:-0500
TZOFFSETTO:-0400
TZNAME:EDT
DTSTART:20260308T070000
END:DAYLIGHT
BEGIN:STANDARD
TZOFFSETFROM:-0400
TZOFFSETTO:-0500
TZNAME:EST
DTSTART:20261101T060000
END:STANDARD
END:VTIMEZONE
BEGIN:VEVENT
DTSTART;TZID=America/New_York:20250730T170000
DTEND;TZID=America/New_York:20250730T180000
DTSTAMP:20260424T071835
CREATED:20250729T181627Z
LAST-MODIFIED:20250729T181627Z
UID:10001238-1753894800-1753898400@darkmusic.net
SUMMARY:New Music O' Clock on eMpTyVeeTV Hosted by DJ Addambombb & DJD42
DESCRIPTION:Wednesday\, July 30 – New Music O’ Clock Hosted by \nDJ Addambombb & DJD42 \nFeaturing Music Videos By: \nDead Star Boys (UK) \nESA (UK) Feat. Massenhysterie & Konstantina Buhalis – On Negative Gain \nFÆNGS (Jacksonville\, Florida\, U.S.) \nJason Alacrity (Los Angeles\, California\, U.S.) – On Negative Gain \nJ’CUUZI (Austin\, Texas\, U.S.) – Courtesy of Nightime Asylum PR \nLorraine-Dietrich (Kansas City\, Missouri\, U.S.) – Courtesy of Nightime Asylum PR \nMuricidae (Los Angeles\, California\, U.S.) – Courtesy of COP International \nNITE (Dallas\, Texas\, U.S.) – Featuring Leah Lane of Rosegarden Funeral Party \nPaper Foxes (Phoenix\, Arizona\, U.S.) – On Violet Hour Transmissions \nPink Panther Project (London\, UK) – Courtesy of The Circle Music and 3nation PR \nSexsomnia (Montreal\, Quebec\, Canada) – Feat. Marita Volodina \nStoneburner (Baltimore\, Maryland\, U.S.) – Courtesy of COP International \nVioflesh (Santiago\, Chile) – Courtesy of darkTunes Music Group \nVirgin Vampires (London\, UK) – On Rune Serpent Europa – Courtesy of The Circle Music and 3nation PR \n2p PT /3p CDMX / 4p CT / 5p ET \n5p CLT / 9p GMT / 10p BST / 11p CEST \n8a (Thursday) Sydney\, Australia \nBROADCASTING ON https://twitch.tv/eMpTyVeeTV \n 
URL:https://darkmusic.net/event/new-music-o-clock-on-emptyveetv-hosted-by-dj-addambombb-djd42-3/
LOCATION:Twitch
CATEGORIES:Dark Electro,Dark Wave,EBM,Goth,Industrial,Post Punk,Synthpop
ATTACH;FMTTYPE=image/jpeg:https://darkmusic.net/wp-content/uploads/2025/07/fGhy3Hpm.jpg
ORGANIZER;CN="eMpTyVeeTV":MAILTO:eMpTyVee.TV@gmail.com
GEO:55.378051;-3.435973
END:VEVENT
END:VCALENDAR