BEGIN:VCALENDAR
VERSION:2.0
PRODID:-//The Dark Music Network - ECPv6.15.20//NONSGML v1.0//EN
CALSCALE:GREGORIAN
METHOD:PUBLISH
X-WR-CALNAME:The Dark Music Network
X-ORIGINAL-URL:https://darkmusic.net
X-WR-CALDESC:Events for The Dark Music Network
REFRESH-INTERVAL;VALUE=DURATION:PT1H
X-Robots-Tag:noindex
X-PUBLISHED-TTL:PT1H
BEGIN:VTIMEZONE
TZID:America/New_York
BEGIN:DAYLIGHT
TZOFFSETFROM:-0500
TZOFFSETTO:-0400
TZNAME:EDT
DTSTART:20240310T070000
END:DAYLIGHT
BEGIN:STANDARD
TZOFFSETFROM:-0400
TZOFFSETTO:-0500
TZNAME:EST
DTSTART:20241103T060000
END:STANDARD
BEGIN:DAYLIGHT
TZOFFSETFROM:-0500
TZOFFSETTO:-0400
TZNAME:EDT
DTSTART:20250309T070000
END:DAYLIGHT
BEGIN:STANDARD
TZOFFSETFROM:-0400
TZOFFSETTO:-0500
TZNAME:EST
DTSTART:20251102T060000
END:STANDARD
BEGIN:DAYLIGHT
TZOFFSETFROM:-0500
TZOFFSETTO:-0400
TZNAME:EDT
DTSTART:20260308T070000
END:DAYLIGHT
BEGIN:STANDARD
TZOFFSETFROM:-0400
TZOFFSETTO:-0500
TZNAME:EST
DTSTART:20261101T060000
END:STANDARD
END:VTIMEZONE
BEGIN:VEVENT
DTSTART;TZID=America/New_York:20250725T210000
DTEND;TZID=America/New_York:20250726T013000
DTSTAMP:20260424T083833
CREATED:20250716T220515Z
LAST-MODIFIED:20250716T220707Z
UID:10001236-1753477200-1753493400@darkmusic.net
SUMMARY:Aeternum
DESCRIPTION:Attend an evening of darkness\, dance\, libation\, and abandon. \nSonus Praesentator’s Alan Acid\, Nicholai\, eEL\, and Ruin. \nFREE ENTRY!\nFriday\, July 25\, 2025\n9:00 p.m. – 1:30 a.m. \nHoly Frijoles \n912 W 36th St\, Baltimore\, MD 21211 \nContactus Signum Grex:\nEmail: aeternumgothicus@gmail.com\nRSVP: Partiful\nWebsite: sites.google.com/view/aeternum-gothicus \n“A wild longing for strong emotions and sensations seethes in me\, a rage against this toneless\, flat\, normal\, and sterile life.” — Hermann Hesse\, Steppenwolf
URL:https://darkmusic.net/event/aeternum/
LOCATION:Holy Frijoles\, 908-912 W 36th St.\, Baltimore\, MD\, 21211\, United States
CATEGORIES:Club Night,Cyber,Dark Dramatic Electro,Dark Electro,EBM,FuturePop,Goth,Industrial,Synthpop,Vampire,Wiccan,Witch
ATTACH;FMTTYPE=image/png:https://darkmusic.net/wp-content/uploads/2025/07/Aeternum-origflyer-v4.png
ORGANIZER;CN="eEL":MAILTO:eel.darkbrain@gmail.com
END:VEVENT
BEGIN:VEVENT
DTSTART;TZID=America/New_York:20250725T220000
DTEND;TZID=America/New_York:20250726T020000
DTSTAMP:20260424T083833
CREATED:20250321T185818Z
LAST-MODIFIED:20250321T190929Z
UID:10000454-1753480800-1753495200@darkmusic.net
SUMMARY:Vertex Night Club
DESCRIPTION:One of the longest running goth clubs in the US. Not to be confused with the awesome VORTEX – similar names\, no relation. \nThurs\, Friday\, and Saturday. 10pm- 2am (Or until they kick everyone out. Drinks stop at 2 but the club will often stay going) \nThursday Night – DJ Noname \nFriday Night – DJ Crash \nSaturday Night – DJ Darkwave \nOften hosts a Gothic Garage Sale twice a year\, plus other events. \nWill update this more soon as there isn’t much online for the club since it is very underground.
URL:https://darkmusic.net/event/vertex/2025-07-25/
LOCATION:Vertex Night Club\, 169 N Chestnut St\, Rochester\, NY\, 14604\, United States
CATEGORIES:80's,Aggrotech,Club Night,Cyber,Dark Wave,EBM,FuturePop,Goth,Industrial,Oddities Market,Synthpop
ATTACH;FMTTYPE=image/jpeg:https://darkmusic.net/wp-content/uploads/2025/03/Vertex.jpg
GEO:43.1606393;-77.603646
X-APPLE-STRUCTURED-LOCATION;VALUE=URI;X-ADDRESS=Vertex Night Club 169 N Chestnut St Rochester NY 14604 United States;X-APPLE-RADIUS=500;X-TITLE=169 N Chestnut St:geo:-77.603646,43.1606393
END:VEVENT
BEGIN:VEVENT
DTSTART;TZID=America/New_York:20250726T080000
DTEND;TZID=America/New_York:20250727T020000
DTSTAMP:20260424T083833
CREATED:20250629T234815Z
LAST-MODIFIED:20250629T234840Z
UID:10001226-1753516800-1753581600@darkmusic.net
SUMMARY:DIGITAL NOIR with guest DJ MISSTEP
DESCRIPTION:Our monthly night of spooky stomping at the Milestone! Spinning the best of dark dance – industrial\, goth\, synthpop\, post-punk\, darkwave and more!\nTickets on sale June 22\, 2025\nwith special guest DJ MISSTEP (Club TERRAFORM\, Columbia\, SC)Opening set DJ Squeaky (Gothstonia)\n18 and up$9 in advance/ $12 at the door($5 surcharge for 18-20)**There are no refunds or exchanges on the day of show.\n** As a reminder\, no one can sell you their tickets here on Facebook** However\, if your plans change\, The Milestone is THE ONLY ONE who can handle it. Since all tickets are Will Call\, and you have to show an ID to get them\, NO ONE can just sell you their tickets. ‘Nuff said.\n\nOnly atThe Milestone Club3400 Tuckaseegee RoadCharlotte\, North Carolina 28208
URL:https://darkmusic.net/event/digital-noir-with-guest-dj-misstep/
LOCATION:Milestone Club\, 3400 Tuckaseegee Rd\, Charlotte\, N\, 28208\, United States
CATEGORIES:Club Night,Cyber,Dark Electro,Dark Wave,EBM,FuturePop,Industrial,Post Punk,Synthpop
ATTACH;FMTTYPE=image/png:https://darkmusic.net/wp-content/uploads/2025/06/Digital-Noir-Poster-July-26-2025-1-scaled.png
ORGANIZER;CN="DJ MISSTEP":MAILTO:clubterraform@gmail.com
END:VEVENT
BEGIN:VEVENT
DTSTART;TZID=America/New_York:20250726T200000
DTEND;TZID=America/New_York:20250726T233000
DTSTAMP:20260424T083833
CREATED:20250228T122221Z
LAST-MODIFIED:20250302T042615Z
UID:10000377-1753560000-1753572600@darkmusic.net
SUMMARY:Elkapath/CarniWhore/Adele De’Ath
DESCRIPTION:Elkapath are a synth gothic metal band hailing from Gloucester uk a glorious fusion of synths industrial and heavy riff filled guitars working together in perfect harmony for fans of the birthday massacre and lacuna coil \ndoors 8pm\nadvanced tickets £7 or £10 on the door \neveryone that comes to this gig will be entered into a free raffle to win a box of goodies at the end of the show 😀 🎁 \nHeadline act \nhttps://www.facebook.com/share/15shYkvKiR/\nsupports \nCarniwhore The freakshow comes to town to cause mischief\nhttps://www.facebook.com/carnimusicuk \nAdele De’Ath\nmetal from the steel city of Sheffield\nhttps://www.facebook.com/adeledeath \nTickets scan poster or follow this link  https://wegottickets.com/event/645054/?fbclid=IwZXh0bgNhZW0CMTEAAR1XhF2LvdgFdTqTIZbGJips4BQPqZPtkRKqkykmPcdP3e-vgPjUiDhIq1g_aem_VjqYVM1FBXv7wQEnOC3aZA \n 
URL:https://darkmusic.net/event/elkapath-carniwhore-adele-death/
LOCATION:Victoria Bikers pub coalville\, Whitwick Rd\, Coalville\, LE67 3FA\, United Kingdom
CATEGORIES:Goth,Industrial
ATTACH;FMTTYPE=image/jpeg:https://darkmusic.net/wp-content/uploads/2025/02/inbound2282780267055782782.jpg
GEO:52.7270085;-1.3673337
X-APPLE-STRUCTURED-LOCATION;VALUE=URI;X-ADDRESS=Victoria Bikers pub coalville Whitwick Rd Coalville LE67 3FA United Kingdom;X-APPLE-RADIUS=500;X-TITLE=Whitwick Rd\, Coalville:geo:-1.3673337,52.7270085
END:VEVENT
BEGIN:VEVENT
DTSTART;TZID=America/New_York:20250726T220000
DTEND;TZID=America/New_York:20250727T020000
DTSTAMP:20260424T083833
CREATED:20250321T185818Z
LAST-MODIFIED:20250321T190929Z
UID:10000455-1753567200-1753581600@darkmusic.net
SUMMARY:Vertex Night Club
DESCRIPTION:One of the longest running goth clubs in the US. Not to be confused with the awesome VORTEX – similar names\, no relation. \nThurs\, Friday\, and Saturday. 10pm- 2am (Or until they kick everyone out. Drinks stop at 2 but the club will often stay going) \nThursday Night – DJ Noname \nFriday Night – DJ Crash \nSaturday Night – DJ Darkwave \nOften hosts a Gothic Garage Sale twice a year\, plus other events. \nWill update this more soon as there isn’t much online for the club since it is very underground.
URL:https://darkmusic.net/event/vertex/2025-07-26/
LOCATION:Vertex Night Club\, 169 N Chestnut St\, Rochester\, NY\, 14604\, United States
CATEGORIES:80's,Aggrotech,Club Night,Cyber,Dark Wave,EBM,FuturePop,Goth,Industrial,Oddities Market,Synthpop
ATTACH;FMTTYPE=image/jpeg:https://darkmusic.net/wp-content/uploads/2025/03/Vertex.jpg
GEO:43.1606393;-77.603646
X-APPLE-STRUCTURED-LOCATION;VALUE=URI;X-ADDRESS=Vertex Night Club 169 N Chestnut St Rochester NY 14604 United States;X-APPLE-RADIUS=500;X-TITLE=169 N Chestnut St:geo:-77.603646,43.1606393
END:VEVENT
END:VCALENDAR