BEGIN:VCALENDAR
VERSION:2.0
PRODID:-//The Dark Music Network - ECPv6.15.20//NONSGML v1.0//EN
CALSCALE:GREGORIAN
METHOD:PUBLISH
X-WR-CALNAME:The Dark Music Network
X-ORIGINAL-URL:https://darkmusic.net
X-WR-CALDESC:Events for The Dark Music Network
REFRESH-INTERVAL;VALUE=DURATION:PT1H
X-Robots-Tag:noindex
X-PUBLISHED-TTL:PT1H
BEGIN:VTIMEZONE
TZID:America/New_York
BEGIN:DAYLIGHT
TZOFFSETFROM:-0500
TZOFFSETTO:-0400
TZNAME:EDT
DTSTART:20240310T070000
END:DAYLIGHT
BEGIN:STANDARD
TZOFFSETFROM:-0400
TZOFFSETTO:-0500
TZNAME:EST
DTSTART:20241103T060000
END:STANDARD
BEGIN:DAYLIGHT
TZOFFSETFROM:-0500
TZOFFSETTO:-0400
TZNAME:EDT
DTSTART:20250309T070000
END:DAYLIGHT
BEGIN:STANDARD
TZOFFSETFROM:-0400
TZOFFSETTO:-0500
TZNAME:EST
DTSTART:20251102T060000
END:STANDARD
BEGIN:DAYLIGHT
TZOFFSETFROM:-0500
TZOFFSETTO:-0400
TZNAME:EDT
DTSTART:20260308T070000
END:DAYLIGHT
BEGIN:STANDARD
TZOFFSETFROM:-0400
TZOFFSETTO:-0500
TZNAME:EST
DTSTART:20261101T060000
END:STANDARD
END:VTIMEZONE
BEGIN:VEVENT
DTSTART;TZID=America/New_York:20250724T220000
DTEND;TZID=America/New_York:20250725T020000
DTSTAMP:20260424T083724
CREATED:20250321T185818Z
LAST-MODIFIED:20250321T190929Z
UID:10000453-1753394400-1753408800@darkmusic.net
SUMMARY:Vertex Night Club
DESCRIPTION:One of the longest running goth clubs in the US. Not to be confused with the awesome VORTEX – similar names\, no relation. \nThurs\, Friday\, and Saturday. 10pm- 2am (Or until they kick everyone out. Drinks stop at 2 but the club will often stay going) \nThursday Night – DJ Noname \nFriday Night – DJ Crash \nSaturday Night – DJ Darkwave \nOften hosts a Gothic Garage Sale twice a year\, plus other events. \nWill update this more soon as there isn’t much online for the club since it is very underground.
URL:https://darkmusic.net/event/vertex/2025-07-24/
LOCATION:Vertex Night Club\, 169 N Chestnut St\, Rochester\, NY\, 14604\, United States
CATEGORIES:80's,Aggrotech,Club Night,Cyber,Dark Wave,EBM,FuturePop,Goth,Industrial,Oddities Market,Synthpop
ATTACH;FMTTYPE=image/jpeg:https://darkmusic.net/wp-content/uploads/2025/03/Vertex.jpg
GEO:43.1606393;-77.603646
X-APPLE-STRUCTURED-LOCATION;VALUE=URI;X-ADDRESS=Vertex Night Club 169 N Chestnut St Rochester NY 14604 United States;X-APPLE-RADIUS=500;X-TITLE=169 N Chestnut St:geo:-77.603646,43.1606393
END:VEVENT
BEGIN:VEVENT
DTSTART;TZID=America/New_York:20250725T190000
DTEND;TZID=America/New_York:20250725T220000
DTSTAMP:20260424T083724
CREATED:20250514T170050Z
LAST-MODIFIED:20250520T154942Z
UID:10001210-1753470000-1753480800@darkmusic.net
SUMMARY:JACK PHANTOM AND THE EXQUISITE CORPSE CABARET/DOORS IN THE LABYRINTH / Pittsburgh\, PA July 25
DESCRIPTION:Jack Phantom and the Exquisite Corpse Cabaret (Pensacola\, FL) delivers a dark jazz performance blending moody instrumentation\, haunting visuals\, and emotionally charged storytelling. Led by Jack Phantom\, the project explores themes of addiction\, death\, and the human condition with a sound that’s both beautiful\, atmospheric and raw. Part concert\, part movie\, part confessional—this is music for those drawn to the beautiful and the bleak. \nDoors In the Labyrinth (Pittsburgh\, PA) blends post-rock drone with darkwave electronics\, creating atmospheric narrative songs.  Drawing from a history in experimental music\, film scores\, traditional folk and more\, Doors In The Labyrinth is the work of multi-instrumentalist josh loughrey.  Most recently\, Doors In The Labyrinth has appeared on the Electronic Saviors VII compilation\, and is currently writing and recording the follow up to 2021’s “In The Shadow Of The Monolith”. \nUpper room at Sidequest on 44th\, \n146 44TH ST\, PITTSBURGH\, PA 15201\, US
URL:https://darkmusic.net/event/jack-phantom-and-the-exquisite-corpse-cabaret-others-tba-pittsburgh-pa-july-25/
LOCATION:Sidequest on 44th\, 146 44TH ST\, Pittsburgh\, P\, 15201\, United States
CATEGORIES:Concert
ATTACH;FMTTYPE=image/jpeg:https://darkmusic.net/wp-content/uploads/2025/05/jp_for_tour_2025-1-scaled.jpg
ORGANIZER;CN="Jack Phantom":MAILTO:jack.phantom.official@gmail.com
GEO:40.472511;-79.9616957
X-APPLE-STRUCTURED-LOCATION;VALUE=URI;X-ADDRESS=Sidequest on 44th 146 44TH ST Pittsburgh P 15201 United States;X-APPLE-RADIUS=500;X-TITLE=146 44TH ST:geo:-79.9616957,40.472511
END:VEVENT
BEGIN:VEVENT
DTSTART;TZID=America/New_York:20250725T193000
DTEND;TZID=America/New_York:20250725T230000
DTSTAMP:20260424T083724
CREATED:20250714T225425Z
LAST-MODIFIED:20250723T152932Z
UID:10001234-1753471800-1753484400@darkmusic.net
SUMMARY:RED DIE NUMBER NINE @ MORSGBERGER’S TAVERN WTH SKYJACKER\, HEROES UNSUNG\, GAZZMASK
DESCRIPTION:Get ready for a night of rock and roll madness at Morsberger’s Tavern with Skyjacker and Heroes Unsung – it’s gonna be epic!\nRED DIE NUMBER NINE @ MORSGBERGER’S TAVERN WITH SKYJACKER\, HEROES UNSUNGCome join us at Morsberger’s Tavern for a night of epic music featuring RED DIE NUMBER NINE\, Skyjacker\, GAZZMASK and Heroes Unsung! Get ready to rock out and have a great time with friends. This in-person event promises to be a blast\, so mark your calendars and don’t miss out!DOORS @ 7PM ALL AGES WELCOMEADVANCE $12.00 / DOS $15.00\nRED DIE NUMBER NINE 10:10 – 11:00https://www.facebook.com/RedDieNumberNine\nSkyjacker: 9:20 – 9:55https://www.facebook.com/profile.php?id=61556735312100\nSkyjacker is a dynamic 3-piece band hailing from Baltimore\, MD. Known for their electrifying performances and innovative sound. Comprising of a duo who share a passion for music that defies genres\, Skyjacker’s live shows are where they truly shine.\nHeroes Unsung: 8:45 – 9:05https://www.facebook.com/profile.php?id=61555983247622\nPunkrock from Maryland. Members: Adam Bellman: Vocals Jon Bolling: Bass Jimmy Flame: Guitar Garrett Garns: Drums\nHALF OF US HATE WE’VE BECOME: 7:55 – 8:30https://www.instagram.com/halfofushatewhatwevebecome/\nHalf of Us Hate What We’ve Become is a Baltimore-based quartet defined by disagreement. The drummer is feral\, the keyboard player seconds from quitting\, the bass player is convinced he’s in charge\, and the guitarist is the only one you can rely on to pick you up from the airport. The music is equally jagged\, disparate\, angsty\, and contrary. All originals: they would play a cover\, but they hate each other’s influences. It’s punk\, zip your mouth and listen up. Or we can use words like lo-fi\, minimalist\, synth-heavy\, post-punk indie rock if that helps you sleep at night. Gona be hard to sleep with all this noise though so you might as well turn it up instead…\n\nGAZZMASK: 7:10 – 7:40https://www.facebook.com/GazzMaskIncFragmented from Machines of Living Death. Gazzmask continues the descent into scifi metallics\, acid atmospherics\, and deathmetal dnb.Gazzmask is Extreme SciFi CyberCore \nSee less
URL:https://darkmusic.net/event/red-die-number-nine-morsgbergers-tavern-wth-skyjacker-heroes-unsung-gazzmask/
LOCATION:Morsberger’s Tavern\, 713 Frederick Rd\, Catonsville\, MD\, 21228\, United States
CATEGORIES:Horror Punk
ATTACH;FMTTYPE=image/jpeg:https://darkmusic.net/wp-content/uploads/2025/07/https-cdn2.jpg
ORGANIZER;CN="Gazzmask":MAILTO:thedemiseraph@gmail.com
END:VEVENT
BEGIN:VEVENT
DTSTART;TZID=America/New_York:20250725T210000
DTEND;TZID=America/New_York:20250726T013000
DTSTAMP:20260424T083724
CREATED:20250716T220515Z
LAST-MODIFIED:20250716T220707Z
UID:10001236-1753477200-1753493400@darkmusic.net
SUMMARY:Aeternum
DESCRIPTION:Attend an evening of darkness\, dance\, libation\, and abandon. \nSonus Praesentator’s Alan Acid\, Nicholai\, eEL\, and Ruin. \nFREE ENTRY!\nFriday\, July 25\, 2025\n9:00 p.m. – 1:30 a.m. \nHoly Frijoles \n912 W 36th St\, Baltimore\, MD 21211 \nContactus Signum Grex:\nEmail: aeternumgothicus@gmail.com\nRSVP: Partiful\nWebsite: sites.google.com/view/aeternum-gothicus \n“A wild longing for strong emotions and sensations seethes in me\, a rage against this toneless\, flat\, normal\, and sterile life.” — Hermann Hesse\, Steppenwolf
URL:https://darkmusic.net/event/aeternum/
LOCATION:Holy Frijoles\, 908-912 W 36th St.\, Baltimore\, MD\, 21211\, United States
CATEGORIES:Club Night,Cyber,Dark Dramatic Electro,Dark Electro,EBM,FuturePop,Goth,Industrial,Synthpop,Vampire,Wiccan,Witch
ATTACH;FMTTYPE=image/png:https://darkmusic.net/wp-content/uploads/2025/07/Aeternum-origflyer-v4.png
ORGANIZER;CN="eEL":MAILTO:eel.darkbrain@gmail.com
END:VEVENT
BEGIN:VEVENT
DTSTART;TZID=America/New_York:20250725T220000
DTEND;TZID=America/New_York:20250726T020000
DTSTAMP:20260424T083724
CREATED:20250321T185818Z
LAST-MODIFIED:20250321T190929Z
UID:10000454-1753480800-1753495200@darkmusic.net
SUMMARY:Vertex Night Club
DESCRIPTION:One of the longest running goth clubs in the US. Not to be confused with the awesome VORTEX – similar names\, no relation. \nThurs\, Friday\, and Saturday. 10pm- 2am (Or until they kick everyone out. Drinks stop at 2 but the club will often stay going) \nThursday Night – DJ Noname \nFriday Night – DJ Crash \nSaturday Night – DJ Darkwave \nOften hosts a Gothic Garage Sale twice a year\, plus other events. \nWill update this more soon as there isn’t much online for the club since it is very underground.
URL:https://darkmusic.net/event/vertex/2025-07-25/
LOCATION:Vertex Night Club\, 169 N Chestnut St\, Rochester\, NY\, 14604\, United States
CATEGORIES:80's,Aggrotech,Club Night,Cyber,Dark Wave,EBM,FuturePop,Goth,Industrial,Oddities Market,Synthpop
ATTACH;FMTTYPE=image/jpeg:https://darkmusic.net/wp-content/uploads/2025/03/Vertex.jpg
GEO:43.1606393;-77.603646
X-APPLE-STRUCTURED-LOCATION;VALUE=URI;X-ADDRESS=Vertex Night Club 169 N Chestnut St Rochester NY 14604 United States;X-APPLE-RADIUS=500;X-TITLE=169 N Chestnut St:geo:-77.603646,43.1606393
END:VEVENT
END:VCALENDAR