BEGIN:VCALENDAR
VERSION:2.0
PRODID:-//The Dark Music Network - ECPv6.15.20//NONSGML v1.0//EN
CALSCALE:GREGORIAN
METHOD:PUBLISH
X-WR-CALNAME:The Dark Music Network
X-ORIGINAL-URL:https://darkmusic.net
X-WR-CALDESC:Events for The Dark Music Network
REFRESH-INTERVAL;VALUE=DURATION:PT1H
X-Robots-Tag:noindex
X-PUBLISHED-TTL:PT1H
BEGIN:VTIMEZONE
TZID:America/New_York
BEGIN:DAYLIGHT
TZOFFSETFROM:-0500
TZOFFSETTO:-0400
TZNAME:EDT
DTSTART:20240310T070000
END:DAYLIGHT
BEGIN:STANDARD
TZOFFSETFROM:-0400
TZOFFSETTO:-0500
TZNAME:EST
DTSTART:20241103T060000
END:STANDARD
BEGIN:DAYLIGHT
TZOFFSETFROM:-0500
TZOFFSETTO:-0400
TZNAME:EDT
DTSTART:20250309T070000
END:DAYLIGHT
BEGIN:STANDARD
TZOFFSETFROM:-0400
TZOFFSETTO:-0500
TZNAME:EST
DTSTART:20251102T060000
END:STANDARD
BEGIN:DAYLIGHT
TZOFFSETFROM:-0500
TZOFFSETTO:-0400
TZNAME:EDT
DTSTART:20260308T070000
END:DAYLIGHT
BEGIN:STANDARD
TZOFFSETFROM:-0400
TZOFFSETTO:-0500
TZNAME:EST
DTSTART:20261101T060000
END:STANDARD
END:VTIMEZONE
BEGIN:VEVENT
DTSTART;TZID=America/New_York:20250710T220000
DTEND;TZID=America/New_York:20250711T020000
DTSTAMP:20260424T083834
CREATED:20250321T185818Z
LAST-MODIFIED:20250321T190929Z
UID:10000447-1752184800-1752199200@darkmusic.net
SUMMARY:Vertex Night Club
DESCRIPTION:One of the longest running goth clubs in the US. Not to be confused with the awesome VORTEX – similar names\, no relation. \nThurs\, Friday\, and Saturday. 10pm- 2am (Or until they kick everyone out. Drinks stop at 2 but the club will often stay going) \nThursday Night – DJ Noname \nFriday Night – DJ Crash \nSaturday Night – DJ Darkwave \nOften hosts a Gothic Garage Sale twice a year\, plus other events. \nWill update this more soon as there isn’t much online for the club since it is very underground.
URL:https://darkmusic.net/event/vertex/2025-07-10/
LOCATION:Vertex Night Club\, 169 N Chestnut St\, Rochester\, NY\, 14604\, United States
CATEGORIES:80's,Aggrotech,Club Night,Cyber,Dark Wave,EBM,FuturePop,Goth,Industrial,Oddities Market,Synthpop
ATTACH;FMTTYPE=image/jpeg:https://darkmusic.net/wp-content/uploads/2025/03/Vertex.jpg
GEO:43.1606393;-77.603646
X-APPLE-STRUCTURED-LOCATION;VALUE=URI;X-ADDRESS=Vertex Night Club 169 N Chestnut St Rochester NY 14604 United States;X-APPLE-RADIUS=500;X-TITLE=169 N Chestnut St:geo:-77.603646,43.1606393
END:VEVENT
BEGIN:VEVENT
DTSTART;TZID=America/New_York:20250711T200000
DTEND;TZID=America/New_York:20250711T230000
DTSTAMP:20260424T083834
CREATED:20250709T181035Z
LAST-MODIFIED:20250709T181035Z
UID:10001228-1752264000-1752274800@darkmusic.net
SUMMARY:Alternative Pop Rock show
DESCRIPTION:A night of Alt pop Rock with Before the End / Reno Avenue / Heads in Motion \n10$ in advanced / $15 day of \nBefore the End w/ Reno Avenue and Heads in Motion Tickets\, Fri\, Jul 11\, 2025 at 8:00 PM | Eventbrite
URL:https://darkmusic.net/event/alternative-pop-rock-show/
LOCATION:phantom power\, 121 W Frederick St\, Millersville\, PA\, 17551\, United States
CATEGORIES:Hard Rock
ATTACH;FMTTYPE=image/jpeg:https://darkmusic.net/wp-content/uploads/2025/07/b4te.jpg
ORGANIZER;CN="ben614":MAILTO:guitarben2000@yahoo.com
END:VEVENT
BEGIN:VEVENT
DTSTART;TZID=America/New_York:20250711T220000
DTEND;TZID=America/New_York:20250712T020000
DTSTAMP:20260424T083834
CREATED:20250321T185818Z
LAST-MODIFIED:20250321T190929Z
UID:10000448-1752271200-1752285600@darkmusic.net
SUMMARY:Vertex Night Club
DESCRIPTION:One of the longest running goth clubs in the US. Not to be confused with the awesome VORTEX – similar names\, no relation. \nThurs\, Friday\, and Saturday. 10pm- 2am (Or until they kick everyone out. Drinks stop at 2 but the club will often stay going) \nThursday Night – DJ Noname \nFriday Night – DJ Crash \nSaturday Night – DJ Darkwave \nOften hosts a Gothic Garage Sale twice a year\, plus other events. \nWill update this more soon as there isn’t much online for the club since it is very underground.
URL:https://darkmusic.net/event/vertex/2025-07-11/
LOCATION:Vertex Night Club\, 169 N Chestnut St\, Rochester\, NY\, 14604\, United States
CATEGORIES:80's,Aggrotech,Club Night,Cyber,Dark Wave,EBM,FuturePop,Goth,Industrial,Oddities Market,Synthpop
ATTACH;FMTTYPE=image/jpeg:https://darkmusic.net/wp-content/uploads/2025/03/Vertex.jpg
GEO:43.1606393;-77.603646
X-APPLE-STRUCTURED-LOCATION;VALUE=URI;X-ADDRESS=Vertex Night Club 169 N Chestnut St Rochester NY 14604 United States;X-APPLE-RADIUS=500;X-TITLE=169 N Chestnut St:geo:-77.603646,43.1606393
END:VEVENT
BEGIN:VEVENT
DTSTART;TZID=America/New_York:20250711T220000
DTEND;TZID=America/New_York:20250712T030000
DTSTAMP:20260424T083834
CREATED:20250627T203420Z
LAST-MODIFIED:20250627T203420Z
UID:10001224-1752271200-1752289200@darkmusic.net
SUMMARY:Fang Club ~ Undead Summer Bloodbath
DESCRIPTION:“Fang Club is an underground nightlife Haven where the supernatural needs subculture. Vampires\, witches\, werewolves\, creatures of the Faye\, cosplayers\, and other King gather for a night of dark music and high energy Escape! With Goth\, dark wave\, techno and EDM from the top DJs\, Fang Club is more than a party… It’s a ritual.Explore alternative vendors\, a cold goods\, and crafted gear\, and unique performances\, like Shibari\, burlesque\, fire performance\, and full body suspension! At Fang Club\, fantasy is reality and it’s a SAFE space for self expression and the beautifully strange. Follow us into the shadows !!!”
URL:https://darkmusic.net/event/fang-club-undead-summer-bloodbath/
LOCATION:Hugh’s\, 4351 NE 12th Terrace\, Oakland Park\, FL\, 33334\, United States
CATEGORIES:Club Night,Goth,Vampire
ATTACH;FMTTYPE=image/jpeg:https://darkmusic.net/wp-content/uploads/2025/06/494572358_741987038155414_2511720272769738431_n.jpg
ORGANIZER;CN="DJ Jason":MAILTO:djjasonofalchemy@gmail.com
END:VEVENT
END:VCALENDAR