BEGIN:VCALENDAR
VERSION:2.0
PRODID:-//The Dark Music Network - ECPv6.15.20//NONSGML v1.0//EN
CALSCALE:GREGORIAN
METHOD:PUBLISH
X-WR-CALNAME:The Dark Music Network
X-ORIGINAL-URL:https://darkmusic.net
X-WR-CALDESC:Events for The Dark Music Network
REFRESH-INTERVAL;VALUE=DURATION:PT1H
X-Robots-Tag:noindex
X-PUBLISHED-TTL:PT1H
BEGIN:VTIMEZONE
TZID:America/New_York
BEGIN:DAYLIGHT
TZOFFSETFROM:-0500
TZOFFSETTO:-0400
TZNAME:EDT
DTSTART:20240310T070000
END:DAYLIGHT
BEGIN:STANDARD
TZOFFSETFROM:-0400
TZOFFSETTO:-0500
TZNAME:EST
DTSTART:20241103T060000
END:STANDARD
BEGIN:DAYLIGHT
TZOFFSETFROM:-0500
TZOFFSETTO:-0400
TZNAME:EDT
DTSTART:20250309T070000
END:DAYLIGHT
BEGIN:STANDARD
TZOFFSETFROM:-0400
TZOFFSETTO:-0500
TZNAME:EST
DTSTART:20251102T060000
END:STANDARD
BEGIN:DAYLIGHT
TZOFFSETFROM:-0500
TZOFFSETTO:-0400
TZNAME:EDT
DTSTART:20260308T070000
END:DAYLIGHT
BEGIN:STANDARD
TZOFFSETFROM:-0400
TZOFFSETTO:-0500
TZNAME:EST
DTSTART:20261101T060000
END:STANDARD
END:VTIMEZONE
BEGIN:VTIMEZONE
TZID:Europe/London
BEGIN:DAYLIGHT
TZOFFSETFROM:+0000
TZOFFSETTO:+0100
TZNAME:BST
DTSTART:20240331T010000
END:DAYLIGHT
BEGIN:STANDARD
TZOFFSETFROM:+0100
TZOFFSETTO:+0000
TZNAME:GMT
DTSTART:20241027T010000
END:STANDARD
BEGIN:DAYLIGHT
TZOFFSETFROM:+0000
TZOFFSETTO:+0100
TZNAME:BST
DTSTART:20250330T010000
END:DAYLIGHT
BEGIN:STANDARD
TZOFFSETFROM:+0100
TZOFFSETTO:+0000
TZNAME:GMT
DTSTART:20251026T010000
END:STANDARD
BEGIN:DAYLIGHT
TZOFFSETFROM:+0000
TZOFFSETTO:+0100
TZNAME:BST
DTSTART:20260329T010000
END:DAYLIGHT
BEGIN:STANDARD
TZOFFSETFROM:+0100
TZOFFSETTO:+0000
TZNAME:GMT
DTSTART:20261025T010000
END:STANDARD
END:VTIMEZONE
BEGIN:VEVENT
DTSTART;TZID=America/New_York:20250705T203000
DTEND;TZID=America/New_York:20250706T020000
DTSTAMP:20260424T083726
CREATED:20250615T001947Z
LAST-MODIFIED:20250615T001947Z
UID:10001219-1751747400-1751767200@darkmusic.net
SUMMARY:ATMOSPHERE AUGUSTA
DESCRIPTION:The Famous ATMOSPHERE AUGUSTA club is back at it! \nSaturday JULY 5th come dance your sorrows away with DJ MISSTEP spinning Dark Electronic\, Industrial Goth\, Dark Techno\, Post Punk and more. \nAtmosphere Augusta is located at Le Chat Noir 304 8th st Augusta GA \nDoors at 8:30pm.  ONLY 10 bucks cash to get in!
URL:https://darkmusic.net/event/atmosphere-augusta/
LOCATION:Le Chat Noir\, 304 8th St\, Augusta\, G\, 30901\, United States
CATEGORIES:Aggrotech,Club Night,Cyber,Dark Electro,Dark Wave,EBM,FuturePop,Goth,Industrial,Post Punk,Synthpop
ATTACH;FMTTYPE=image/jpeg:https://darkmusic.net/wp-content/uploads/2025/06/ATMOSPHERE-AUGUSTA-July-5th-2025-Resident-MISSTEP.jpg
ORGANIZER;CN="DJ MISSTEP":MAILTO:clubterraform@gmail.com
GEO:33.474019;-81.9657975
X-APPLE-STRUCTURED-LOCATION;VALUE=URI;X-ADDRESS=Le Chat Noir 304 8th St Augusta G 30901 United States;X-APPLE-RADIUS=500;X-TITLE=304 8th St:geo:-81.9657975,33.474019
END:VEVENT
BEGIN:VEVENT
DTSTART;TZID=Europe/London:20250705T210000
DTEND;TZID=Europe/London:20250706T020000
DTSTAMP:20260424T083726
CREATED:20250512T223149Z
LAST-MODIFIED:20250512T223349Z
UID:10001207-1751749200-1751767200@darkmusic.net
SUMMARY:The Belfry – July 2025
DESCRIPTION:Welcome bats and fiends to The Belfry. Your host\, Mortasha Kinski\, and guest DJ Fil Noir will be spinning music with the flavours of post-punk\, goth\, dark-wave\, new-wave\, dark alternative and new romantic from the past 4 decades or so.\n\nAdvance tickets at £5 are available now. Cover charge on the night will be £7. Downstairs at The Albany has a separate entrance from the street to the basement venue. Nearest tube is Great Portland Street (opposite the venue).
URL:https://darkmusic.net/event/the-belfry-july-2025/
LOCATION:Downstairs at The Albany\, 240 Great Portland Street\, London\, W1W 5QU\, United Kingdom
CATEGORIES:Club Night,Dark Wave,Goth,Post Punk
ATTACH;FMTTYPE=image/jpeg:https://darkmusic.net/wp-content/uploads/2025/05/TheBelfry_250705DJs_SQUARE.jpg
ORGANIZER;CN="Mortasha Kinski":MAILTO:mortasha.kinski@gmail.com
GEO:51.523326;-0.1439599
X-APPLE-STRUCTURED-LOCATION;VALUE=URI;X-ADDRESS=Downstairs at The Albany 240 Great Portland Street London W1W 5QU United Kingdom;X-APPLE-RADIUS=500;X-TITLE=240 Great Portland Street:geo:-0.1439599,51.523326
END:VEVENT
BEGIN:VEVENT
DTSTART;TZID=America/New_York:20250705T220000
DTEND;TZID=America/New_York:20250706T020000
DTSTAMP:20260424T083726
CREATED:20250321T185818Z
LAST-MODIFIED:20250321T190929Z
UID:10000446-1751752800-1751767200@darkmusic.net
SUMMARY:Vertex Night Club
DESCRIPTION:One of the longest running goth clubs in the US. Not to be confused with the awesome VORTEX – similar names\, no relation. \nThurs\, Friday\, and Saturday. 10pm- 2am (Or until they kick everyone out. Drinks stop at 2 but the club will often stay going) \nThursday Night – DJ Noname \nFriday Night – DJ Crash \nSaturday Night – DJ Darkwave \nOften hosts a Gothic Garage Sale twice a year\, plus other events. \nWill update this more soon as there isn’t much online for the club since it is very underground.
URL:https://darkmusic.net/event/vertex/2025-07-05/
LOCATION:Vertex Night Club\, 169 N Chestnut St\, Rochester\, NY\, 14604\, United States
CATEGORIES:80's,Aggrotech,Club Night,Cyber,Dark Wave,EBM,FuturePop,Goth,Industrial,Oddities Market,Synthpop
ATTACH;FMTTYPE=image/jpeg:https://darkmusic.net/wp-content/uploads/2025/03/Vertex.jpg
GEO:43.1606393;-77.603646
X-APPLE-STRUCTURED-LOCATION;VALUE=URI;X-ADDRESS=Vertex Night Club 169 N Chestnut St Rochester NY 14604 United States;X-APPLE-RADIUS=500;X-TITLE=169 N Chestnut St:geo:-77.603646,43.1606393
END:VEVENT
END:VCALENDAR