BEGIN:VCALENDAR
VERSION:2.0
PRODID:-//The Dark Music Network - ECPv6.15.20//NONSGML v1.0//EN
CALSCALE:GREGORIAN
METHOD:PUBLISH
X-ORIGINAL-URL:https://darkmusic.net
X-WR-CALDESC:Events for The Dark Music Network
REFRESH-INTERVAL;VALUE=DURATION:PT1H
X-Robots-Tag:noindex
X-PUBLISHED-TTL:PT1H
BEGIN:VTIMEZONE
TZID:America/New_York
BEGIN:DAYLIGHT
TZOFFSETFROM:-0500
TZOFFSETTO:-0400
TZNAME:EDT
DTSTART:20240310T070000
END:DAYLIGHT
BEGIN:STANDARD
TZOFFSETFROM:-0400
TZOFFSETTO:-0500
TZNAME:EST
DTSTART:20241103T060000
END:STANDARD
BEGIN:DAYLIGHT
TZOFFSETFROM:-0500
TZOFFSETTO:-0400
TZNAME:EDT
DTSTART:20250309T070000
END:DAYLIGHT
BEGIN:STANDARD
TZOFFSETFROM:-0400
TZOFFSETTO:-0500
TZNAME:EST
DTSTART:20251102T060000
END:STANDARD
BEGIN:DAYLIGHT
TZOFFSETFROM:-0500
TZOFFSETTO:-0400
TZNAME:EDT
DTSTART:20260308T070000
END:DAYLIGHT
BEGIN:STANDARD
TZOFFSETFROM:-0400
TZOFFSETTO:-0500
TZNAME:EST
DTSTART:20261101T060000
END:STANDARD
END:VTIMEZONE
BEGIN:VEVENT
DTSTART;TZID=America/New_York:20250625T170000
DTEND;TZID=America/New_York:20250625T180000
DTSTAMP:20260424T101559
CREATED:20250621T195856Z
LAST-MODIFIED:20250621T201132Z
UID:10001221-1750870800-1750874400@darkmusic.net
SUMMARY:New Music O’ Clock on eMpTyVeeTV Hosted by Hemlock For Socrates
DESCRIPTION:New Music O’ Clock when we present the latest music videos added to the channel rotation on twitch.tv/eMpTyVeeTV \nJune 25 Hosted by Hemlock For Socrates – a duo making music to dance-cry to. https://linktr.ee/hemlockforsocrates \nFeaturing Music Videos Submitted By: \nBorgia (Montevideo\, Uruguay) \nDead Lights (London\, UK) – on darkTunes \nHemlock For Socrates (Pittsburgh\, PA\, U.S.) – WORLD PREMIERE MUSIC VIDEO \nHororhaus (Woodstock\, New York\, U.S.) \nJohnny Tupolev (Wuppertal\, Germany) – on COP International \nPaper Foxes (Phoenix\, Arizona\, U.S.) – on Violet Hour Transmissions \nSINA MATIX (U.S.) \nSlighter Feat. Craig Joseph Huxtable (U.S.) – on Confusion\, Inc. \nVioflesh (Santiago\, Chile) – on darkTunes \nWilliam Bleak (Berlin\, Germany) \nBegins \n2pm PT / 3pm CDMX / 5pm ET / 5pm CLT / 6pm UYT \n9pm GMT / 10pm BST / 11pm CEST \n8am (Thursday\, June 26) Sydney\, Australia \n10am (Thursday\, June 26) Aotearoa
URL:https://darkmusic.net/event/new-music-o-clock-hosted-by-hemlock-for-socrates/
LOCATION:Twitch
CATEGORIES:Dark Wave
ATTACH;FMTTYPE=image/jpeg:https://darkmusic.net/wp-content/uploads/2025/06/506934583_598884346112381_6783734196987452325_n.jpg
ORGANIZER;CN="eMpTyVeeTV":MAILTO:eMpTyVee.TV@gmail.com
GEO:55.378051;-3.435973
END:VEVENT
END:VCALENDAR