BEGIN:VCALENDAR
VERSION:2.0
PRODID:-//The Dark Music Network - ECPv6.15.20//NONSGML v1.0//EN
CALSCALE:GREGORIAN
METHOD:PUBLISH
X-WR-CALNAME:The Dark Music Network
X-ORIGINAL-URL:https://darkmusic.net
X-WR-CALDESC:Events for The Dark Music Network
REFRESH-INTERVAL;VALUE=DURATION:PT1H
X-Robots-Tag:noindex
X-PUBLISHED-TTL:PT1H
BEGIN:VTIMEZONE
TZID:Europe/London
BEGIN:DAYLIGHT
TZOFFSETFROM:+0000
TZOFFSETTO:+0100
TZNAME:BST
DTSTART:20240331T010000
END:DAYLIGHT
BEGIN:STANDARD
TZOFFSETFROM:+0100
TZOFFSETTO:+0000
TZNAME:GMT
DTSTART:20241027T010000
END:STANDARD
BEGIN:DAYLIGHT
TZOFFSETFROM:+0000
TZOFFSETTO:+0100
TZNAME:BST
DTSTART:20250330T010000
END:DAYLIGHT
BEGIN:STANDARD
TZOFFSETFROM:+0100
TZOFFSETTO:+0000
TZNAME:GMT
DTSTART:20251026T010000
END:STANDARD
BEGIN:DAYLIGHT
TZOFFSETFROM:+0000
TZOFFSETTO:+0100
TZNAME:BST
DTSTART:20260329T010000
END:DAYLIGHT
BEGIN:STANDARD
TZOFFSETFROM:+0100
TZOFFSETTO:+0000
TZNAME:GMT
DTSTART:20261025T010000
END:STANDARD
END:VTIMEZONE
BEGIN:VTIMEZONE
TZID:America/New_York
BEGIN:DAYLIGHT
TZOFFSETFROM:-0500
TZOFFSETTO:-0400
TZNAME:EDT
DTSTART:20240310T070000
END:DAYLIGHT
BEGIN:STANDARD
TZOFFSETFROM:-0400
TZOFFSETTO:-0500
TZNAME:EST
DTSTART:20241103T060000
END:STANDARD
BEGIN:DAYLIGHT
TZOFFSETFROM:-0500
TZOFFSETTO:-0400
TZNAME:EDT
DTSTART:20250309T070000
END:DAYLIGHT
BEGIN:STANDARD
TZOFFSETFROM:-0400
TZOFFSETTO:-0500
TZNAME:EST
DTSTART:20251102T060000
END:STANDARD
BEGIN:DAYLIGHT
TZOFFSETFROM:-0500
TZOFFSETTO:-0400
TZNAME:EDT
DTSTART:20260308T070000
END:DAYLIGHT
BEGIN:STANDARD
TZOFFSETFROM:-0400
TZOFFSETTO:-0500
TZNAME:EST
DTSTART:20261101T060000
END:STANDARD
END:VTIMEZONE
BEGIN:VEVENT
DTSTART;TZID=Europe/London:20250522T130000
DTEND;TZID=Europe/London:20250523T090000
DTSTAMP:20260424T114807
CREATED:20250512T224736Z
LAST-MODIFIED:20250512T224736Z
UID:10001209-1747918800-1747990800@darkmusic.net
SUMMARY:The Gothic Fete: World Goth Day special\, presented by Der Keller and Xiled Radio
DESCRIPTION:Get ready for the ultimate Goth celebration! \nJoin us on May 22-23\, 2025\, for an epic World Goth Day Raid Train on Twitch hosted by Der Keller and Xiled Radio!  Whether you’re into dark vibes\, eerie tunes\, or just want to celebrate all things goth\, this two-day event will be filled with exciting streams\, epic raids\, and a community that lives for the night.\nMark your calendars and prepare to immerse yourself in the gothic culture\, which has excellent content creators\, special giveaways\, and plenty of dark fun!  Don’t miss the chance to support your favourite streamers\, discover new faces\, and be part of a raid train like no other.\n Save the date — May 22-23\, 2025. It’s going to be a night to remember!
URL:https://darkmusic.net/event/the-gothic-fete-world-goth-day-special-presented-by-der-keller-and-xiled-radio/
LOCATION:https://raidpal.com/en/event/der-keller-xiled-radio-world-goth-day-gothic-fete
CATEGORIES:Dark Wave,Goth,Post Punk
ATTACH;FMTTYPE=image/jpeg:https://darkmusic.net/wp-content/uploads/2025/05/WGD-2025-Gothic-Fete.jpg
ORGANIZER;CN="Mortasha Kinski":MAILTO:mortasha.kinski@gmail.com
END:VEVENT
BEGIN:VEVENT
DTSTART;TZID=America/New_York:20250522T220000
DTEND;TZID=America/New_York:20250523T020000
DTSTAMP:20260424T114807
CREATED:20250321T185818Z
LAST-MODIFIED:20250321T190929Z
UID:10000426-1747951200-1747965600@darkmusic.net
SUMMARY:Vertex Night Club
DESCRIPTION:One of the longest running goth clubs in the US. Not to be confused with the awesome VORTEX – similar names\, no relation. \nThurs\, Friday\, and Saturday. 10pm- 2am (Or until they kick everyone out. Drinks stop at 2 but the club will often stay going) \nThursday Night – DJ Noname \nFriday Night – DJ Crash \nSaturday Night – DJ Darkwave \nOften hosts a Gothic Garage Sale twice a year\, plus other events. \nWill update this more soon as there isn’t much online for the club since it is very underground.
URL:https://darkmusic.net/event/vertex/2025-05-22/
LOCATION:Vertex Night Club\, 169 N Chestnut St\, Rochester\, NY\, 14604\, United States
CATEGORIES:80's,Aggrotech,Club Night,Cyber,Dark Wave,EBM,FuturePop,Goth,Industrial,Oddities Market,Synthpop
ATTACH;FMTTYPE=image/jpeg:https://darkmusic.net/wp-content/uploads/2025/03/Vertex.jpg
GEO:43.1606393;-77.603646
X-APPLE-STRUCTURED-LOCATION;VALUE=URI;X-ADDRESS=Vertex Night Club 169 N Chestnut St Rochester NY 14604 United States;X-APPLE-RADIUS=500;X-TITLE=169 N Chestnut St:geo:-77.603646,43.1606393
END:VEVENT
BEGIN:VEVENT
DTSTART;TZID=America/New_York:20250523T190000
DTEND;TZID=America/New_York:20250523T230000
DTSTAMP:20260424T114807
CREATED:20250518T140107Z
LAST-MODIFIED:20250518T140107Z
UID:10001213-1748026800-1748041200@darkmusic.net
SUMMARY:An evening with Traverse the abyss
DESCRIPTION:W direct support from The Turning hand\, Altar of sacrifice\, United yet Broken\, Pre-baptist. All ages. $10. 1383 w poplar st York pa.  Proceeds benefit youth programs
URL:https://darkmusic.net/event/an-evening-with-traverse-the-abyss/
LOCATION:Hmac Harrisburg Pa\, 1110 N 3rd St\, Harrisburg\, P\, 17102\, United States
ATTACH;FMTTYPE=image/jpeg:https://darkmusic.net/wp-content/uploads/2025/05/Screenshot_20250516_211112_Messages.jpg
ORGANIZER;CN="ben614":MAILTO:guitarben2000@yahoo.com
GEO:40.268142;-76.8882658
X-APPLE-STRUCTURED-LOCATION;VALUE=URI;X-ADDRESS=Hmac Harrisburg Pa 1110 N 3rd St Harrisburg P 17102 United States;X-APPLE-RADIUS=500;X-TITLE=1110 N 3rd St:geo:-76.8882658,40.268142
END:VEVENT
BEGIN:VEVENT
DTSTART;TZID=America/New_York:20250523T220000
DTEND;TZID=America/New_York:20250524T020000
DTSTAMP:20260424T114807
CREATED:20250321T185818Z
LAST-MODIFIED:20250321T190929Z
UID:10000427-1748037600-1748052000@darkmusic.net
SUMMARY:Vertex Night Club
DESCRIPTION:One of the longest running goth clubs in the US. Not to be confused with the awesome VORTEX – similar names\, no relation. \nThurs\, Friday\, and Saturday. 10pm- 2am (Or until they kick everyone out. Drinks stop at 2 but the club will often stay going) \nThursday Night – DJ Noname \nFriday Night – DJ Crash \nSaturday Night – DJ Darkwave \nOften hosts a Gothic Garage Sale twice a year\, plus other events. \nWill update this more soon as there isn’t much online for the club since it is very underground.
URL:https://darkmusic.net/event/vertex/2025-05-23/
LOCATION:Vertex Night Club\, 169 N Chestnut St\, Rochester\, NY\, 14604\, United States
CATEGORIES:80's,Aggrotech,Club Night,Cyber,Dark Wave,EBM,FuturePop,Goth,Industrial,Oddities Market,Synthpop
ATTACH;FMTTYPE=image/jpeg:https://darkmusic.net/wp-content/uploads/2025/03/Vertex.jpg
GEO:43.1606393;-77.603646
X-APPLE-STRUCTURED-LOCATION;VALUE=URI;X-ADDRESS=Vertex Night Club 169 N Chestnut St Rochester NY 14604 United States;X-APPLE-RADIUS=500;X-TITLE=169 N Chestnut St:geo:-77.603646,43.1606393
END:VEVENT
END:VCALENDAR