BEGIN:VCALENDAR
VERSION:2.0
PRODID:-//The Dark Music Network - ECPv6.15.20//NONSGML v1.0//EN
CALSCALE:GREGORIAN
METHOD:PUBLISH
X-WR-CALNAME:The Dark Music Network
X-ORIGINAL-URL:https://darkmusic.net
X-WR-CALDESC:Events for The Dark Music Network
REFRESH-INTERVAL;VALUE=DURATION:PT1H
X-Robots-Tag:noindex
X-PUBLISHED-TTL:PT1H
BEGIN:VTIMEZONE
TZID:America/New_York
BEGIN:DAYLIGHT
TZOFFSETFROM:-0500
TZOFFSETTO:-0400
TZNAME:EDT
DTSTART:20240310T070000
END:DAYLIGHT
BEGIN:STANDARD
TZOFFSETFROM:-0400
TZOFFSETTO:-0500
TZNAME:EST
DTSTART:20241103T060000
END:STANDARD
BEGIN:DAYLIGHT
TZOFFSETFROM:-0500
TZOFFSETTO:-0400
TZNAME:EDT
DTSTART:20250309T070000
END:DAYLIGHT
BEGIN:STANDARD
TZOFFSETFROM:-0400
TZOFFSETTO:-0500
TZNAME:EST
DTSTART:20251102T060000
END:STANDARD
BEGIN:DAYLIGHT
TZOFFSETFROM:-0500
TZOFFSETTO:-0400
TZNAME:EDT
DTSTART:20260308T070000
END:DAYLIGHT
BEGIN:STANDARD
TZOFFSETFROM:-0400
TZOFFSETTO:-0500
TZNAME:EST
DTSTART:20261101T060000
END:STANDARD
END:VTIMEZONE
BEGIN:VEVENT
DTSTART;TZID=America/New_York:20250322T000000
DTEND;TZID=America/New_York:20250518T235959
DTSTAMP:20260424T114808
CREATED:20250317T151742Z
LAST-MODIFIED:20250317T151742Z
UID:10000392-1742601600-1747612799@darkmusic.net
SUMMARY:Cursed CD Release Parties
DESCRIPTION:There will be various CD release parties for Sina Matix’s Cursed EP nationwide.  Please see flyer for details.
URL:https://darkmusic.net/event/cursed-cd-release-parties/
LOCATION:Various
CATEGORIES:Club Night,Dark Dramatic Electro,Dark Electro,Dark Wave,EBM
ATTACH;FMTTYPE=image/png:https://darkmusic.net/wp-content/uploads/2025/03/Cursed-CD-Release-Party-Flyer.png
END:VEVENT
BEGIN:VEVENT
DTSTART;TZID=America/New_York:20250502T000000
DTEND;TZID=America/New_York:20250504T235959
DTSTAMP:20260424T114808
CREATED:20250307T014353Z
LAST-MODIFIED:20250328T152847Z
UID:10000384-1746144000-1746403199@darkmusic.net
SUMMARY:Wonderplace Alpha
DESCRIPTION:Wonderplace Alpha: A Liminal Nightshade Bloom \n  \n\nMarch 2-4\, 2025\, Lake George\, New York.\n\nIn a world where gears grind and clockwork hearts beat\, Wonderplace Alpha rises like a majestic airship – a darkling festival celebrating steampunk culture from May 2-4th\, 2025\, at the esteemed Wonderplace Alpha! This inaugural extravaganza promises a thrilling array of delights for landlubbers and aerial adventurers alike\, showcasing the finest in entertainment\, innovation\, and whimsy.\nOur trusty navigational charts indicate a rich tapestry of events: captivating lectures by luminaries like Captain Robert Brown\, whimsy-filled competitions of eccentric excellence – including facial foliage\, diabolical laughter\, and curious contraptions contests! Musical marvels abound\, featuring The Spellbinder Orchestra’s chrononautical folk melodies and Chris Cyanide’s intense\, solo bass machinations to mesmerize your auditory cogworks.\nAs dusk falls\, Madeline’s Steampunk Ball beckons\, featuring the ingenious DJ Ozno spinning tunes to dance the clockwork waltz beneath twinkling brass chandeliers! Amidst this dazzling spectacle\, engage your cerebral cogworks with immersive role-playing games\, debates on aerial governance\, and intellectual discussions on weird worlds\, eerie tales\, and steampunk’s splendidly sinister souls.\nFurther adventures await within Wonderplace Alpha’s hull: “The Machinations of Mayhem” – a grand conclave exploring governance\, gallantry\, and grand larceny in steampunk realms. Or join “The Night Of Definitely Not Summoning Cthulhu\,” a jocular ritual poking fun at eerie mythos with clever incantations and humorous hijinks!\nBy joining Wonderplace Alpha\, ye become part of a thriving community celebrating innovation\, self-expression\, and steampunk camaraderie! So hoist the colors\, me hearties\, and set course for Wonderplace Alpha – a unforgettable aerial odyssey through the realm of steampunk imagination awaits\, May 2-4th 2025!
URL:https://darkmusic.net/event/wonderplace-alpha/
LOCATION:The Barn At French Mountain\, 5 Mill Road\, Lake George\, N\, 12845-3807\, United States
CATEGORIES:Festival,Goth
ATTACH;FMTTYPE=image/jpeg:https://darkmusic.net/wp-content/uploads/2025/03/project-steampunk-carriger.jpg
GEO:43.3940938;-73.7013755
X-APPLE-STRUCTURED-LOCATION;VALUE=URI;X-ADDRESS=The Barn At French Mountain 5 Mill Road Lake George N 12845-3807 United States;X-APPLE-RADIUS=500;X-TITLE=5 Mill Road:geo:-73.7013755,43.3940938
END:VEVENT
BEGIN:VEVENT
DTSTART;TZID=America/New_York:20250502T170000
DTEND;TZID=America/New_York:20250504T210000
DTSTAMP:20260424T114808
CREATED:20250221T183329Z
LAST-MODIFIED:20250221T200628Z
UID:10000004-1746205200-1746392400@darkmusic.net
SUMMARY:Dark Force Fest 2025
DESCRIPTION:From VampireFreaks\,\nThe same company that brought you ‘Dark Side of the Con’ and ‘Triton Festival’\, comes the next evolution in dark alternative events.\nFor 3 days\, we take over the entire ‘Sheraton Parsippany’\, in Parsippany\, NJ\n(one hour from NYC)\nFeaturing top industrial\, goth\, metal\, dark alternative bands from around the world.\nFeaturing:\n35 Bands over 2 stages\n100+ Vendors\nClub Events\nCostume Contest + Cosplay Guests\nSideshow Performers\nFun Activities and Panels
URL:https://darkmusic.net/event/255/
LOCATION:Sheraton Parsippany Hotel\, 199 Smith Rd\, Parsippany\, NJ\, 07054\, United States
CATEGORIES:Club Night,Festival,Goth,Industrial
ATTACH;FMTTYPE=image/jpeg:https://darkmusic.net/wp-content/uploads/2025/01/DarkForceFest2025-square-reaper-flyer-1000-2.jpg
ORGANIZER;CN="Vampire Freaks":MAILTO:admin@darkforcefest.com
GEO:40.8616911;-74.4122885
X-APPLE-STRUCTURED-LOCATION;VALUE=URI;X-ADDRESS=Sheraton Parsippany Hotel 199 Smith Rd Parsippany NJ 07054 United States;X-APPLE-RADIUS=500;X-TITLE=199 Smith Rd:geo:-74.4122885,40.8616911
END:VEVENT
BEGIN:VEVENT
DTSTART;TZID=America/New_York:20250503T203000
DTEND;TZID=America/New_York:20250504T010000
DTSTAMP:20260424T114808
CREATED:20250420T183219Z
LAST-MODIFIED:20250420T183219Z
UID:10001203-1746304200-1746320400@darkmusic.net
SUMMARY:Club ATMOSPHERE #121 Dark Dance
DESCRIPTION:Come join us for an evening of Industrial Goth music and dancing!\nDJ Misstep from Club Terraform in Columbia\, SC will be providing the soundtrack for the evening\nDJ Misstep: https://www.facebook.com/MisStepProject/\nEvent is always 18+.Doors @ 8:30pm every first Saturday.$10 CoverBRING CASH & IDs FOR ADMISSION!!!\nLocated in beautiful downtown Augusta\, Ga. at the corner of 8th st. and Ellis St.\nLe Chat Noir is an off-broad\, black box theatre with a year round production schedule and season tickets available.
URL:https://darkmusic.net/event/club-atmosphere-121-dark-dance/
LOCATION:Le Chat Noir\, 304 8th St\, Augusta\, G\, 30901\, United States
CATEGORIES:Aggrotech,Club Night,Dark Electro,Dark Wave,EBM,Goth,Industrial,Post Punk,Synthpop
ATTACH;FMTTYPE=image/jpeg:https://darkmusic.net/wp-content/uploads/2025/04/491005047_663428253290049_4107018423778271103_n.jpg
ORGANIZER;CN="DJ MISSTEP":MAILTO:clubterraform@gmail.com
GEO:33.474019;-81.9657975
X-APPLE-STRUCTURED-LOCATION;VALUE=URI;X-ADDRESS=Le Chat Noir 304 8th St Augusta G 30901 United States;X-APPLE-RADIUS=500;X-TITLE=304 8th St:geo:-81.9657975,33.474019
END:VEVENT
BEGIN:VEVENT
DTSTART;TZID=America/New_York:20250503T220000
DTEND;TZID=America/New_York:20250504T020000
DTSTAMP:20260424T114808
CREATED:20250321T185818Z
LAST-MODIFIED:20250321T190929Z
UID:10000419-1746309600-1746324000@darkmusic.net
SUMMARY:Vertex Night Club
DESCRIPTION:One of the longest running goth clubs in the US. Not to be confused with the awesome VORTEX – similar names\, no relation. \nThurs\, Friday\, and Saturday. 10pm- 2am (Or until they kick everyone out. Drinks stop at 2 but the club will often stay going) \nThursday Night – DJ Noname \nFriday Night – DJ Crash \nSaturday Night – DJ Darkwave \nOften hosts a Gothic Garage Sale twice a year\, plus other events. \nWill update this more soon as there isn’t much online for the club since it is very underground.
URL:https://darkmusic.net/event/vertex/2025-05-03/
LOCATION:Vertex Night Club\, 169 N Chestnut St\, Rochester\, NY\, 14604\, United States
CATEGORIES:80's,Aggrotech,Club Night,Cyber,Dark Wave,EBM,FuturePop,Goth,Industrial,Oddities Market,Synthpop
ATTACH;FMTTYPE=image/jpeg:https://darkmusic.net/wp-content/uploads/2025/03/Vertex.jpg
GEO:43.1606393;-77.603646
X-APPLE-STRUCTURED-LOCATION;VALUE=URI;X-ADDRESS=Vertex Night Club 169 N Chestnut St Rochester NY 14604 United States;X-APPLE-RADIUS=500;X-TITLE=169 N Chestnut St:geo:-77.603646,43.1606393
END:VEVENT
END:VCALENDAR