BEGIN:VCALENDAR
VERSION:2.0
PRODID:-//The Dark Music Network - ECPv6.15.20//NONSGML v1.0//EN
CALSCALE:GREGORIAN
METHOD:PUBLISH
X-ORIGINAL-URL:https://darkmusic.net
X-WR-CALDESC:Events for The Dark Music Network
REFRESH-INTERVAL;VALUE=DURATION:PT1H
X-Robots-Tag:noindex
X-PUBLISHED-TTL:PT1H
BEGIN:VTIMEZONE
TZID:America/New_York
BEGIN:DAYLIGHT
TZOFFSETFROM:-0500
TZOFFSETTO:-0400
TZNAME:EDT
DTSTART:20240310T070000
END:DAYLIGHT
BEGIN:STANDARD
TZOFFSETFROM:-0400
TZOFFSETTO:-0500
TZNAME:EST
DTSTART:20241103T060000
END:STANDARD
BEGIN:DAYLIGHT
TZOFFSETFROM:-0500
TZOFFSETTO:-0400
TZNAME:EDT
DTSTART:20250309T070000
END:DAYLIGHT
BEGIN:STANDARD
TZOFFSETFROM:-0400
TZOFFSETTO:-0500
TZNAME:EST
DTSTART:20251102T060000
END:STANDARD
BEGIN:DAYLIGHT
TZOFFSETFROM:-0500
TZOFFSETTO:-0400
TZNAME:EDT
DTSTART:20260308T070000
END:DAYLIGHT
BEGIN:STANDARD
TZOFFSETFROM:-0400
TZOFFSETTO:-0500
TZNAME:EST
DTSTART:20261101T060000
END:STANDARD
END:VTIMEZONE
BEGIN:VTIMEZONE
TZID:America/Los_Angeles
BEGIN:DAYLIGHT
TZOFFSETFROM:-0800
TZOFFSETTO:-0700
TZNAME:PDT
DTSTART:20240310T100000
END:DAYLIGHT
BEGIN:STANDARD
TZOFFSETFROM:-0700
TZOFFSETTO:-0800
TZNAME:PST
DTSTART:20241103T090000
END:STANDARD
BEGIN:DAYLIGHT
TZOFFSETFROM:-0800
TZOFFSETTO:-0700
TZNAME:PDT
DTSTART:20250309T100000
END:DAYLIGHT
BEGIN:STANDARD
TZOFFSETFROM:-0700
TZOFFSETTO:-0800
TZNAME:PST
DTSTART:20251102T090000
END:STANDARD
BEGIN:DAYLIGHT
TZOFFSETFROM:-0800
TZOFFSETTO:-0700
TZNAME:PDT
DTSTART:20260308T100000
END:DAYLIGHT
BEGIN:STANDARD
TZOFFSETFROM:-0700
TZOFFSETTO:-0800
TZNAME:PST
DTSTART:20261101T090000
END:STANDARD
END:VTIMEZONE
BEGIN:VTIMEZONE
TZID:America/Chicago
BEGIN:DAYLIGHT
TZOFFSETFROM:-0600
TZOFFSETTO:-0500
TZNAME:CDT
DTSTART:20240310T080000
END:DAYLIGHT
BEGIN:STANDARD
TZOFFSETFROM:-0500
TZOFFSETTO:-0600
TZNAME:CST
DTSTART:20241103T070000
END:STANDARD
BEGIN:DAYLIGHT
TZOFFSETFROM:-0600
TZOFFSETTO:-0500
TZNAME:CDT
DTSTART:20250309T080000
END:DAYLIGHT
BEGIN:STANDARD
TZOFFSETFROM:-0500
TZOFFSETTO:-0600
TZNAME:CST
DTSTART:20251102T070000
END:STANDARD
BEGIN:DAYLIGHT
TZOFFSETFROM:-0600
TZOFFSETTO:-0500
TZNAME:CDT
DTSTART:20260308T080000
END:DAYLIGHT
BEGIN:STANDARD
TZOFFSETFROM:-0500
TZOFFSETTO:-0600
TZNAME:CST
DTSTART:20261101T070000
END:STANDARD
END:VTIMEZONE
BEGIN:VEVENT
DTSTART;TZID=America/New_York:20250322T000000
DTEND;TZID=America/New_York:20250518T235959
DTSTAMP:20260424T145205
CREATED:20250317T151742Z
LAST-MODIFIED:20250317T151742Z
UID:10000392-1742601600-1747612799@darkmusic.net
SUMMARY:Cursed CD Release Parties
DESCRIPTION:There will be various CD release parties for Sina Matix’s Cursed EP nationwide.  Please see flyer for details.
URL:https://darkmusic.net/event/cursed-cd-release-parties/
LOCATION:Various
CATEGORIES:Club Night,Dark Dramatic Electro,Dark Electro,Dark Wave,EBM
ATTACH;FMTTYPE=image/png:https://darkmusic.net/wp-content/uploads/2025/03/Cursed-CD-Release-Party-Flyer.png
END:VEVENT
BEGIN:VEVENT
DTSTART;TZID=America/New_York:20250417T220000
DTEND;TZID=America/New_York:20250418T020000
DTSTAMP:20260424T145205
CREATED:20250321T185818Z
LAST-MODIFIED:20250321T190929Z
UID:10000411-1744927200-1744941600@darkmusic.net
SUMMARY:Vertex Night Club
DESCRIPTION:One of the longest running goth clubs in the US. Not to be confused with the awesome VORTEX – similar names\, no relation. \nThurs\, Friday\, and Saturday. 10pm- 2am (Or until they kick everyone out. Drinks stop at 2 but the club will often stay going) \nThursday Night – DJ Noname \nFriday Night – DJ Crash \nSaturday Night – DJ Darkwave \nOften hosts a Gothic Garage Sale twice a year\, plus other events. \nWill update this more soon as there isn’t much online for the club since it is very underground.
URL:https://darkmusic.net/event/vertex/2025-04-17/
LOCATION:Vertex Night Club\, 169 N Chestnut St\, Rochester\, NY\, 14604\, United States
CATEGORIES:80's,Aggrotech,Club Night,Cyber,Dark Wave,EBM,FuturePop,Goth,Industrial,Oddities Market,Synthpop
ATTACH;FMTTYPE=image/jpeg:https://darkmusic.net/wp-content/uploads/2025/03/Vertex.jpg
GEO:43.1606393;-77.603646
X-APPLE-STRUCTURED-LOCATION;VALUE=URI;X-ADDRESS=Vertex Night Club 169 N Chestnut St Rochester NY 14604 United States;X-APPLE-RADIUS=500;X-TITLE=169 N Chestnut St:geo:-77.603646,43.1606393
END:VEVENT
BEGIN:VEVENT
DTSTART;TZID=America/New_York:20250418T193000
DTEND;TZID=America/New_York:20250418T233000
DTSTAMP:20260424T145205
CREATED:20250318T170837Z
LAST-MODIFIED:20250318T170837Z
UID:10000396-1745004600-1745019000@darkmusic.net
SUMMARY:Electronic Ambient Music
DESCRIPTION:An evening of Electronic Ambient Music Featuring \nOHYUNG (NYC) electronic pop \nMono Theory (Pa) Ambient drone goth electronic \nCd-Romantix (Pa) Tetrofuturistic Synthwave \nHop (Pa) Ethereal Hyperpop \n613 Hillside Ave Bethlehem Pa \n$12 / All Ages \n7:30 pm
URL:https://darkmusic.net/event/electronic-ambient-music/
LOCATION:National Sokols\, 613 Hillside Ave\, Bethlehem\, P\, 18015\, United States
CATEGORIES:FuturePop
ATTACH;FMTTYPE=image/jpeg:https://darkmusic.net/wp-content/uploads/2025/03/Screenshot_20250318_125759_Messages.jpg
GEO:40.6073801;-75.3701439
X-APPLE-STRUCTURED-LOCATION;VALUE=URI;X-ADDRESS=National Sokols 613 Hillside Ave Bethlehem P 18015 United States;X-APPLE-RADIUS=500;X-TITLE=613 Hillside Ave:geo:-75.3701439,40.6073801
END:VEVENT
BEGIN:VEVENT
DTSTART;TZID=America/Los_Angeles:20250418T210000
DTEND;TZID=America/Los_Angeles:20250419T020000
DTSTAMP:20260424T145205
CREATED:20250228T014046Z
LAST-MODIFIED:20250329T055437Z
UID:10001189-1745010000-1745028000@darkmusic.net
SUMMARY:Syndicate: A Dark Dance Party
DESCRIPTION:Announcing Syndicate: A Dark Dance Party\n\n\n\nHosted by exquisitely empty and Kounter Attack\, Syndicate is a dark dance party held every other Friday located in Downtown Las Vegas’ 21+ boutique hotel\, The Lexi Hotel Las Vegas. \n\n\n\n\nWith 3 rooms (two inside + outside patio)\, 3 vibes\, and 4 DJs\, all fans of the dark\, forbidden\, and underground will find a place to dance the night away. \n\n\n\n\nSpinning your favorites in goth\, post punk\, EBM\, industrial\, dark electro\, and more are resident Vegas DJs Xymox 1107\, D-Stroyer\, The DJ Protokol\, and nolongerhuman. \n\n\nFeature the hottest otherworldly go-go’s\, Alien Vixens\, vendors\, performances\, and more. \n\n\n\n\nFree parking\, free entry\, and drink specials all night. \n\n\n\n\nMore details to come soon. \nSyndicate: For Fans of the Forbidden
URL:https://darkmusic.net/event/syndicate-a-dark-dance-party/2025-04-18/
LOCATION:The Lexi Las Vegas\, 1501 W Sahara Ave\, Las Vegas\, NV\, 89102\, United States
CATEGORIES:Aggrotech,Club Night,Dark Dramatic Electro,Dark Electro,Dark Wave,EBM,Goth,Industrial,Synthpop,Vampire
ATTACH;FMTTYPE=image/png:https://darkmusic.net/wp-content/uploads/2025/02/2025.04.04-Syndicate-Facebook-Profile-Cover.png
ORGANIZER;CN="exquisitely empty":MAILTO:exquisitelyemptylv@gmail.com
GEO:36.1437229;-115.1698193
X-APPLE-STRUCTURED-LOCATION;VALUE=URI;X-ADDRESS=The Lexi Las Vegas 1501 W Sahara Ave Las Vegas NV 89102 United States;X-APPLE-RADIUS=500;X-TITLE=1501 W Sahara Ave:geo:-115.1698193,36.1437229
END:VEVENT
BEGIN:VEVENT
DTSTART;TZID=America/New_York:20250418T210000
DTEND;TZID=America/New_York:20250419T020000
DTSTAMP:20260424T145205
CREATED:20250407T203241Z
LAST-MODIFIED:20250407T203241Z
UID:10001195-1745010000-1745028000@darkmusic.net
SUMMARY:VORTEX Fri April 18th w/ Dr. Octo-Pussy\, ElektriKill (Live)\, Mike Saga & Panzermensch
DESCRIPTION:Mike Saga Proudly Presents:\nVORTEX\nFriday April 18th. 2025\nHop to: // Darkwave // EBM // Industrial // Post-Punk // Goth // Dark Synth \nJoin us for a BAD FRIDAY Easter egg hunt—finally\, an Easter tradition as pointless as your ex’s apologies! Some eggs may contain utterly useless junk\, while others hold actually good prizes like a FREE ticket to a future Vortex. Will you find treasure or trash? Only one way to know! \n*Upon entry\, you’ll receive a ticket for a FREE raffle at 1am to win a pair of passes to The Vampire Freaks DARK FORCE FESTIVAL\, May 2nd–4th in Parsippany\, NJ! \nPerforming live:\nElektrikill\nIndustrial – Alpha\, New Jersey \nGuest Dj: Dr.Octo-Pussy \nVj: Pixel8ter \nResident djs: mighty MIKE SAGA & PANZERMENSCH \nTemptation on the Pole by: LU ANIMA + JULIE BELLS + IVORY MAE + NATASHA BURLY \nFotos: STEPHEN ROSELLI \nVending: JEWELRY by KARA + DARK JASMINE + TINY TERROR + MXR’S MIX \nTime: 9pm – 2am //// 21+ with id \nMore info: “LIKE” www.facebook.com/vortexphilly \nAdmission: $15 (cash only) @ Door \n@ Warehouse on Watts\nDownstairs in Cambridge Hall 923 n Watts St\, Philadelphia PA
URL:https://darkmusic.net/event/vortex-fri-april-18th-w-dr-octo-pussy-elektrikill-live-mike-saga-panzermensch/
LOCATION:Warehouse on Watts\, 923 N. Watts Street\, Philadelphia\, PA\, 19123\, United States
CATEGORIES:Club Night,Concert,Cyber,Dark Electro,Dark Wave,EBM,Goth,Industrial,Post Punk,Synthpop
ATTACH;FMTTYPE=image/jpeg:https://darkmusic.net/wp-content/uploads/2025/04/Vortex-Fri-April-18th-2025-4x6-most-updated-Web.jpg
ORGANIZER;CN="mighty Mike Saga":MAILTO:mightymikesaga@yahoo.com
GEO:39.9707068;-75.1585055
X-APPLE-STRUCTURED-LOCATION;VALUE=URI;X-ADDRESS=Warehouse on Watts 923 N. Watts Street Philadelphia PA 19123 United States;X-APPLE-RADIUS=500;X-TITLE=923 N. Watts Street:geo:-75.1585055,39.9707068
END:VEVENT
BEGIN:VEVENT
DTSTART;TZID=America/New_York:20250418T220000
DTEND;TZID=America/New_York:20250419T020000
DTSTAMP:20260424T145205
CREATED:20250321T185818Z
LAST-MODIFIED:20250321T190929Z
UID:10000412-1745013600-1745028000@darkmusic.net
SUMMARY:Vertex Night Club
DESCRIPTION:One of the longest running goth clubs in the US. Not to be confused with the awesome VORTEX – similar names\, no relation. \nThurs\, Friday\, and Saturday. 10pm- 2am (Or until they kick everyone out. Drinks stop at 2 but the club will often stay going) \nThursday Night – DJ Noname \nFriday Night – DJ Crash \nSaturday Night – DJ Darkwave \nOften hosts a Gothic Garage Sale twice a year\, plus other events. \nWill update this more soon as there isn’t much online for the club since it is very underground.
URL:https://darkmusic.net/event/vertex/2025-04-18/
LOCATION:Vertex Night Club\, 169 N Chestnut St\, Rochester\, NY\, 14604\, United States
CATEGORIES:80's,Aggrotech,Club Night,Cyber,Dark Wave,EBM,FuturePop,Goth,Industrial,Oddities Market,Synthpop
ATTACH;FMTTYPE=image/jpeg:https://darkmusic.net/wp-content/uploads/2025/03/Vertex.jpg
GEO:43.1606393;-77.603646
X-APPLE-STRUCTURED-LOCATION;VALUE=URI;X-ADDRESS=Vertex Night Club 169 N Chestnut St Rochester NY 14604 United States;X-APPLE-RADIUS=500;X-TITLE=169 N Chestnut St:geo:-77.603646,43.1606393
END:VEVENT
BEGIN:VEVENT
DTSTART;TZID=America/Chicago:20250418T220000
DTEND;TZID=America/Chicago:20250419T020000
DTSTAMP:20260424T145205
CREATED:20250328T010751Z
LAST-MODIFIED:20250328T011310Z
UID:10001185-1745013600-1745028000@darkmusic.net
SUMMARY:Nexus 6 :: Fri\, April 18
DESCRIPTION:Nexus 6 holds in-person parties the 3rd Friday of every month downstairs at Subterranean in Wicker Park (right by the Damen blue line)! \nDJs Licious\, Flesh_Bot\, and Sprite/Anarchotech mix the best in modern industrial techno\, EBM\, and rhythmic noise! \n$7 before 11pm / $10 after\ntix in advance or cash/venmo at door\ntix: https://ra.co/events/2120173\n21+ w/ID \nhttps://facebook.com/events/s/nexus-6-fri-april-18-subt/529935656346128/ \nGenres we play:\nindustrial techno :: techno-industrial :: EBM :: rhythmic noise :: dark techno :: EBSM :: powernoise :: hard techno :: dark synth \nPrevious sets: \n  \nFollow the DJs:\nhttp://linktr.ee/anarchotech\nhttp://linktr.ee/djfleshbot
URL:https://darkmusic.net/event/nexus-6-fri-april-18/
LOCATION:Subterranean\, Chicago\, I\, United States
CATEGORIES:Club Night,Cyber,EBM,Industrial
ATTACH;FMTTYPE=image/jpeg:https://darkmusic.net/wp-content/uploads/2025/03/signal-2025-02-17-13-56-12-626-1.jpg
GEO:41.8781136;-87.6297982
END:VEVENT
END:VCALENDAR