BEGIN:VCALENDAR
VERSION:2.0
PRODID:-//The Dark Music Network - ECPv6.15.20//NONSGML v1.0//EN
CALSCALE:GREGORIAN
METHOD:PUBLISH
X-ORIGINAL-URL:https://darkmusic.net
X-WR-CALDESC:Events for The Dark Music Network
REFRESH-INTERVAL;VALUE=DURATION:PT1H
X-Robots-Tag:noindex
X-PUBLISHED-TTL:PT1H
BEGIN:VTIMEZONE
TZID:America/New_York
BEGIN:DAYLIGHT
TZOFFSETFROM:-0500
TZOFFSETTO:-0400
TZNAME:EDT
DTSTART:20240310T070000
END:DAYLIGHT
BEGIN:STANDARD
TZOFFSETFROM:-0400
TZOFFSETTO:-0500
TZNAME:EST
DTSTART:20241103T060000
END:STANDARD
BEGIN:DAYLIGHT
TZOFFSETFROM:-0500
TZOFFSETTO:-0400
TZNAME:EDT
DTSTART:20250309T070000
END:DAYLIGHT
BEGIN:STANDARD
TZOFFSETFROM:-0400
TZOFFSETTO:-0500
TZNAME:EST
DTSTART:20251102T060000
END:STANDARD
BEGIN:DAYLIGHT
TZOFFSETFROM:-0500
TZOFFSETTO:-0400
TZNAME:EDT
DTSTART:20260308T070000
END:DAYLIGHT
BEGIN:STANDARD
TZOFFSETFROM:-0400
TZOFFSETTO:-0500
TZNAME:EST
DTSTART:20261101T060000
END:STANDARD
END:VTIMEZONE
BEGIN:VTIMEZONE
TZID:Europe/London
BEGIN:DAYLIGHT
TZOFFSETFROM:+0000
TZOFFSETTO:+0100
TZNAME:BST
DTSTART:20240331T010000
END:DAYLIGHT
BEGIN:STANDARD
TZOFFSETFROM:+0100
TZOFFSETTO:+0000
TZNAME:GMT
DTSTART:20241027T010000
END:STANDARD
BEGIN:DAYLIGHT
TZOFFSETFROM:+0000
TZOFFSETTO:+0100
TZNAME:BST
DTSTART:20250330T010000
END:DAYLIGHT
BEGIN:STANDARD
TZOFFSETFROM:+0100
TZOFFSETTO:+0000
TZNAME:GMT
DTSTART:20251026T010000
END:STANDARD
BEGIN:DAYLIGHT
TZOFFSETFROM:+0000
TZOFFSETTO:+0100
TZNAME:BST
DTSTART:20260329T010000
END:DAYLIGHT
BEGIN:STANDARD
TZOFFSETFROM:+0100
TZOFFSETTO:+0000
TZNAME:GMT
DTSTART:20261025T010000
END:STANDARD
END:VTIMEZONE
BEGIN:VTIMEZONE
TZID:America/Chicago
BEGIN:DAYLIGHT
TZOFFSETFROM:-0600
TZOFFSETTO:-0500
TZNAME:CDT
DTSTART:20240310T080000
END:DAYLIGHT
BEGIN:STANDARD
TZOFFSETFROM:-0500
TZOFFSETTO:-0600
TZNAME:CST
DTSTART:20241103T070000
END:STANDARD
BEGIN:DAYLIGHT
TZOFFSETFROM:-0600
TZOFFSETTO:-0500
TZNAME:CDT
DTSTART:20250309T080000
END:DAYLIGHT
BEGIN:STANDARD
TZOFFSETFROM:-0500
TZOFFSETTO:-0600
TZNAME:CST
DTSTART:20251102T070000
END:STANDARD
BEGIN:DAYLIGHT
TZOFFSETFROM:-0600
TZOFFSETTO:-0500
TZNAME:CDT
DTSTART:20260308T080000
END:DAYLIGHT
BEGIN:STANDARD
TZOFFSETFROM:-0500
TZOFFSETTO:-0600
TZNAME:CST
DTSTART:20261101T070000
END:STANDARD
END:VTIMEZONE
BEGIN:VEVENT
DTSTART;TZID=America/New_York:20250322T000000
DTEND;TZID=America/New_York:20250518T235959
DTSTAMP:20260424T162537
CREATED:20250317T151742Z
LAST-MODIFIED:20250317T151742Z
UID:10000392-1742601600-1747612799@darkmusic.net
SUMMARY:Cursed CD Release Parties
DESCRIPTION:There will be various CD release parties for Sina Matix’s Cursed EP nationwide.  Please see flyer for details.
URL:https://darkmusic.net/event/cursed-cd-release-parties/
LOCATION:Various
CATEGORIES:Club Night,Dark Dramatic Electro,Dark Electro,Dark Wave,EBM
ATTACH;FMTTYPE=image/png:https://darkmusic.net/wp-content/uploads/2025/03/Cursed-CD-Release-Party-Flyer.png
END:VEVENT
BEGIN:VEVENT
DTSTART;TZID=Europe/London:20250328T210000
DTEND;TZID=Europe/London:20250329T020000
DTSTAMP:20260424T162537
CREATED:20250308T201737Z
LAST-MODIFIED:20250308T201737Z
UID:10000385-1743195600-1743213600@darkmusic.net
SUMMARY:Shake the Disease - Mortasha Kinski's 5 Years of Streaming Anniversary
DESCRIPTION:It’s just over 5 years since I started streaming\, first on Facebook\, then on Twitch.\nPlease join Batty\, Spidey\, Jasper\, Batasha\, Scarlet Moon\, Charlotte\, Drag-on and me for a a few drinks\, shenanigans and lots of tunes.\nThere should be plenty of Goth\, Post Punk\, New Wave\, Dark Wave and a few other adjacent tunes old and new. Join the stream via the Chat tab at https://www.twitch.tv/mortasha_kinski\nYou don’t need to create a Twitch account\, but feel free to do so to join the chat or make requests during the stream. It’s been fun to have friends and music lovers joining these streams and chatting from different locations around the world.\nThis event is FREE. Please be wary of scammers trying to sell tickets or promote other links to the event. I try to block them as quickly as possible\, but they occasionally pop-up\, so I try to ban them as quickly as I can.\nConnect your laptops/computers/phones to external speakers\, a smart TV or headphones for good virtual club sound.
URL:https://darkmusic.net/event/shake-the-disease-mortasha-kinskis-5-years-of-streaming-anniversary/
LOCATION:Twitch
CATEGORIES:80's,Dark Wave,Goth,Post Punk
ATTACH;FMTTYPE=image/jpeg:https://darkmusic.net/wp-content/uploads/2025/03/Kinski_0063-scaled.jpg
ORGANIZER;CN="Mortasha Kinski":MAILTO:mortasha.kinski@gmail.com
GEO:55.378051;-3.435973
END:VEVENT
BEGIN:VEVENT
DTSTART;TZID=America/New_York:20250328T220000
DTEND;TZID=America/New_York:20250329T020000
DTSTAMP:20260424T162537
CREATED:20250321T185818Z
LAST-MODIFIED:20250321T190929Z
UID:10000403-1743199200-1743213600@darkmusic.net
SUMMARY:Vertex Night Club
DESCRIPTION:One of the longest running goth clubs in the US. Not to be confused with the awesome VORTEX – similar names\, no relation. \nThurs\, Friday\, and Saturday. 10pm- 2am (Or until they kick everyone out. Drinks stop at 2 but the club will often stay going) \nThursday Night – DJ Noname \nFriday Night – DJ Crash \nSaturday Night – DJ Darkwave \nOften hosts a Gothic Garage Sale twice a year\, plus other events. \nWill update this more soon as there isn’t much online for the club since it is very underground.
URL:https://darkmusic.net/event/vertex/2025-03-28/
LOCATION:Vertex Night Club\, 169 N Chestnut St\, Rochester\, NY\, 14604\, United States
CATEGORIES:80's,Aggrotech,Club Night,Cyber,Dark Wave,EBM,FuturePop,Goth,Industrial,Oddities Market,Synthpop
ATTACH;FMTTYPE=image/jpeg:https://darkmusic.net/wp-content/uploads/2025/03/Vertex.jpg
GEO:43.1606393;-77.603646
X-APPLE-STRUCTURED-LOCATION;VALUE=URI;X-ADDRESS=Vertex Night Club 169 N Chestnut St Rochester NY 14604 United States;X-APPLE-RADIUS=500;X-TITLE=169 N Chestnut St:geo:-77.603646,43.1606393
END:VEVENT
BEGIN:VEVENT
DTSTART;TZID=America/New_York:20250329T130000
DTEND;TZID=America/New_York:20250329T170000
DTSTAMP:20260424T162537
CREATED:20250324T143310Z
LAST-MODIFIED:20250324T172611Z
UID:10001182-1743253200-1743267600@darkmusic.net
SUMMARY:Live at Steelton Skate Park
DESCRIPTION:A day of punk\, hardcore music \nAll ages.  $10 \n319 Eleanor St Steelton Pa
URL:https://darkmusic.net/event/live-at-steelton-skate-park-4/
LOCATION:steelton skate park\, 319 Eleanor St\, Steelton\, Pa
CATEGORIES:Concert
ATTACH;FMTTYPE=image/jpeg:https://darkmusic.net/wp-content/uploads/2025/03/20250323_143652.jpg
ORGANIZER;CN="ben614":MAILTO:guitarben2000@yahoo.com
GEO:40.2401565;-76.8480967
X-APPLE-STRUCTURED-LOCATION;VALUE=URI;X-ADDRESS=steelton skate park 319 Eleanor St Steelton Pa;X-APPLE-RADIUS=500;X-TITLE=319 Eleanor St:geo:-76.8480967,40.2401565
END:VEVENT
BEGIN:VEVENT
DTSTART;TZID=America/New_York:20250329T183000
DTEND;TZID=America/New_York:20250329T220000
DTSTAMP:20260424T162537
CREATED:20250222T001335Z
LAST-MODIFIED:20250329T180248Z
UID:10000007-1743273000-1743285600@darkmusic.net
SUMMARY:Pretty in Pink Prom Night
DESCRIPTION:Pretty in Pink themes prom night \nProm pics\, prizes\, prom royalty for best dressed\, themed drinks\, prizes and more! \nDJ culture will be spinning a blend of classic new wave music. He always tries to play something more obscure if he can get away with it.
URL:https://darkmusic.net/event/pretty-in-pink-prom-night/
LOCATION:Tellus 360\, 24 E King St\, Lancaster\, PA 17602\, Lancaster\, PA\, 17601\, United States
CATEGORIES:Club Night
ATTACH;FMTTYPE=image/png:https://darkmusic.net/wp-content/uploads/2025/02/Sanctuary-prom-poster-3.29.25-e1737557439937.png
GEO:40.0379231;-76.3045208
X-APPLE-STRUCTURED-LOCATION;VALUE=URI;X-ADDRESS=Tellus 360 24 E King St Lancaster PA 17602 Lancaster PA 17601 United States;X-APPLE-RADIUS=500;X-TITLE=24 E King St\, Lancaster\, PA 17602:geo:-76.3045208,40.0379231
END:VEVENT
BEGIN:VEVENT
DTSTART;TZID=America/Chicago:20250329T200000
DTEND;TZID=America/Chicago:20250330T010000
DTSTAMP:20260424T162537
CREATED:20250310T033640Z
LAST-MODIFIED:20250310T033640Z
UID:10000386-1743278400-1743296400@darkmusic.net
SUMMARY:Moonlight Masquerade: Amulet\, Sapphira Vee\, Lilac Lament\, DJ Veganinblack & Mode Brutale
DESCRIPTION:Moonlight Masquerade\nAmulet (DC) Sapphira Vee Lilac Lament DJ Veganinblack\nMode Brutale\n*****\nEmbellished Ensembles Encouraged: dress to impress in your fancy frocks\, & magnificent masks!\n*****\nSaturday March 29 20258pm-1am21+$12 adv/$15 dos($14.75 adv//$ 18.18 dos after fees)\n\nBourbon on Division2050 W Division Chicago\n*****\nAmulet is a Washington\, DC-based dark romantic electro-rock band known for their powerful female vocals\, bass-driven melodic music\, and emotionally charged performances. With a unique blend of pounding electronic beats\, ethereal melodies\, and driving hard rock elements\, Amulet captivates audiences with a sound that is intense and deeply personal. It is the kind of music that demands attention.\n\nFronted by the mesmerizing vocals of Stephanie Stryker and the music of multi-instrumentalist MJ Phoenix\, the band’s music explores themes of love\, loss\, and the supernatural\, weaving poetic lyrics with rich\, atmospheric arrangements and powerful hooks.\n\nFormed in the heart of the United States’ capital city\, Amulet has built a loyal following with their magnetic live performances and immersive\, dark aesthetic. Drawing influence from genres such as goth rock\, dark wave\, industrial metal\, post-punk\, hard rock\, and even neo-folk\, the band’s sound defies easy categorization\, appealing to fans of both electronic and rock music.\n\nWebsite: amulettheband.comBandcamp: amulettheband.bandcamp.comFacebook: facebook.com/amuletthebandInstagram: instagram.com/amulettheband\n\n***********************\nSapphira Vee makes dark trippy music with an industrial edge. Supporting women in music by breaking every rule…\nhttps://www.facebook.com/sapphira.veehttps://sapphiravee.bandcamp.com/musichttps://www.instagram.com/sapphira.official/https://www.youtube.com/c/SapphiraVeeOfficial\n\n***********************Lilac LamentNew Chicago goth rock band making darkwaves\n\nhttps://www.instagram.com/lilaclamenthttps://www.facebook.com/profile.php?id=61555847109547\n***********************\n\nDJ Veganinblack’s roots are deeply planted in the Chicago goth/industrial/darkwave/electro music scene. As the founder of Club LeBon\, est May 2020\, & currently streaming live 3 days a week via Twitch\, DJ Veganinblack conjures an inclusive platform for dark underground dance music with a fresh focus on femme and LGBTQIA identifying artists.\nHer meticulously curated CD sets simultaneously support and explore the currentz\, classix & future sounds of dark subculture through the discovery of new artists & dancefloor bangers branching from the archives. Genres & styles explored and blended in DJ Veganinblack’s sets include nugoth\, coldwave\, minimalsynth\, tribevibe\, postpunk\, rhythmic noise\, synthpop\, industrial & global bass\, retrowave\, EBM\, 80’s & 90’s remixed\, dark & dirty electro/techno. Connect to your cosmos thru radical self expression on the dancefloor.\nRecently\, DJ Veganinblack was the DJ support for national tours featuring Solar Fake\, SRSQ\, Christian Death\, Secret Shame & Kælan Mikla/Kanga. Invited festival appearances include Terminus Festival\, Calgary July 2019\, Cold Waves Chicago\, Sept 2021/2024\, Skull Fest Detroit\, Nov 2022 & Be Afraid of the Dark & Sanctum Festivals\, Chicago\, Oct 2023 and the upcoming Dark Force Fest\, NJ May 2025. DJ Veganinblack has also organized and performed at her own events at Burning Man Festival\, Black Rock City NV; Late Bar\, Reggie’s\, The Fallen Log\, Bourbon on Division & Epiphany Center for the Arts\, Chicago.\n\nlinktr.ee/djveganinblack\n\n***********************\nMode Brutale is the creation of local Chicago designer Jody Krevens. Mode Brutale fuses industrial materials and dark aesthetics to create genderless handmade accessories and revamped fashion pieces with goth/industrial vibes. Mode Brutale is size inclusive and 100% vegan friendly. Featuring exclusive designs at Moonlight Masquerade that will not be available on the Mode Brutale website.\n\nhttps://modebrutale.com/https://www.instagram.com/modebrutale/https://www.facebook.com/modebrutale
URL:https://darkmusic.net/event/moonlight-masquerade-amulet-sapphira-vee-lilac-lament-dj-veganinblack-mode-brutale/
LOCATION:Bourbon on Division\, 2050 W Division S\, Chicago\, I\, 60622\, United States
CATEGORIES:Goth,Industrial,Synthpop
ATTACH;FMTTYPE=image/gif:https://darkmusic.net/wp-content/uploads/2025/03/chi-trim-01.gif
ORGANIZER;CN="Amulet":MAILTO:contact@amulettheband.com
GEO:41.9033886;-87.6792436
X-APPLE-STRUCTURED-LOCATION;VALUE=URI;X-ADDRESS=Bourbon on Division 2050 W Division S Chicago I 60622 United States;X-APPLE-RADIUS=500;X-TITLE=2050 W Division S:geo:-87.6792436,41.9033886
END:VEVENT
BEGIN:VEVENT
DTSTART;TZID=America/New_York:20250329T210000
DTEND;TZID=America/New_York:20250330T020000
DTSTAMP:20260424T162537
CREATED:20250324T023238Z
LAST-MODIFIED:20250324T023238Z
UID:10001181-1743282000-1743300000@darkmusic.net
SUMMARY:Vixens on Fire II Live Music and Fire Flow Festival
DESCRIPTION:Join us for the Vixens on Fire II live music and fire flow festival!\nSaturday\, March 29 at Crucible Madison\nDoors at 9PM / 21+ / $20 cover\nTickets: multipass.com/VOFII\nBands: Mari Kattman\, Sensuous Enemy & Lorelei Dreaming\nFire performers: Petrichor Flow Babes & Lilly V Tänzerin\nDance music: DJ Bandit
URL:https://darkmusic.net/event/vixens-on-fire-ii-live-music-and-fire-flow-festival/
LOCATION:Crucible Madison\, 3116 Commercial Ave\, Madison\, W\, 53714\, United States
CATEGORIES:Club Night,Concert,Dark Wave,Festival,Industrial,Synthpop
ATTACH;FMTTYPE=image/jpeg:https://darkmusic.net/wp-content/uploads/2025/03/VOFII-Promo-Image.jpg
ORGANIZER;CN="Blu J Prodctions%2C LLC":MAILTO:info@blujproductionsllc.com
GEO:43.1074462;-89.3358278
X-APPLE-STRUCTURED-LOCATION;VALUE=URI;X-ADDRESS=Crucible Madison 3116 Commercial Ave Madison W 53714 United States;X-APPLE-RADIUS=500;X-TITLE=3116 Commercial Ave:geo:-89.3358278,43.1074462
END:VEVENT
BEGIN:VEVENT
DTSTART;TZID=America/New_York:20250329T220000
DTEND;TZID=America/New_York:20250330T020000
DTSTAMP:20260424T162537
CREATED:20250321T185818Z
LAST-MODIFIED:20250321T190929Z
UID:10000404-1743285600-1743300000@darkmusic.net
SUMMARY:Vertex Night Club
DESCRIPTION:One of the longest running goth clubs in the US. Not to be confused with the awesome VORTEX – similar names\, no relation. \nThurs\, Friday\, and Saturday. 10pm- 2am (Or until they kick everyone out. Drinks stop at 2 but the club will often stay going) \nThursday Night – DJ Noname \nFriday Night – DJ Crash \nSaturday Night – DJ Darkwave \nOften hosts a Gothic Garage Sale twice a year\, plus other events. \nWill update this more soon as there isn’t much online for the club since it is very underground.
URL:https://darkmusic.net/event/vertex/2025-03-29/
LOCATION:Vertex Night Club\, 169 N Chestnut St\, Rochester\, NY\, 14604\, United States
CATEGORIES:80's,Aggrotech,Club Night,Cyber,Dark Wave,EBM,FuturePop,Goth,Industrial,Oddities Market,Synthpop
ATTACH;FMTTYPE=image/jpeg:https://darkmusic.net/wp-content/uploads/2025/03/Vertex.jpg
GEO:43.1606393;-77.603646
X-APPLE-STRUCTURED-LOCATION;VALUE=URI;X-ADDRESS=Vertex Night Club 169 N Chestnut St Rochester NY 14604 United States;X-APPLE-RADIUS=500;X-TITLE=169 N Chestnut St:geo:-77.603646,43.1606393
END:VEVENT
END:VCALENDAR